BEGIN:VCALENDAR
VERSION:2.0
PRODID:-//Clanna Morna - ECPv6.15.20//NONSGML v1.0//EN
CALSCALE:GREGORIAN
METHOD:PUBLISH
X-ORIGINAL-URL:https://clannamorna.ca
X-WR-CALDESC:Events for Clanna Morna
REFRESH-INTERVAL;VALUE=DURATION:PT1H
X-Robots-Tag:noindex
X-PUBLISHED-TTL:PT1H
BEGIN:VTIMEZONE
TZID:America/Vancouver
BEGIN:DAYLIGHT
TZOFFSETFROM:-0800
TZOFFSETTO:-0700
TZNAME:PDT
DTSTART:20230312T100000
END:DAYLIGHT
BEGIN:STANDARD
TZOFFSETFROM:-0700
TZOFFSETTO:-0800
TZNAME:PST
DTSTART:20231105T090000
END:STANDARD
BEGIN:DAYLIGHT
TZOFFSETFROM:-0800
TZOFFSETTO:-0700
TZNAME:PDT
DTSTART:20240310T100000
END:DAYLIGHT
BEGIN:STANDARD
TZOFFSETFROM:-0700
TZOFFSETTO:-0800
TZNAME:PST
DTSTART:20241103T090000
END:STANDARD
BEGIN:DAYLIGHT
TZOFFSETFROM:-0800
TZOFFSETTO:-0700
TZNAME:PDT
DTSTART:20250309T100000
END:DAYLIGHT
BEGIN:STANDARD
TZOFFSETFROM:-0700
TZOFFSETTO:-0800
TZNAME:PST
DTSTART:20251102T090000
END:STANDARD
END:VTIMEZONE
BEGIN:VEVENT
DTSTART;TZID=America/Vancouver:20240204T110000
DTEND;TZID=America/Vancouver:20240204T160000
DTSTAMP:20260421T073310
CREATED:20240122T064803Z
LAST-MODIFIED:20240130T140613Z
UID:2278-1707044400-1707062400@clannamorna.ca
SUMMARY:Wassail Day @ Sea Cider
DESCRIPTION:We’ll sing to the trees! \nhttps://allevents.in/saanichton/wassail-day-at-sea-cider/200025974123348
URL:https://clannamorna.ca/event/wassail-day-sea-cider/
LOCATION:Sea Cider\, 2487 Mt St Michael Rd\, Saanichton\, BC\, V8M 1T7\, CA
ATTACH;FMTTYPE=image/webp:https://clannamorna.ca/wp-content/uploads/2024/01/60e79f266f25cd79ee63dd578ada554f224ac089474434df65d01da8d6170a00-rimg-w960-h503-gmir-1.webp
END:VEVENT
END:VCALENDAR