BEGIN:VCALENDAR
VERSION:2.0
PRODID:-//Clanna Morna - ECPv6.15.20//NONSGML v1.0//EN
CALSCALE:GREGORIAN
METHOD:PUBLISH
X-WR-CALNAME:Clanna Morna
X-ORIGINAL-URL:https://clannamorna.ca
X-WR-CALDESC:Events for Clanna Morna
REFRESH-INTERVAL;VALUE=DURATION:PT1H
X-Robots-Tag:noindex
X-PUBLISHED-TTL:PT1H
BEGIN:VTIMEZONE
TZID:America/Vancouver
BEGIN:DAYLIGHT
TZOFFSETFROM:-0800
TZOFFSETTO:-0700
TZNAME:PDT
DTSTART:20230312T100000
END:DAYLIGHT
BEGIN:STANDARD
TZOFFSETFROM:-0700
TZOFFSETTO:-0800
TZNAME:PST
DTSTART:20231105T090000
END:STANDARD
BEGIN:DAYLIGHT
TZOFFSETFROM:-0800
TZOFFSETTO:-0700
TZNAME:PDT
DTSTART:20240310T100000
END:DAYLIGHT
BEGIN:STANDARD
TZOFFSETFROM:-0700
TZOFFSETTO:-0800
TZNAME:PST
DTSTART:20241103T090000
END:STANDARD
BEGIN:DAYLIGHT
TZOFFSETFROM:-0800
TZOFFSETTO:-0700
TZNAME:PDT
DTSTART:20250309T100000
END:DAYLIGHT
BEGIN:STANDARD
TZOFFSETFROM:-0700
TZOFFSETTO:-0800
TZNAME:PST
DTSTART:20251102T090000
END:STANDARD
END:VTIMEZONE
BEGIN:VEVENT
DTSTART;TZID=America/Vancouver:20240315T193000
DTEND;TZID=America/Vancouver:20240315T230000
DTSTAMP:20260421T060527
CREATED:20240122T064809Z
LAST-MODIFIED:20240315T045734Z
UID:2288-1710531000-1710543600@clannamorna.ca
SUMMARY:A Celebration of Irish Music for St. Patrick's Day #1: March 15th - Salt Spring Island (with the Slieves!)
DESCRIPTION:Cash bar available featuring beer\, cider and Irish whiskey. \n  \nThere will be a limited number of tickets available at the door ($25). First come first served. \nIf you have barriers to purchasing online\, please e-mail info@clannamorna.ca with your request – we will do our best to accommodate you. \nOnline sales end March 15th @ 9am. If no tickets are shown below\, either online sales have ended  OR only limited “at-the-door” tickets are left – see above. \n[product_table id=”2665″ skus=”saltspring-2024-03″] \nView your cart \n 
URL:https://clannamorna.ca/event/st-patricks-day-warm-up-march-15th-salt-spring-island-with-the-slieves/
LOCATION:Mahon Hall\, Salt Spring Island\, 114 Rainbow Rd\, Salt Spring Island\, BC\, V8K 2V5\, Canada
ATTACH;FMTTYPE=image/png:https://clannamorna.ca/wp-content/uploads/2024/01/saltspringslievesclanna.png
END:VEVENT
END:VCALENDAR