BEGIN:VCALENDAR
VERSION:2.0
PRODID:-//Clanna Morna - ECPv6.15.20//NONSGML v1.0//EN
CALSCALE:GREGORIAN
METHOD:PUBLISH
X-WR-CALNAME:Clanna Morna
X-ORIGINAL-URL:https://clannamorna.ca
X-WR-CALDESC:Events for Clanna Morna
REFRESH-INTERVAL;VALUE=DURATION:PT1H
X-Robots-Tag:noindex
X-PUBLISHED-TTL:PT1H
BEGIN:VTIMEZONE
TZID:America/Vancouver
BEGIN:DAYLIGHT
TZOFFSETFROM:-0800
TZOFFSETTO:-0700
TZNAME:PDT
DTSTART:20230312T100000
END:DAYLIGHT
BEGIN:STANDARD
TZOFFSETFROM:-0700
TZOFFSETTO:-0800
TZNAME:PST
DTSTART:20231105T090000
END:STANDARD
BEGIN:DAYLIGHT
TZOFFSETFROM:-0800
TZOFFSETTO:-0700
TZNAME:PDT
DTSTART:20240310T100000
END:DAYLIGHT
BEGIN:STANDARD
TZOFFSETFROM:-0700
TZOFFSETTO:-0800
TZNAME:PST
DTSTART:20241103T090000
END:STANDARD
BEGIN:DAYLIGHT
TZOFFSETFROM:-0800
TZOFFSETTO:-0700
TZNAME:PDT
DTSTART:20250309T100000
END:DAYLIGHT
BEGIN:STANDARD
TZOFFSETFROM:-0700
TZOFFSETTO:-0800
TZNAME:PST
DTSTART:20251102T090000
END:STANDARD
END:VTIMEZONE
BEGIN:VEVENT
DTSTART;TZID=America/Vancouver:20240317T160000
DTEND;TZID=America/Vancouver:20240317T191500
DTSTAMP:20260421T060531
CREATED:20240323T070249Z
LAST-MODIFIED:20240323T070249Z
UID:2894-1710691200-1710702900@clannamorna.ca
SUMMARY:St. Patrick's Day at the Irish Times
DESCRIPTION:
URL:https://clannamorna.ca/event/st-patricks-day-at-the-irish-times/
LOCATION:Irish Times Pub\, 1200 Goverment St\, Victoria\, BC\, V8W 1Y2\, CA
END:VEVENT
BEGIN:VEVENT
DTSTART;TZID=America/Vancouver:20240317T210000
DTEND;TZID=America/Vancouver:20240317T220000
DTSTAMP:20260421T060531
CREATED:20240122T064809Z
LAST-MODIFIED:20240122T064809Z
UID:2290-1710709200-1710712800@clannamorna.ca
SUMMARY:St. Patrick's Day evening performance @ Victoria Folk Music Society
DESCRIPTION:
URL:https://clannamorna.ca/event/st-patricks-day-evening-performance-victoria-folk-music-society/
END:VEVENT
END:VCALENDAR