BEGIN:VCALENDAR
VERSION:2.0
PRODID:-//Clanna Morna - ECPv6.15.20//NONSGML v1.0//EN
CALSCALE:GREGORIAN
METHOD:PUBLISH
X-WR-CALNAME:Clanna Morna
X-ORIGINAL-URL:https://clannamorna.ca
X-WR-CALDESC:Events for Clanna Morna
REFRESH-INTERVAL;VALUE=DURATION:PT1H
X-Robots-Tag:noindex
X-PUBLISHED-TTL:PT1H
BEGIN:VTIMEZONE
TZID:America/Vancouver
BEGIN:DAYLIGHT
TZOFFSETFROM:-0800
TZOFFSETTO:-0700
TZNAME:PDT
DTSTART:20230312T100000
END:DAYLIGHT
BEGIN:STANDARD
TZOFFSETFROM:-0700
TZOFFSETTO:-0800
TZNAME:PST
DTSTART:20231105T090000
END:STANDARD
BEGIN:DAYLIGHT
TZOFFSETFROM:-0800
TZOFFSETTO:-0700
TZNAME:PDT
DTSTART:20240310T100000
END:DAYLIGHT
BEGIN:STANDARD
TZOFFSETFROM:-0700
TZOFFSETTO:-0800
TZNAME:PST
DTSTART:20241103T090000
END:STANDARD
BEGIN:DAYLIGHT
TZOFFSETFROM:-0800
TZOFFSETTO:-0700
TZNAME:PDT
DTSTART:20250309T100000
END:DAYLIGHT
BEGIN:STANDARD
TZOFFSETFROM:-0700
TZOFFSETTO:-0800
TZNAME:PST
DTSTART:20251102T090000
END:STANDARD
END:VTIMEZONE
BEGIN:VEVENT
DTSTART;TZID=America/Vancouver:20240412T190000
DTEND;TZID=America/Vancouver:20240412T220000
DTSTAMP:20260421T042328
CREATED:20240323T065214Z
LAST-MODIFIED:20240412T231935Z
UID:2890-1712948400-1712959200@clannamorna.ca
SUMMARY:Denman Island Community Hall
DESCRIPTION:A night of music and dancing – in the Front Hall. \nOnline ticket sales are now closed. Please purchase tickets from Abraxas Books or at the door starting at 7pm. \n[product_table id=”2665″ skus=”denman-2024-04-12″]
URL:https://clannamorna.ca/event/denman-island-community-hall/
LOCATION:Denman Island Community Hall\, 1196 Northwest Road\, Denman Island\, BC\, Canada
ATTACH;FMTTYPE=image/png:https://clannamorna.ca/wp-content/uploads/2024/03/2024-04-12-Denman1.png
END:VEVENT
END:VCALENDAR