BEGIN:VCALENDAR
VERSION:2.0
PRODID:-//Clanna Morna - ECPv6.15.20//NONSGML v1.0//EN
CALSCALE:GREGORIAN
METHOD:PUBLISH
X-ORIGINAL-URL:https://clannamorna.ca
X-WR-CALDESC:Events for Clanna Morna
REFRESH-INTERVAL;VALUE=DURATION:PT1H
X-Robots-Tag:noindex
X-PUBLISHED-TTL:PT1H
BEGIN:VTIMEZONE
TZID:America/Vancouver
BEGIN:DAYLIGHT
TZOFFSETFROM:-0800
TZOFFSETTO:-0700
TZNAME:PDT
DTSTART:20230312T100000
END:DAYLIGHT
BEGIN:STANDARD
TZOFFSETFROM:-0700
TZOFFSETTO:-0800
TZNAME:PST
DTSTART:20231105T090000
END:STANDARD
BEGIN:DAYLIGHT
TZOFFSETFROM:-0800
TZOFFSETTO:-0700
TZNAME:PDT
DTSTART:20240310T100000
END:DAYLIGHT
BEGIN:STANDARD
TZOFFSETFROM:-0700
TZOFFSETTO:-0800
TZNAME:PST
DTSTART:20241103T090000
END:STANDARD
BEGIN:DAYLIGHT
TZOFFSETFROM:-0800
TZOFFSETTO:-0700
TZNAME:PDT
DTSTART:20250309T100000
END:DAYLIGHT
BEGIN:STANDARD
TZOFFSETFROM:-0700
TZOFFSETTO:-0800
TZNAME:PST
DTSTART:20251102T090000
END:STANDARD
END:VTIMEZONE
BEGIN:VEVENT
DTSTART;TZID=America/Vancouver:20240814T193000
DTEND;TZID=America/Vancouver:20240814T223000
DTSTAMP:20260421T014511
CREATED:20240514T200112Z
LAST-MODIFIED:20240720T163218Z
UID:3089-1723663800-1723674600@clannamorna.ca
SUMMARY:Kamloops - The London Creative
DESCRIPTION:Double bill; with Ghostly Hounds! \n[product_table id=”2665″ skus=”kamloops-2024-08-14″]
URL:https://clannamorna.ca/event/kamloops/
LOCATION:The London Creative\, 260 3 Ave\, Kamloops\, BC\, V2C 3M3\, Canada
ATTACH;FMTTYPE=image/jpeg:https://clannamorna.ca/wp-content/uploads/2024/05/signal-2024-07-14-20-41-26-768.jpg
END:VEVENT
END:VCALENDAR