BEGIN:VCALENDAR
VERSION:2.0
PRODID:-//Clanna Morna - ECPv6.15.20//NONSGML v1.0//EN
CALSCALE:GREGORIAN
METHOD:PUBLISH
X-ORIGINAL-URL:https://clannamorna.ca
X-WR-CALDESC:Events for Clanna Morna
REFRESH-INTERVAL;VALUE=DURATION:PT1H
X-Robots-Tag:noindex
X-PUBLISHED-TTL:PT1H
BEGIN:VTIMEZONE
TZID:America/Vancouver
BEGIN:DAYLIGHT
TZOFFSETFROM:-0800
TZOFFSETTO:-0700
TZNAME:PDT
DTSTART:20230312T100000
END:DAYLIGHT
BEGIN:STANDARD
TZOFFSETFROM:-0700
TZOFFSETTO:-0800
TZNAME:PST
DTSTART:20231105T090000
END:STANDARD
BEGIN:DAYLIGHT
TZOFFSETFROM:-0800
TZOFFSETTO:-0700
TZNAME:PDT
DTSTART:20240310T100000
END:DAYLIGHT
BEGIN:STANDARD
TZOFFSETFROM:-0700
TZOFFSETTO:-0800
TZNAME:PST
DTSTART:20241103T090000
END:STANDARD
BEGIN:DAYLIGHT
TZOFFSETFROM:-0800
TZOFFSETTO:-0700
TZNAME:PDT
DTSTART:20250309T100000
END:DAYLIGHT
BEGIN:STANDARD
TZOFFSETFROM:-0700
TZOFFSETTO:-0800
TZNAME:PST
DTSTART:20251102T090000
END:STANDARD
END:VTIMEZONE
BEGIN:VEVENT
DTSTART;TZID=America/Vancouver:20240905T183000
DTEND;TZID=America/Vancouver:20240905T220000
DTSTAMP:20260421T033344
CREATED:20240725T041023Z
LAST-MODIFIED:20240905T223411Z
UID:3240-1725561000-1725573600@clannamorna.ca
SUMMARY:Victoria Concert - With Ghostly Hounds and Spencer Jo
DESCRIPTION:Online ticket sales have now ended. Tickets will be available at the door starting at 6:30pm. \n[product_table id=”2665″ skus=”clanna-ghostly-jo-2024-09-05″]
URL:https://clannamorna.ca/event/victoria-concert-with-ghostly-hounds-and-spencerjo/
LOCATION:Church of Truth James Bay\, 111 Superior St\, Victoria\, BC\, V8V 1T2\, Canada
ATTACH;FMTTYPE=image/jpeg:https://clannamorna.ca/wp-content/uploads/2024/07/Victoria-September-5.jpeg
END:VEVENT
END:VCALENDAR