BEGIN:VCALENDAR
VERSION:2.0
PRODID:-//Clanna Morna - ECPv6.15.20//NONSGML v1.0//EN
CALSCALE:GREGORIAN
METHOD:PUBLISH
X-ORIGINAL-URL:https://clannamorna.ca
X-WR-CALDESC:Events for Clanna Morna
REFRESH-INTERVAL;VALUE=DURATION:PT1H
X-Robots-Tag:noindex
X-PUBLISHED-TTL:PT1H
BEGIN:VTIMEZONE
TZID:America/Vancouver
BEGIN:DAYLIGHT
TZOFFSETFROM:-0800
TZOFFSETTO:-0700
TZNAME:PDT
DTSTART:20240310T100000
END:DAYLIGHT
BEGIN:STANDARD
TZOFFSETFROM:-0700
TZOFFSETTO:-0800
TZNAME:PST
DTSTART:20241103T090000
END:STANDARD
BEGIN:DAYLIGHT
TZOFFSETFROM:-0800
TZOFFSETTO:-0700
TZNAME:PDT
DTSTART:20250309T100000
END:DAYLIGHT
BEGIN:STANDARD
TZOFFSETFROM:-0700
TZOFFSETTO:-0800
TZNAME:PST
DTSTART:20251102T090000
END:STANDARD
BEGIN:DAYLIGHT
TZOFFSETFROM:-0800
TZOFFSETTO:-0700
TZNAME:PDT
DTSTART:20260308T100000
END:DAYLIGHT
BEGIN:STANDARD
TZOFFSETFROM:-0700
TZOFFSETTO:-0800
TZNAME:PST
DTSTART:20261101T090000
END:STANDARD
END:VTIMEZONE
BEGIN:VEVENT
DTSTART;TZID=America/Vancouver:20250307T193000
DTEND;TZID=America/Vancouver:20250307T213000
DTSTAMP:20260421T123018
CREATED:20250303T223745Z
LAST-MODIFIED:20250303T223745Z
UID:3527-1741375800-1741383000@clannamorna.ca
SUMMARY:*SOLD OUT* - Celtic Music Night - Sooke BC
DESCRIPTION:Join us Friday\, March 7th at Sooke Oceanside Brewery for an inspired evening of Celtic music performed by Victoria based group Clanna Morna! A night you will not want to miss! Doors at 7\, music starts at 7:30.\nTickets are $20 (cash only) and are available for purchase at the brewery. It’s a cozy space and tickets are limited so stop by SOB ASAP to get yours before they’re gone!
URL:https://clannamorna.ca/event/sold-out-celtic-music-night-sooke-bc/
LOCATION:Sooke Oceanside Brewery\, 5871-A Sooke Rd\, Sooke\, BC\, V9Z 0C7\, Canada
ATTACH;FMTTYPE=image/png:https://clannamorna.ca/wp-content/uploads/2025/03/SookeOceansideBrewery.png
END:VEVENT
END:VCALENDAR