BEGIN:VCALENDAR
VERSION:2.0
PRODID:-//Clanna Morna - ECPv6.15.20//NONSGML v1.0//EN
CALSCALE:GREGORIAN
METHOD:PUBLISH
X-WR-CALNAME:Clanna Morna
X-ORIGINAL-URL:https://clannamorna.ca
X-WR-CALDESC:Events for Clanna Morna
REFRESH-INTERVAL;VALUE=DURATION:PT1H
X-Robots-Tag:noindex
X-PUBLISHED-TTL:PT1H
BEGIN:VTIMEZONE
TZID:America/Vancouver
BEGIN:DAYLIGHT
TZOFFSETFROM:-0800
TZOFFSETTO:-0700
TZNAME:PDT
DTSTART:20240310T100000
END:DAYLIGHT
BEGIN:STANDARD
TZOFFSETFROM:-0700
TZOFFSETTO:-0800
TZNAME:PST
DTSTART:20241103T090000
END:STANDARD
BEGIN:DAYLIGHT
TZOFFSETFROM:-0800
TZOFFSETTO:-0700
TZNAME:PDT
DTSTART:20250309T100000
END:DAYLIGHT
BEGIN:STANDARD
TZOFFSETFROM:-0700
TZOFFSETTO:-0800
TZNAME:PST
DTSTART:20251102T090000
END:STANDARD
BEGIN:DAYLIGHT
TZOFFSETFROM:-0800
TZOFFSETTO:-0700
TZNAME:PDT
DTSTART:20260308T100000
END:DAYLIGHT
BEGIN:STANDARD
TZOFFSETFROM:-0700
TZOFFSETTO:-0800
TZNAME:PST
DTSTART:20261101T090000
END:STANDARD
END:VTIMEZONE
BEGIN:VEVENT
DTSTART;TZID=America/Vancouver:20250314T190000
DTEND;TZID=America/Vancouver:20250314T220000
DTSTAMP:20260421T122133
CREATED:20250130T230906Z
LAST-MODIFIED:20250303T223137Z
UID:3415-1741978800-1741989600@clannamorna.ca
SUMMARY:Cumberland - Fallen Alders Hall - St. Paddy's Concert and Dance
DESCRIPTION:Search\n                    \n            \n            \n                        \n                    \n                     \n        \n                 \n                \n        \n            \n            \n                        \n\n                                \n                    \n                        \n                            \n            \n                        \n                        \n                        \n                Ticket - Cumberland St. Paddy's Square Dance - March 14th 2025            \n            \n                        \n                        \n                        \n                $25.00            \n            \n                        \n                        \n                        \n                \n    \n    \n		Ticket - Cumberland St. Paddy's Square Dance - March 14th 2025 quantity\n	\n	\n    \n\n            \n            \n                        \n                        \n                        \n                \n\n	\n			\n			\n									\n						Ticket Type\n						\n							Choose an optionAdultClear						\n					\n							\n		\n		\n		\n		\n			\n	\n	\n		Ticket - Cumberland St. Paddy's Square Dance - March 14th 2025 quantity\n	\n	\n\n	Add to cart\n\n			\n			\n				Buy with\n				\n			\n\n			\n\n					\n		\n	\n	\n	\n\n		\n	\n	\n\n            \n            \n                        \n                    \n                    \n            \n\n\n         \n        \n                    \n            \n            \n        \n        \n        \nWe are excited to invite you to a St. Patrick’s Day Party on Friday March 14 at the Fallen Alders Hall in Royston! This is a great opportunity to celebrate Irish music and culture.\nThis event will start at 7 pm with a 1 hour concert with Clanna Morna\, followed by a Square Dance called by Craig Marcuk!No dance experience is necessary to participate\, Craig will tell you everything you need to know. He will use gender neutral dance calling. This is an LGBTQ+ friendly and supportive event. We encourage you to share your pronouns and ask other’s theirs as well.\nTickets are $25 (there is also a limited amount of $20 tix for lower income folks) and can be purchased online in advance.\n\nThis is a licensed event and we will be serving alcoholic beverages (yes\, we will have Guinness and Whiskey!) so bring your cash\n\nClanna Morna will be joined by the lovely Adam Bailey on stand up bass for this event!
URL:https://clannamorna.ca/event/cumberland-fallen-alders-hall-st-paddys-concert-and-dance/
ATTACH;FMTTYPE=image/png:https://clannamorna.ca/wp-content/uploads/2025/01/St.PatricksSquareDance-1.png
END:VEVENT
END:VCALENDAR