BEGIN:VCALENDAR
VERSION:2.0
PRODID:-//Clanna Morna - ECPv6.15.20//NONSGML v1.0//EN
CALSCALE:GREGORIAN
METHOD:PUBLISH
X-WR-CALNAME:Clanna Morna
X-ORIGINAL-URL:https://clannamorna.ca
X-WR-CALDESC:Events for Clanna Morna
REFRESH-INTERVAL;VALUE=DURATION:PT1H
X-Robots-Tag:noindex
X-PUBLISHED-TTL:PT1H
BEGIN:VTIMEZONE
TZID:America/Vancouver
BEGIN:DAYLIGHT
TZOFFSETFROM:-0800
TZOFFSETTO:-0700
TZNAME:PDT
DTSTART:20200308T100000
END:DAYLIGHT
BEGIN:STANDARD
TZOFFSETFROM:-0700
TZOFFSETTO:-0800
TZNAME:PST
DTSTART:20201101T090000
END:STANDARD
BEGIN:DAYLIGHT
TZOFFSETFROM:-0800
TZOFFSETTO:-0700
TZNAME:PDT
DTSTART:20210314T100000
END:DAYLIGHT
BEGIN:STANDARD
TZOFFSETFROM:-0700
TZOFFSETTO:-0800
TZNAME:PST
DTSTART:20211107T090000
END:STANDARD
BEGIN:DAYLIGHT
TZOFFSETFROM:-0800
TZOFFSETTO:-0700
TZNAME:PDT
DTSTART:20220313T100000
END:DAYLIGHT
BEGIN:STANDARD
TZOFFSETFROM:-0700
TZOFFSETTO:-0800
TZNAME:PST
DTSTART:20221106T090000
END:STANDARD
BEGIN:DAYLIGHT
TZOFFSETFROM:-0800
TZOFFSETTO:-0700
TZNAME:PDT
DTSTART:20230312T100000
END:DAYLIGHT
BEGIN:STANDARD
TZOFFSETFROM:-0700
TZOFFSETTO:-0800
TZNAME:PST
DTSTART:20231105T090000
END:STANDARD
END:VTIMEZONE
BEGIN:VEVENT
DTSTART;TZID=America/Vancouver:20220315T203000
DTEND;TZID=America/Vancouver:20220315T233000
DTSTAMP:20260422T145255
CREATED:20240122T063735Z
LAST-MODIFIED:20240122T063735Z
UID:2065-1647376200-1647387000@clannamorna.ca
SUMMARY:Craic Tuesdays at Irish Times Pub
DESCRIPTION:Come on down to The Irish Times Pub  from 8:30pm to 11:30pm for  the craic!  Playing your favorite Celtic and English ballads and tunes.\n \n 
URL:https://clannamorna.ca/event/craic-tuesdays-at-irish-times-pub-48/
LOCATION:Irish Times Pub\, 1200 Goverment St\, Victoria\, BC\, V8W 1Y2\, CA
END:VEVENT
BEGIN:VEVENT
DTSTART;TZID=America/Vancouver:20220308T203000
DTEND;TZID=America/Vancouver:20220308T233000
DTSTAMP:20260422T145255
CREATED:20240122T063735Z
LAST-MODIFIED:20240122T063735Z
UID:2064-1646771400-1646782200@clannamorna.ca
SUMMARY:Craic Tuesdays at Irish Times Pub
DESCRIPTION:Come on down to The Irish Times Pub  from 8:30pm to 11:30pm for  the craic!  Playing your favorite Celtic and English ballads and tunes.\n \n 
URL:https://clannamorna.ca/event/craic-tuesdays-at-irish-times-pub-47/
LOCATION:Irish Times Pub\, 1200 Goverment St\, Victoria\, BC\, V8W 1Y2\, CA
END:VEVENT
BEGIN:VEVENT
DTSTART;TZID=America/Vancouver:20220301T203000
DTEND;TZID=America/Vancouver:20220301T233000
DTSTAMP:20260422T145255
CREATED:20240122T063735Z
LAST-MODIFIED:20240122T063735Z
UID:2063-1646166600-1646177400@clannamorna.ca
SUMMARY:Craic Tuesdays at Irish Times Pub
DESCRIPTION:Come on down to The Irish Times Pub  from 8:30pm to 11:30pm for  the craic!  Playing your favorite Celtic and English ballads and tunes.\n \n 
URL:https://clannamorna.ca/event/craic-tuesdays-at-irish-times-pub-46/
LOCATION:Irish Times Pub\, 1200 Goverment St\, Victoria\, BC\, V8W 1Y2\, CA
END:VEVENT
BEGIN:VEVENT
DTSTART;TZID=America/Vancouver:20220226T170000
DTEND;TZID=America/Vancouver:20220226T203000
DTSTAMP:20260422T145255
CREATED:20240122T063731Z
LAST-MODIFIED:20240122T063731Z
UID:2062-1645894800-1645907400@clannamorna.ca
SUMMARY:Pender Island - HUB at Hope Bay
DESCRIPTION:Join us for a great Mediterranean meal paired with a night of Celtic and English folk. \nDinner service starts seating at 5:00pm\, Music starts at 6:30pm. \n$15 cover.
URL:https://clannamorna.ca/event/pender-island-hub-at-hope-bay/
LOCATION:HUB at Hope Bay\, 4301 Bedwell Harbour Road\, Pender Island\, BC\, NULL\, CA
END:VEVENT
BEGIN:VEVENT
DTSTART;TZID=America/Vancouver:20220222T203000
DTEND;TZID=America/Vancouver:20220222T233000
DTSTAMP:20260422T145255
CREATED:20240122T063731Z
LAST-MODIFIED:20240122T063731Z
UID:2061-1645561800-1645572600@clannamorna.ca
SUMMARY:Craic Tuesdays at Irish Times Pub
DESCRIPTION:Come on down to The Irish Times Pub  from 8:30pm to 11:30pm for  the craic!  Playing your favorite Celtic and English ballads and tunes.\n \n 
URL:https://clannamorna.ca/event/craic-tuesdays-at-irish-times-pub-45/
LOCATION:Irish Times Pub\, 1200 Goverment St\, Victoria\, BC\, V8W 1Y2\, CA
END:VEVENT
BEGIN:VEVENT
DTSTART;TZID=America/Vancouver:20220219T160000
DTEND;TZID=America/Vancouver:20220219T190000
DTSTAMP:20260422T145255
CREATED:20240122T063731Z
LAST-MODIFIED:20240122T063731Z
UID:2060-1645286400-1645297200@clannamorna.ca
SUMMARY:Saturday Pub Matinée!
DESCRIPTION:Do you want to raise a glass with us before the sun goes down on a beautiful early-spring Saturday? Join us for two special Saturday Matinée performances at the Irish Times on Feb 12th and Feb 19th. We’ll play from 4pm to 7pm on both Saturdays.
URL:https://clannamorna.ca/event/saturday-pub-matinee-2/
LOCATION:Irish Times Pub\, 1200 Goverment St\, Victoria\, BC\, V8W 1Y2\, CA
END:VEVENT
BEGIN:VEVENT
DTSTART;TZID=America/Vancouver:20220215T203000
DTEND;TZID=America/Vancouver:20220215T233000
DTSTAMP:20260422T145255
CREATED:20240122T063731Z
LAST-MODIFIED:20240122T063731Z
UID:2059-1644957000-1644967800@clannamorna.ca
SUMMARY:Craic Tuesdays at Irish Times Pub
DESCRIPTION:Come on down to The Irish Times Pub  from 8:30pm to 11:30pm for  the craic!  Playing your favorite Celtic and English ballads and tunes.\n \n 
URL:https://clannamorna.ca/event/craic-tuesdays-at-irish-times-pub-44/
LOCATION:Irish Times Pub\, 1200 Goverment St\, Victoria\, BC\, V8W 1Y2\, CA
END:VEVENT
BEGIN:VEVENT
DTSTART;TZID=America/Vancouver:20220212T160000
DTEND;TZID=America/Vancouver:20220212T190000
DTSTAMP:20260422T145255
CREATED:20240122T063731Z
LAST-MODIFIED:20240122T063731Z
UID:2058-1644681600-1644692400@clannamorna.ca
SUMMARY:Saturday Pub Matinée!
DESCRIPTION:Do you want to raise a glass with us before the sun goes down on a beautiful early-spring Saturday? Join us for two special Saturday Matinée performances at the Irish Times on Feb 12th and Feb 19th. We’ll play from 4pm to 7pm on both Saturdays.
URL:https://clannamorna.ca/event/saturday-pub-matinee/
LOCATION:Irish Times Pub\, 1200 Goverment St\, Victoria\, BC\, V8W 1Y2\, CA
END:VEVENT
BEGIN:VEVENT
DTSTART;VALUE=DATE:20220211
DTEND;VALUE=DATE:20220212
DTSTAMP:20260422T145255
CREATED:20240122T063719Z
LAST-MODIFIED:20240122T063719Z
UID:2057-1644537600-1644623999@clannamorna.ca
SUMMARY:Private Event
DESCRIPTION:
URL:https://clannamorna.ca/event/private-event-2/
LOCATION:BC
END:VEVENT
BEGIN:VEVENT
DTSTART;TZID=America/Vancouver:20220208T203000
DTEND;TZID=America/Vancouver:20220208T233000
DTSTAMP:20260422T145255
CREATED:20240122T063719Z
LAST-MODIFIED:20240122T063719Z
UID:2056-1644352200-1644363000@clannamorna.ca
SUMMARY:Craic Tuesdays at Irish Times Pub
DESCRIPTION:Come on down to The Irish Times Pub  from 8:30pm to 11:30pm for  the craic!  Playing your favorite Celtic and English ballads and tunes.\n \n 
URL:https://clannamorna.ca/event/craic-tuesdays-at-irish-times-pub-43/
LOCATION:Irish Times Pub\, 1200 Goverment St\, Victoria\, BC\, V8W 1Y2\, CA
END:VEVENT
BEGIN:VEVENT
DTSTART;TZID=America/Vancouver:20220201T203000
DTEND;TZID=America/Vancouver:20220201T233000
DTSTAMP:20260422T145255
CREATED:20240122T063719Z
LAST-MODIFIED:20240122T063719Z
UID:2055-1643747400-1643758200@clannamorna.ca
SUMMARY:Craic Tuesdays at Irish Times Pub
DESCRIPTION:Come on down to The Irish Times Pub  from 8:30pm to 11:30pm for  the craic!  Playing your favorite Celtic and English ballads and tunes.\n \n 
URL:https://clannamorna.ca/event/craic-tuesdays-at-irish-times-pub-42/
LOCATION:Irish Times Pub\, 1200 Goverment St\, Victoria\, BC\, V8W 1Y2\, CA
END:VEVENT
BEGIN:VEVENT
DTSTART;TZID=America/Vancouver:20220125T203000
DTEND;TZID=America/Vancouver:20220125T233000
DTSTAMP:20260422T145255
CREATED:20240122T063719Z
LAST-MODIFIED:20240122T063719Z
UID:2054-1643142600-1643153400@clannamorna.ca
SUMMARY:Craic Tuesdays at Irish Times Pub
DESCRIPTION:Come on down to The Irish Times Pub  from 8:30pm to 11:30pm for  the craic!  Playing your favorite Celtic and English ballads and tunes.\n \n 
URL:https://clannamorna.ca/event/craic-tuesdays-at-irish-times-pub-41/
LOCATION:Irish Times Pub\, 1200 Goverment St\, Victoria\, BC\, V8W 1Y2\, CA
END:VEVENT
BEGIN:VEVENT
DTSTART;TZID=America/Vancouver:20220118T203000
DTEND;TZID=America/Vancouver:20220118T233000
DTSTAMP:20260422T145255
CREATED:20240122T063719Z
LAST-MODIFIED:20240122T063719Z
UID:2053-1642537800-1642548600@clannamorna.ca
SUMMARY:Craic Tuesdays at Irish Times Pub
DESCRIPTION:Come on down to The Irish Times Pub  from 8:30pm to 11:30pm for  the craic!  Playing your favorite Celtic and English ballads and tunes.\n \n 
URL:https://clannamorna.ca/event/craic-tuesdays-at-irish-times-pub-40/
LOCATION:Irish Times Pub\, 1200 Goverment St\, Victoria\, BC\, V8W 1Y2\, CA
END:VEVENT
BEGIN:VEVENT
DTSTART;TZID=America/Vancouver:20220111T203000
DTEND;TZID=America/Vancouver:20220111T233000
DTSTAMP:20260422T145255
CREATED:20240122T063716Z
LAST-MODIFIED:20240122T063716Z
UID:2052-1641933000-1641943800@clannamorna.ca
SUMMARY:Craic Tuesdays at Irish Times Pub
DESCRIPTION:Come on down to The Irish Times Pub  from 8:30pm to 11:30pm for  the craic!  Playing your favorite Celtic and English ballads and tunes.\n \n 
URL:https://clannamorna.ca/event/craic-tuesdays-at-irish-times-pub-39/
LOCATION:Irish Times Pub\, 1200 Goverment St\, Victoria\, BC\, V8W 1Y2\, CA
END:VEVENT
BEGIN:VEVENT
DTSTART;TZID=America/Vancouver:20220104T203000
DTEND;TZID=America/Vancouver:20220104T233000
DTSTAMP:20260422T145255
CREATED:20240122T063716Z
LAST-MODIFIED:20240122T063716Z
UID:2051-1641328200-1641339000@clannamorna.ca
SUMMARY:Craic Tuesdays at Irish Times Pub
DESCRIPTION:Come on down to The Irish Times Pub  from 8:30pm to 11:30pm for  the craic!  Playing your favorite Celtic and English ballads and tunes.\n \n 
URL:https://clannamorna.ca/event/craic-tuesdays-at-irish-times-pub-38/
LOCATION:Irish Times Pub\, 1200 Goverment St\, Victoria\, BC\, V8W 1Y2\, CA
END:VEVENT
BEGIN:VEVENT
DTSTART;TZID=America/Vancouver:20211231T210000
DTEND;TZID=America/Vancouver:20220101T001500
DTSTAMP:20260422T145255
CREATED:20240122T063716Z
LAST-MODIFIED:20240122T063716Z
UID:2050-1640984400-1640996100@clannamorna.ca
SUMMARY:NEW YEARS EVE! At the Wildwood Pub\, Powell River
DESCRIPTION:
URL:https://clannamorna.ca/event/new-years-eve-at-the-wildwood-pub-powell-river/
LOCATION:Wildwood Public House – Powell River\, 5987 Lund St\, Powell River\, BC\, V8A 4S9\, CA
END:VEVENT
BEGIN:VEVENT
DTSTART;TZID=America/Vancouver:20211230T193000
DTEND;TZID=America/Vancouver:20211230T213000
DTSTAMP:20260422T145255
CREATED:20240122T063716Z
LAST-MODIFIED:20240122T063716Z
UID:2049-1640892600-1640899800@clannamorna.ca
SUMMARY:Clanna Morna in Concert at the Ladysmith Little Theatre
DESCRIPTION: \nThe Arts Council of Ladysmith & District present: Clanna Morna in Concert at the Ladysmith Little Theatre. \nTickets $25 at https://www.ladysmitharts.ca/event-details/clanna-morna-concert-at-the-ladysmith-little-theatre
URL:https://clannamorna.ca/event/clanna-morna-in-concert-at-the-ladysmith-little-theatre/
LOCATION:Ladysmith Little Theatre\, 4985 Christie Rd\, Ladysmith\, BC\, V9G 1J3\, CA
END:VEVENT
BEGIN:VEVENT
DTSTART;TZID=America/Vancouver:20211228T203000
DTEND;TZID=America/Vancouver:20211228T233000
DTSTAMP:20260422T145255
CREATED:20240122T063716Z
LAST-MODIFIED:20240122T063716Z
UID:2048-1640723400-1640734200@clannamorna.ca
SUMMARY:Craic Tuesdays at Irish Times Pub
DESCRIPTION:Come on down to The Irish Times Pub  from 8:30pm to 11:30pm for  the craic!  Playing your favorite Celtic and English ballads and tunes.\n \n 
URL:https://clannamorna.ca/event/craic-tuesdays-at-irish-times-pub-37/
LOCATION:Irish Times Pub\, 1200 Goverment St\, Victoria\, BC\, V8W 1Y2\, CA
END:VEVENT
BEGIN:VEVENT
DTSTART;TZID=America/Vancouver:20211224T203000
DTEND;TZID=America/Vancouver:20211225T000000
DTSTAMP:20260422T145255
CREATED:20240122T063700Z
LAST-MODIFIED:20240122T063700Z
UID:2047-1640377800-1640390400@clannamorna.ca
SUMMARY:Christmas Eve at the Irish Times
DESCRIPTION:This one is always a riot\, and hoping this year is no different! Come down for a great meal\, great music and a pint. \n 
URL:https://clannamorna.ca/event/christmas-eve-at-the-irish-times/
LOCATION:Irish Times Pub\, 1200 Goverment St\, Victoria\, BC\, V8W 1Y2\, CA
END:VEVENT
BEGIN:VEVENT
DTSTART;TZID=America/Vancouver:20211221T203000
DTEND;TZID=America/Vancouver:20211221T233000
DTSTAMP:20260422T145255
CREATED:20240122T063700Z
LAST-MODIFIED:20240122T063700Z
UID:2046-1640118600-1640129400@clannamorna.ca
SUMMARY:Craic Tuesdays at Irish Times Pub
DESCRIPTION:Come on down to The Irish Times Pub  from 8:30pm to 11:30pm for  the craic!  Playing your favorite Celtic and English ballads and tunes.\n \n 
URL:https://clannamorna.ca/event/craic-tuesdays-at-irish-times-pub-36/
LOCATION:Irish Times Pub\, 1200 Goverment St\, Victoria\, BC\, V8W 1Y2\, CA
END:VEVENT
BEGIN:VEVENT
DTSTART;TZID=America/Vancouver:20211214T203000
DTEND;TZID=America/Vancouver:20211214T233000
DTSTAMP:20260422T145255
CREATED:20240122T063700Z
LAST-MODIFIED:20240122T063700Z
UID:2045-1639513800-1639524600@clannamorna.ca
SUMMARY:Craic Tuesdays at Irish Times Pub
DESCRIPTION:Come on down to The Irish Times Pub  from 8:30pm to 11:30pm for  the craic!  Playing your favorite Celtic and English ballads and tunes.\n \n 
URL:https://clannamorna.ca/event/craic-tuesdays-at-irish-times-pub-35/
LOCATION:Irish Times Pub\, 1200 Goverment St\, Victoria\, BC\, V8W 1Y2\, CA
END:VEVENT
BEGIN:VEVENT
DTSTART;VALUE=DATE:20211211
DTEND;VALUE=DATE:20211212
DTSTAMP:20260422T145255
CREATED:20240122T063700Z
LAST-MODIFIED:20240122T063700Z
UID:2044-1639180800-1639267199@clannamorna.ca
SUMMARY:Private Event
DESCRIPTION:
URL:https://clannamorna.ca/event/private-event/
LOCATION:BC
END:VEVENT
BEGIN:VEVENT
DTSTART;TZID=America/Vancouver:20211207T203000
DTEND;TZID=America/Vancouver:20211207T233000
DTSTAMP:20260422T145255
CREATED:20240122T063700Z
LAST-MODIFIED:20240122T063700Z
UID:2043-1638909000-1638919800@clannamorna.ca
SUMMARY:Craic Tuesdays at Irish Times Pub
DESCRIPTION:Come on down to The Irish Times Pub  from 8:30pm to 11:30pm for  the craic!  Playing your favorite Celtic and English ballads and tunes.\n \n 
URL:https://clannamorna.ca/event/craic-tuesdays-at-irish-times-pub-34/
LOCATION:Irish Times Pub\, 1200 Goverment St\, Victoria\, BC\, V8W 1Y2\, CA
END:VEVENT
BEGIN:VEVENT
DTSTART;TZID=America/Vancouver:20211130T203000
DTEND;TZID=America/Vancouver:20211130T233000
DTSTAMP:20260422T145255
CREATED:20240122T063657Z
LAST-MODIFIED:20240122T063657Z
UID:2042-1638304200-1638315000@clannamorna.ca
SUMMARY:Craic Tuesdays at Irish Times Pub
DESCRIPTION:Come on down to The Irish Times Pub  from 8:30pm to 11:30pm for  the craic!  Playing your favorite Celtic and English ballads and tunes.\n \n 
URL:https://clannamorna.ca/event/craic-tuesdays-at-irish-times-pub-33/
LOCATION:Irish Times Pub\, 1200 Goverment St\, Victoria\, BC\, V8W 1Y2\, CA
END:VEVENT
BEGIN:VEVENT
DTSTART;TZID=America/Vancouver:20211123T203000
DTEND;TZID=America/Vancouver:20211123T233000
DTSTAMP:20260422T145255
CREATED:20240122T063657Z
LAST-MODIFIED:20240122T063657Z
UID:2041-1637699400-1637710200@clannamorna.ca
SUMMARY:Craic Tuesdays at Irish Times Pub
DESCRIPTION:Come on down to The Irish Times Pub  from 8:30pm to 11:30pm for  the craic!  Playing your favorite Celtic and English ballads and tunes.\n \n 
URL:https://clannamorna.ca/event/craic-tuesdays-at-irish-times-pub-32/
LOCATION:Irish Times Pub\, 1200 Goverment St\, Victoria\, BC\, V8W 1Y2\, CA
END:VEVENT
BEGIN:VEVENT
DTSTART;TZID=America/Vancouver:20211120T190000
DTEND;TZID=America/Vancouver:20211120T220000
DTSTAMP:20260422T145255
CREATED:20240122T063657Z
LAST-MODIFIED:20240122T063657Z
UID:2040-1637434800-1637445600@clannamorna.ca
SUMMARY:Private Wedding - Victoria
DESCRIPTION:
URL:https://clannamorna.ca/event/private-wedding-victoria/
LOCATION:BC
END:VEVENT
BEGIN:VEVENT
DTSTART;TZID=America/Vancouver:20211116T203000
DTEND;TZID=America/Vancouver:20211116T233000
DTSTAMP:20260422T145255
CREATED:20240122T063657Z
LAST-MODIFIED:20240122T063657Z
UID:2039-1637094600-1637105400@clannamorna.ca
SUMMARY:Craic Tuesdays at Irish Times Pub
DESCRIPTION:Come on down to The Irish Times Pub  from 8:30pm to 11:30pm for  the craic!  Playing your favorite Celtic and English ballads and tunes.\n \n 
URL:https://clannamorna.ca/event/craic-tuesdays-at-irish-times-pub-31/
LOCATION:Irish Times Pub\, 1200 Goverment St\, Victoria\, BC\, V8W 1Y2\, CA
END:VEVENT
BEGIN:VEVENT
DTSTART;TZID=America/Vancouver:20211109T203000
DTEND;TZID=America/Vancouver:20211109T233000
DTSTAMP:20260422T145255
CREATED:20240122T063657Z
LAST-MODIFIED:20240122T063657Z
UID:2038-1636489800-1636500600@clannamorna.ca
SUMMARY:Craic Tuesdays at Irish Times Pub
DESCRIPTION:Come on down to The Irish Times Pub  from 8:30pm to 11:30pm for  the craic!  Playing your favorite Celtic and English ballads and tunes.\n \n 
URL:https://clannamorna.ca/event/craic-tuesdays-at-irish-times-pub-30/
LOCATION:Irish Times Pub\, 1200 Goverment St\, Victoria\, BC\, V8W 1Y2\, CA
END:VEVENT
BEGIN:VEVENT
DTSTART;TZID=America/Vancouver:20211102T203000
DTEND;TZID=America/Vancouver:20211102T233000
DTSTAMP:20260422T145255
CREATED:20240122T063647Z
LAST-MODIFIED:20240122T063647Z
UID:2037-1635885000-1635895800@clannamorna.ca
SUMMARY:Craic Tuesdays at Irish Times Pub
DESCRIPTION:Come on down to The Irish Times Pub  from 8:30pm to 11:30pm for  the craic!  Playing your favorite Celtic and English ballads and tunes.\n \n 
URL:https://clannamorna.ca/event/craic-tuesdays-at-irish-times-pub-29/
LOCATION:Irish Times Pub\, 1200 Goverment St\, Victoria\, BC\, V8W 1Y2\, CA
END:VEVENT
BEGIN:VEVENT
DTSTART;TZID=America/Vancouver:20211030T203000
DTEND;TZID=America/Vancouver:20211030T230000
DTSTAMP:20260422T145255
CREATED:20240122T063647Z
LAST-MODIFIED:20240122T063647Z
UID:2036-1635625800-1635634800@clannamorna.ca
SUMMARY:Halloween show at the Wildwood Public House in Powell River
DESCRIPTION:Hailing from the stolen territories of the Songhees\, Esquimalt and WSÁNEĆ nations (Victoria\, BC in Canada)\, Clanna Morna brings their take on the Celtic Traditional genre to the west coast. Their sound is rooted in the traditional Irish\, Scottish and English music that many love\, and features carefully crafted arrangements\, rhythmic spirited energy and captivating storytelling. Comprised of an ensemble of  multi-instrumentalists\, their excellent musicianship and attention to detail create a unique sound.  Members of Clanna Morna have been arranging and performing traditional Celtic and original music for over a decade in other projects\, sharing their melodic arrangements and stories both internationally and locally. \nThe band is comprised of Cody Baresich (mandolins\, Irish bouzouki\, tin whistle\, percussion\, vocals)\, Mark Leigh (accordion\, tin whistles\, vocals)\, Finn Letourneau (fiddle\, banjo\, vocals)\, and Syver Pendlebury (guitar\, vocals). With the combination of traditional instruments featuring strong melodic leads\, rhythmic guitar accompaniment and foot percussion\, the band covers a wide swath of musical ground. From high-energy instrumentals to slow ballads\, drinking songs to sea shanties\, Clanna Morna explores different aspects of folk. The band pays tribute to and takes inspiration from legendary predecessors including The Dubliners\, The Pogues\, the Bothy Band\, Planxty\, The Clancy Brothers\, and The Wolfe Tones. \nThe Wildwood Public House\n15 craft brew taps\, Neapolitan style stone fired pizza and an amazing bistro-pub kitchen! \n$15 advance tickets Available at Base Camp Base Camp Outpost and the Wildwood Pub.\n19+\nFamily Friendly until 9PM
URL:https://clannamorna.ca/event/halloween-show-at-the-wildwood-public-house-in-powell-river/
LOCATION:Wildwood Public House – Powell River\, 5987 Lund St\, Powell River\, BC\, V8A 4S9\, CA
END:VEVENT
END:VCALENDAR