BEGIN:VCALENDAR
VERSION:2.0
PRODID:-//Clanna Morna - ECPv6.15.20//NONSGML v1.0//EN
CALSCALE:GREGORIAN
METHOD:PUBLISH
X-WR-CALNAME:Clanna Morna
X-ORIGINAL-URL:https://clannamorna.ca
X-WR-CALDESC:Events for Clanna Morna
REFRESH-INTERVAL;VALUE=DURATION:PT1H
X-Robots-Tag:noindex
X-PUBLISHED-TTL:PT1H
BEGIN:VTIMEZONE
TZID:America/Vancouver
BEGIN:DAYLIGHT
TZOFFSETFROM:-0800
TZOFFSETTO:-0700
TZNAME:PDT
DTSTART:20210314T100000
END:DAYLIGHT
BEGIN:STANDARD
TZOFFSETFROM:-0700
TZOFFSETTO:-0800
TZNAME:PST
DTSTART:20211107T090000
END:STANDARD
BEGIN:DAYLIGHT
TZOFFSETFROM:-0800
TZOFFSETTO:-0700
TZNAME:PDT
DTSTART:20220313T100000
END:DAYLIGHT
BEGIN:STANDARD
TZOFFSETFROM:-0700
TZOFFSETTO:-0800
TZNAME:PST
DTSTART:20221106T090000
END:STANDARD
BEGIN:DAYLIGHT
TZOFFSETFROM:-0800
TZOFFSETTO:-0700
TZNAME:PDT
DTSTART:20230312T100000
END:DAYLIGHT
BEGIN:STANDARD
TZOFFSETFROM:-0700
TZOFFSETTO:-0800
TZNAME:PST
DTSTART:20231105T090000
END:STANDARD
END:VTIMEZONE
BEGIN:VEVENT
DTSTART;TZID=America/Vancouver:20220621T203000
DTEND;TZID=America/Vancouver:20220621T233000
DTSTAMP:20260422T150738
CREATED:20240122T064045Z
LAST-MODIFIED:20240122T064045Z
UID:2108-1655843400-1655854200@clannamorna.ca
SUMMARY:Craic Tuesdays at Irish Times Pub
DESCRIPTION:Come on down to The Irish Times Pub  from 8:30pm to 11:30pm for  the craic!  Playing your favorite Celtic and English ballads and tunes.\n \n 
URL:https://clannamorna.ca/event/craic-tuesdays-at-irish-times-pub-62/
LOCATION:Irish Times Pub\, 1200 Goverment St\, Victoria\, BC\, V8W 1Y2\, CA
END:VEVENT
BEGIN:VEVENT
DTSTART;TZID=America/Vancouver:20220618T000000
DTEND;TZID=America/Vancouver:20220618T173000
DTSTAMP:20260422T150738
CREATED:20240122T064045Z
LAST-MODIFIED:20240122T064045Z
UID:2107-1655510400-1655573400@clannamorna.ca
SUMMARY:ScotFestBC: The 90th British Columbia Highland Games
DESCRIPTION:We’ll be playing twice at this festival – once at 12:15 and again at 4:15pm. Both shows are at the Ceilidh Stage (under the Big Tent).
URL:https://clannamorna.ca/event/scotfestbc-the-90th-british-columbia-highland-games/
LOCATION:Town Centre Park\, Coquitlam\, 1299 Pinetree Way\, Coquitlam\, BC\, NULL\, CA
END:VEVENT
BEGIN:VEVENT
DTSTART;TZID=America/Vancouver:20220616T160000
DTEND;TZID=America/Vancouver:20220616T193000
DTSTAMP:20260422T150738
CREATED:20240122T064045Z
LAST-MODIFIED:20240122T064045Z
UID:2106-1655395200-1655407800@clannamorna.ca
SUMMARY:Live at the Sidney Street Market
DESCRIPTION:Come browse local artisans and enjoy our tunes.
URL:https://clannamorna.ca/event/live-at-the-sidney-street-market/
LOCATION:Mary Winspear Centre\, Sidney\, 2243 Beacon Ave\, Sidney\, BC\, NULL\, CA
END:VEVENT
BEGIN:VEVENT
DTSTART;TZID=America/Vancouver:20220614T203000
DTEND;TZID=America/Vancouver:20220614T233000
DTSTAMP:20260422T150738
CREATED:20240122T064045Z
LAST-MODIFIED:20240122T064045Z
UID:2105-1655238600-1655249400@clannamorna.ca
SUMMARY:Craic Tuesdays at Irish Times Pub
DESCRIPTION:Come on down to The Irish Times Pub  from 8:30pm to 11:30pm for  the craic!  Playing your favorite Celtic and English ballads and tunes.\n \n 
URL:https://clannamorna.ca/event/craic-tuesdays-at-irish-times-pub-61/
LOCATION:Irish Times Pub\, 1200 Goverment St\, Victoria\, BC\, V8W 1Y2\, CA
END:VEVENT
BEGIN:VEVENT
DTSTART;TZID=America/Vancouver:20220611T190000
DTEND;TZID=America/Vancouver:20220611T220000
DTSTAMP:20260422T150738
CREATED:20240122T064045Z
LAST-MODIFIED:20240122T064045Z
UID:2104-1654974000-1654984800@clannamorna.ca
SUMMARY:Ladysmith - Agricultural Hall
DESCRIPTION:
URL:https://clannamorna.ca/event/ladysmith-agricultural-hall/
LOCATION:Ladysmith Agricultural Hall\, 1110 1st Ave\, Ladysmith\, BC\, Ladysmith\, NULL\, NULL\, CA
END:VEVENT
BEGIN:VEVENT
DTSTART;TZID=America/Vancouver:20220610T180000
DTEND;TZID=America/Vancouver:20220610T220000
DTSTAMP:20260422T150738
CREATED:20240122T064044Z
LAST-MODIFIED:20240122T064044Z
UID:2103-1654884000-1654898400@clannamorna.ca
SUMMARY:Cumberland - Here we come!
DESCRIPTION:Number 6 mine park. Outdoor show! Cash bar available.
URL:https://clannamorna.ca/event/cumberland-here-we-come/
LOCATION:Cumberland Masonic Hall\, 2687 Dunsmuir Ave\, Cumberland\, BC\, NULL\, CA
END:VEVENT
BEGIN:VEVENT
DTSTART;TZID=America/Vancouver:20220607T203000
DTEND;TZID=America/Vancouver:20220607T233000
DTSTAMP:20260422T150738
CREATED:20240122T064044Z
LAST-MODIFIED:20240122T064044Z
UID:2102-1654633800-1654644600@clannamorna.ca
SUMMARY:Craic Tuesdays at Irish Times Pub
DESCRIPTION:Come on down to The Irish Times Pub  from 8:30pm to 11:30pm for  the craic!  Playing your favorite Celtic and English ballads and tunes.\n \n 
URL:https://clannamorna.ca/event/craic-tuesdays-at-irish-times-pub-60/
LOCATION:Irish Times Pub\, 1200 Goverment St\, Victoria\, BC\, V8W 1Y2\, CA
END:VEVENT
BEGIN:VEVENT
DTSTART;TZID=America/Vancouver:20220531T203000
DTEND;TZID=America/Vancouver:20220531T233000
DTSTAMP:20260422T150738
CREATED:20240122T064044Z
LAST-MODIFIED:20240122T064044Z
UID:2101-1654029000-1654039800@clannamorna.ca
SUMMARY:Craic Tuesdays at Irish Times Pub
DESCRIPTION:Come on down to The Irish Times Pub  from 8:30pm to 11:30pm for  the craic!  Playing your favorite Celtic and English ballads and tunes.\n \n 
URL:https://clannamorna.ca/event/craic-tuesdays-at-irish-times-pub-59/
LOCATION:Irish Times Pub\, 1200 Goverment St\, Victoria\, BC\, V8W 1Y2\, CA
END:VEVENT
BEGIN:VEVENT
DTSTART;VALUE=DATE:20220528
DTEND;VALUE=DATE:20220529
DTSTAMP:20260422T150738
CREATED:20240122T064044Z
LAST-MODIFIED:20240122T064044Z
UID:2100-1653696000-1653782399@clannamorna.ca
SUMMARY:Private Event
DESCRIPTION:
URL:https://clannamorna.ca/event/private-event-7/
LOCATION:BC
END:VEVENT
BEGIN:VEVENT
DTSTART;TZID=America/Vancouver:20220524T203000
DTEND;TZID=America/Vancouver:20220524T233000
DTSTAMP:20260422T150738
CREATED:20240122T064044Z
LAST-MODIFIED:20240122T064044Z
UID:2099-1653424200-1653435000@clannamorna.ca
SUMMARY:Craic Tuesdays at Irish Times Pub
DESCRIPTION:Come on down to The Irish Times Pub  from 8:30pm to 11:30pm for  the craic!  Playing your favorite Celtic and English ballads and tunes.\n \n 
URL:https://clannamorna.ca/event/craic-tuesdays-at-irish-times-pub-58/
LOCATION:Irish Times Pub\, 1200 Goverment St\, Victoria\, BC\, V8W 1Y2\, CA
END:VEVENT
BEGIN:VEVENT
DTSTART;TZID=America/Vancouver:20220521T123000
DTEND;TZID=America/Vancouver:20220521T133000
DTSTAMP:20260422T150738
CREATED:20240122T064037Z
LAST-MODIFIED:20240122T064037Z
UID:2098-1653136200-1653139800@clannamorna.ca
SUMMARY:Victoria Highland Games & Celtic Festival
DESCRIPTION:https://victoriahighlandgames.com/\nAmong a stellar roster of Celtic artists\, we’ll be on the Celtic Music Stage tent from 12:30 – 13:30h!
URL:https://clannamorna.ca/event/victoria-highland-games-celtic-festival/
LOCATION:Topaz Park\, Victoria\, Topaz Park\, Victoria\, BC\, NULL\, CA
END:VEVENT
BEGIN:VEVENT
DTSTART;TZID=America/Vancouver:20220517T203000
DTEND;TZID=America/Vancouver:20220517T233000
DTSTAMP:20260422T150738
CREATED:20240122T064037Z
LAST-MODIFIED:20240122T064037Z
UID:2097-1652819400-1652830200@clannamorna.ca
SUMMARY:Craic Tuesdays at Irish Times Pub
DESCRIPTION:Come on down to The Irish Times Pub  from 8:30pm to 11:30pm for  the craic!  Playing your favorite Celtic and English ballads and tunes.\n \n 
URL:https://clannamorna.ca/event/craic-tuesdays-at-irish-times-pub-57/
LOCATION:Irish Times Pub\, 1200 Goverment St\, Victoria\, BC\, V8W 1Y2\, CA
END:VEVENT
BEGIN:VEVENT
DTSTART;TZID=America/Vancouver:20220513T190000
DTEND;TZID=America/Vancouver:20220513T210000
DTSTAMP:20260422T150738
CREATED:20240122T064037Z
LAST-MODIFIED:20240122T064037Z
UID:2096-1652468400-1652475600@clannamorna.ca
SUMMARY:Brentwood Bay Village Empourium
DESCRIPTION:By reservation only. https://empourium.ca/clanna-morna-may-13-updating/\n 
URL:https://clannamorna.ca/event/brentwood-bay-village-empourium/
LOCATION:Brentwood Bay Village Empourium\, 7103 W Saanich Rd\, Brentwood Bay\, BC\, NULL\, CA
END:VEVENT
BEGIN:VEVENT
DTSTART;VALUE=DATE:20220512
DTEND;VALUE=DATE:20220513
DTSTAMP:20260422T150738
CREATED:20240122T064037Z
LAST-MODIFIED:20240122T064037Z
UID:2095-1652313600-1652399999@clannamorna.ca
SUMMARY:Private Event
DESCRIPTION:
URL:https://clannamorna.ca/event/private-event-6/
LOCATION:BC
END:VEVENT
BEGIN:VEVENT
DTSTART;VALUE=DATE:20220511
DTEND;VALUE=DATE:20220512
DTSTAMP:20260422T150738
CREATED:20240122T064037Z
LAST-MODIFIED:20240122T064037Z
UID:2094-1652227200-1652313599@clannamorna.ca
SUMMARY:Private Events
DESCRIPTION:
URL:https://clannamorna.ca/event/private-events/
LOCATION:BC
END:VEVENT
BEGIN:VEVENT
DTSTART;TZID=America/Vancouver:20220510T203000
DTEND;TZID=America/Vancouver:20220510T233000
DTSTAMP:20260422T150738
CREATED:20240122T063848Z
LAST-MODIFIED:20240122T063848Z
UID:2092-1652214600-1652225400@clannamorna.ca
SUMMARY:Craic Tuesdays at Irish Times Pub
DESCRIPTION:Come on down to The Irish Times Pub  from 8:30pm to 11:30pm for  the craic!  Playing your favorite Celtic and English ballads and tunes.\n \n 
URL:https://clannamorna.ca/event/craic-tuesdays-at-irish-times-pub-56/
LOCATION:Irish Times Pub\, 1200 Goverment St\, Victoria\, BC\, V8W 1Y2\, CA
END:VEVENT
BEGIN:VEVENT
DTSTART;VALUE=DATE:20220507
DTEND;VALUE=DATE:20220508
DTSTAMP:20260422T150738
CREATED:20240122T063848Z
LAST-MODIFIED:20240122T063848Z
UID:2091-1651881600-1651967999@clannamorna.ca
SUMMARY:Private Event
DESCRIPTION:
URL:https://clannamorna.ca/event/private-event-5/
LOCATION:BC
END:VEVENT
BEGIN:VEVENT
DTSTART;VALUE=DATE:20220506
DTEND;VALUE=DATE:20220507
DTSTAMP:20260422T150738
CREATED:20240122T063848Z
LAST-MODIFIED:20240122T063848Z
UID:2090-1651795200-1651881599@clannamorna.ca
SUMMARY:Oceanside Folk Roots Club - Qualicum Beach\, BC
DESCRIPTION:
URL:https://clannamorna.ca/event/oceanside-folk-roots-club-qualicum-beach-bc-2/
LOCATION:Oceanside Folk/Roots Club\, 644 Memorial Ave\, Qualicum Beach\, BC\, V9K 1L8\, CA
END:VEVENT
BEGIN:VEVENT
DTSTART;TZID=America/Vancouver:20220505T190000
DTEND;TZID=America/Vancouver:20220505T220000
DTSTAMP:20260422T150738
CREATED:20240122T063848Z
LAST-MODIFIED:20240122T063848Z
UID:2089-1651777200-1651788000@clannamorna.ca
SUMMARY:Nanaimo - Harbour City House Concerts
DESCRIPTION:https://www.facebook.com/events/754760932158179/?ref=newsfeed\n 
URL:https://clannamorna.ca/event/nanaimo-harbour-city-house-concerts/
LOCATION:Harbour City House Concert – 421 Milton St\, Nanaimo\, 421 Milton St\, Nanaimo\, NULL\, NULL\, CA
END:VEVENT
BEGIN:VEVENT
DTSTART;TZID=America/Vancouver:20220503T203000
DTEND;TZID=America/Vancouver:20220503T233000
DTSTAMP:20260422T150738
CREATED:20240122T063848Z
LAST-MODIFIED:20240122T063848Z
UID:2088-1651609800-1651620600@clannamorna.ca
SUMMARY:Craic Tuesdays at Irish Times Pub
DESCRIPTION:Come on down to The Irish Times Pub  from 8:30pm to 11:30pm for  the craic!  Playing your favorite Celtic and English ballads and tunes.\n \n 
URL:https://clannamorna.ca/event/craic-tuesdays-at-irish-times-pub-55/
LOCATION:Irish Times Pub\, 1200 Goverment St\, Victoria\, BC\, V8W 1Y2\, CA
END:VEVENT
BEGIN:VEVENT
DTSTART;TZID=America/Vancouver:20220501T180000
DTEND;TZID=America/Vancouver:20220501T230000
DTSTAMP:20260422T150738
CREATED:20240122T063836Z
LAST-MODIFIED:20240122T063836Z
UID:2087-1651428000-1651446000@clannamorna.ca
SUMMARY:Protection Island
DESCRIPTION:We are so lucky to present an amazing night of Celtic\, folk\, blues and roots with musicians from BC and Alberta. Our lineup is:\n\nAine MacDonald (Traditional Celtic Folk)\nDavid Essig (Our local legend)\nBen Sures Trio (Acoustic Roots)\nClanna Morna (Celtic)\n\nTickets are by $20 donation to the Lion’s Club- or hey\, you can donate more if you like! Please email me at summer.laurie@gmail.com to make your donation and reserve your spot.
URL:https://clannamorna.ca/event/protection-island/
LOCATION:Beacon House (Protection Island Lions Club)\, 208 Colvilleton Trail\, Nanaimo\, BC\, NULL\, CA
END:VEVENT
BEGIN:VEVENT
DTSTART;TZID=America/Vancouver:20220429T200000
DTEND;TZID=America/Vancouver:20220429T220000
DTSTAMP:20260422T150738
CREATED:20240122T063836Z
LAST-MODIFIED:20240122T063836Z
UID:2086-1651262400-1651269600@clannamorna.ca
SUMMARY:Saltspring Island - The Mateada Lounge
DESCRIPTION:Friday\, April 29\, 2022\n8:00 PM  10:00 PM\nmateada (map)\n\n\n\n\n\n\n\n$15 Advance\, $20 Door \nSeasoned celtic-traditional quartet brings their spectacular set to Mateada! \nThis is an all-ages event.
URL:https://clannamorna.ca/event/saltspring-island-the-mateada-lounge/
LOCATION:The Mateada\, Saltspring Island\, 150 Fulford-Ganges Rd\, Saltspring Island\, NULL\, NULL\, CA
END:VEVENT
BEGIN:VEVENT
DTSTART;TZID=America/Vancouver:20220426T203000
DTEND;TZID=America/Vancouver:20220426T233000
DTSTAMP:20260422T150738
CREATED:20240122T063836Z
LAST-MODIFIED:20240122T063836Z
UID:2085-1651005000-1651015800@clannamorna.ca
SUMMARY:Craic Tuesdays at Irish Times Pub
DESCRIPTION:Come on down to The Irish Times Pub  from 8:30pm to 11:30pm for  the craic!  Playing your favorite Celtic and English ballads and tunes.\n \n 
URL:https://clannamorna.ca/event/craic-tuesdays-at-irish-times-pub-54/
LOCATION:Irish Times Pub\, 1200 Goverment St\, Victoria\, BC\, V8W 1Y2\, CA
END:VEVENT
BEGIN:VEVENT
DTSTART;TZID=America/Vancouver:20220423T210000
DTEND;TZID=America/Vancouver:20220423T235900
DTSTAMP:20260422T150738
CREATED:20240122T063836Z
LAST-MODIFIED:20240122T063836Z
UID:2084-1650747600-1650758340@clannamorna.ca
SUMMARY:Powell River - Wildwood Public House 2nd anniversary!
DESCRIPTION:@TheWildwoodPub\n5987 Lund St\, PowellRiver\, BC\nShow @ 9PM-11PM\nTickets $20\nTickets available at Base Camp\, Base Camp Outpost\, and at the Pub
URL:https://clannamorna.ca/event/powell-river-wildwood-public-house-2nd-anniversary/
LOCATION:Wildwood Public House – Powell River\, 5987 Lund St\, Powell River\, BC\, V8A 4S9\, CA
END:VEVENT
BEGIN:VEVENT
DTSTART;TZID=America/Vancouver:20220422T200000
DTEND;TZID=America/Vancouver:20220422T230000
DTSTAMP:20260422T150738
CREATED:20240122T063836Z
LAST-MODIFIED:20240122T063836Z
UID:2083-1650657600-1650668400@clannamorna.ca
SUMMARY:Pender Harbour Legion\, Sunshine Coast
DESCRIPTION:
URL:https://clannamorna.ca/event/pender-harbour-legion-sunshine-coast/
LOCATION:Pender Harbour Legion #112\, 12829 Lillies Lake Rd\, Madeira Park\, BC\, NULL\, CA
END:VEVENT
BEGIN:VEVENT
DTSTART;TZID=America/Vancouver:20220419T203000
DTEND;TZID=America/Vancouver:20220419T233000
DTSTAMP:20260422T150738
CREATED:20240122T063834Z
LAST-MODIFIED:20240122T063834Z
UID:2082-1650400200-1650411000@clannamorna.ca
SUMMARY:Craic Tuesdays at Irish Times Pub
DESCRIPTION:Come on down to The Irish Times Pub  from 8:30pm to 11:30pm for  the craic!  Playing your favorite Celtic and English ballads and tunes.\n \n 
URL:https://clannamorna.ca/event/craic-tuesdays-at-irish-times-pub-53/
LOCATION:Irish Times Pub\, 1200 Goverment St\, Victoria\, BC\, V8W 1Y2\, CA
END:VEVENT
BEGIN:VEVENT
DTSTART;TZID=America/Vancouver:20220417T210000
DTEND;TZID=America/Vancouver:20220418T003000
DTSTAMP:20260422T150738
CREATED:20240122T063834Z
LAST-MODIFIED:20240122T063834Z
UID:2081-1650229200-1650241800@clannamorna.ca
SUMMARY:St. Practice day at the Irish Times
DESCRIPTION:It’s a rehearsal for the audience. Tune up your skills on April 17th with us!
URL:https://clannamorna.ca/event/st-practice-day-at-the-irish-times/
LOCATION:Irish Times Pub\, 1200 Goverment St\, Victoria\, BC\, V8W 1Y2\, CA
END:VEVENT
BEGIN:VEVENT
DTSTART;TZID=America/Vancouver:20220416T200000
DTEND;TZID=America/Vancouver:20220416T230000
DTSTAMP:20260422T150738
CREATED:20240122T063834Z
LAST-MODIFIED:20240122T063834Z
UID:2080-1650139200-1650150000@clannamorna.ca
SUMMARY:Quadra Island - Heriot Bay Inn
DESCRIPTION:$20 tickets.
URL:https://clannamorna.ca/event/quadra-island-heriot-bay-inn/
LOCATION:Heriot Bay Inn\, Quadra Island\, 4Q2Q+WV\, Heriot Bay\, BC\, V0P 1H0\, CA
END:VEVENT
BEGIN:VEVENT
DTSTART;VALUE=DATE:20220415
DTEND;VALUE=DATE:20220416
DTSTAMP:20260422T150738
CREATED:20240122T063834Z
LAST-MODIFIED:20240122T063834Z
UID:2079-1649980800-1650067199@clannamorna.ca
SUMMARY:Private Event
DESCRIPTION:
URL:https://clannamorna.ca/event/private-event-4/
LOCATION:BC
END:VEVENT
BEGIN:VEVENT
DTSTART;TZID=America/Vancouver:20220412T203000
DTEND;TZID=America/Vancouver:20220412T233000
DTSTAMP:20260422T150738
CREATED:20240122T063834Z
LAST-MODIFIED:20240122T063834Z
UID:2078-1649795400-1649806200@clannamorna.ca
SUMMARY:Craic Tuesdays at Irish Times Pub
DESCRIPTION:Come on down to The Irish Times Pub  from 8:30pm to 11:30pm for  the craic!  Playing your favorite Celtic and English ballads and tunes.\n \n 
URL:https://clannamorna.ca/event/craic-tuesdays-at-irish-times-pub-52/
LOCATION:Irish Times Pub\, 1200 Goverment St\, Victoria\, BC\, V8W 1Y2\, CA
END:VEVENT
END:VCALENDAR