BEGIN:VCALENDAR
VERSION:2.0
PRODID:-//Clanna Morna - ECPv6.15.20//NONSGML v1.0//EN
CALSCALE:GREGORIAN
METHOD:PUBLISH
X-WR-CALNAME:Clanna Morna
X-ORIGINAL-URL:https://clannamorna.ca
X-WR-CALDESC:Events for Clanna Morna
REFRESH-INTERVAL;VALUE=DURATION:PT1H
X-Robots-Tag:noindex
X-PUBLISHED-TTL:PT1H
BEGIN:VTIMEZONE
TZID:America/Vancouver
BEGIN:DAYLIGHT
TZOFFSETFROM:-0800
TZOFFSETTO:-0700
TZNAME:PDT
DTSTART:20210314T100000
END:DAYLIGHT
BEGIN:STANDARD
TZOFFSETFROM:-0700
TZOFFSETTO:-0800
TZNAME:PST
DTSTART:20211107T090000
END:STANDARD
BEGIN:DAYLIGHT
TZOFFSETFROM:-0800
TZOFFSETTO:-0700
TZNAME:PDT
DTSTART:20220313T100000
END:DAYLIGHT
BEGIN:STANDARD
TZOFFSETFROM:-0700
TZOFFSETTO:-0800
TZNAME:PST
DTSTART:20221106T090000
END:STANDARD
BEGIN:DAYLIGHT
TZOFFSETFROM:-0800
TZOFFSETTO:-0700
TZNAME:PDT
DTSTART:20230312T100000
END:DAYLIGHT
BEGIN:STANDARD
TZOFFSETFROM:-0700
TZOFFSETTO:-0800
TZNAME:PST
DTSTART:20231105T090000
END:STANDARD
END:VTIMEZONE
BEGIN:VTIMEZONE
TZID:America/Edmonton
BEGIN:DAYLIGHT
TZOFFSETFROM:-0700
TZOFFSETTO:-0600
TZNAME:MDT
DTSTART:20210314T090000
END:DAYLIGHT
BEGIN:STANDARD
TZOFFSETFROM:-0600
TZOFFSETTO:-0700
TZNAME:MST
DTSTART:20211107T080000
END:STANDARD
BEGIN:DAYLIGHT
TZOFFSETFROM:-0700
TZOFFSETTO:-0600
TZNAME:MDT
DTSTART:20220313T090000
END:DAYLIGHT
BEGIN:STANDARD
TZOFFSETFROM:-0600
TZOFFSETTO:-0700
TZNAME:MST
DTSTART:20221106T080000
END:STANDARD
BEGIN:DAYLIGHT
TZOFFSETFROM:-0700
TZOFFSETTO:-0600
TZNAME:MDT
DTSTART:20230312T090000
END:DAYLIGHT
BEGIN:STANDARD
TZOFFSETFROM:-0600
TZOFFSETTO:-0700
TZNAME:MST
DTSTART:20231105T080000
END:STANDARD
END:VTIMEZONE
BEGIN:VEVENT
DTSTART;VALUE=DATE:20220917
DTEND;VALUE=DATE:20220918
DTSTAMP:20260422T150750
CREATED:20240122T064126Z
LAST-MODIFIED:20240122T064126Z
UID:2149-1663372800-1663459199@clannamorna.ca
SUMMARY:Wild Renfrew Pub
DESCRIPTION:
URL:https://clannamorna.ca/event/wild-renfrew-pub/
LOCATION:Wild Renfrew Pub\, 6574 Baird Rd\, Port Renfrew\, BC\, NULL\, CA
END:VEVENT
BEGIN:VEVENT
DTSTART;TZID=America/Vancouver:20220913T203000
DTEND;TZID=America/Vancouver:20220913T233000
DTSTAMP:20260422T150750
CREATED:20240122T064119Z
LAST-MODIFIED:20240122T064119Z
UID:2148-1663101000-1663111800@clannamorna.ca
SUMMARY:Craic Tuesdays at Irish Times Pub
DESCRIPTION:Come on down to The Irish Times Pub  from 8:30pm to 11:30pm for  the craic!  Playing your favorite Celtic and English ballads and tunes.\n \n 
URL:https://clannamorna.ca/event/craic-tuesdays-at-irish-times-pub-73/
LOCATION:Irish Times Pub\, 1200 Goverment St\, Victoria\, BC\, V8W 1Y2\, CA
END:VEVENT
BEGIN:VEVENT
DTSTART;TZID=America/Vancouver:20220906T203000
DTEND;TZID=America/Vancouver:20220906T233000
DTSTAMP:20260422T150750
CREATED:20240122T064119Z
LAST-MODIFIED:20240122T064119Z
UID:2147-1662496200-1662507000@clannamorna.ca
SUMMARY:Craic Tuesdays at Irish Times Pub
DESCRIPTION:Come on down to The Irish Times Pub  from 8:30pm to 11:30pm for  the craic!  Playing your favorite Celtic and English ballads and tunes.\n \n 
URL:https://clannamorna.ca/event/craic-tuesdays-at-irish-times-pub-72/
LOCATION:Irish Times Pub\, 1200 Goverment St\, Victoria\, BC\, V8W 1Y2\, CA
END:VEVENT
BEGIN:VEVENT
DTSTART;VALUE=DATE:20220903
DTEND;VALUE=DATE:20220904
DTSTAMP:20260422T150750
CREATED:20240122T064119Z
LAST-MODIFIED:20240122T064119Z
UID:2146-1662163200-1662249599@clannamorna.ca
SUMMARY:Private Event
DESCRIPTION:
URL:https://clannamorna.ca/event/private-event-11/
LOCATION:BC
END:VEVENT
BEGIN:VEVENT
DTSTART;VALUE=DATE:20220902
DTEND;VALUE=DATE:20220903
DTSTAMP:20260422T150750
CREATED:20240122T064119Z
LAST-MODIFIED:20240122T064119Z
UID:2145-1662076800-1662163199@clannamorna.ca
SUMMARY:Quadra Island - Secret event!
DESCRIPTION:Details TBA!
URL:https://clannamorna.ca/event/quadra-island-secret-event/
LOCATION:BC
END:VEVENT
BEGIN:VEVENT
DTSTART;TZID=America/Vancouver:20220830T203000
DTEND;TZID=America/Vancouver:20220830T233000
DTSTAMP:20260422T150750
CREATED:20240122T064119Z
LAST-MODIFIED:20240122T064119Z
UID:2144-1661891400-1661902200@clannamorna.ca
SUMMARY:Craic Tuesdays at Irish Times Pub
DESCRIPTION:Come on down to The Irish Times Pub  from 8:30pm to 11:30pm for  the craic!  Playing your favorite Celtic and English ballads and tunes.\n \n 
URL:https://clannamorna.ca/event/craic-tuesdays-at-irish-times-pub-71/
LOCATION:Irish Times Pub\, 1200 Goverment St\, Victoria\, BC\, V8W 1Y2\, CA
END:VEVENT
BEGIN:VEVENT
DTSTART;TZID=America/Vancouver:20220823T203000
DTEND;TZID=America/Vancouver:20220823T233000
DTSTAMP:20260422T150750
CREATED:20240122T064116Z
LAST-MODIFIED:20240122T064116Z
UID:2143-1661286600-1661297400@clannamorna.ca
SUMMARY:Craic Tuesdays at Irish Times Pub
DESCRIPTION:Come on down to The Irish Times Pub  from 8:30pm to 11:30pm for  the craic!  Playing your favorite Celtic and English ballads and tunes.\n \n 
URL:https://clannamorna.ca/event/craic-tuesdays-at-irish-times-pub-70/
LOCATION:Irish Times Pub\, 1200 Goverment St\, Victoria\, BC\, V8W 1Y2\, CA
END:VEVENT
BEGIN:VEVENT
DTSTART;TZID=America/Vancouver:20220818T160000
DTEND;TZID=America/Vancouver:20220818T193000
DTSTAMP:20260422T150750
CREATED:20240122T064116Z
LAST-MODIFIED:20240122T064116Z
UID:2142-1660838400-1660851000@clannamorna.ca
SUMMARY:Live at the Sidney Street Market
DESCRIPTION:Come browse local artisans and enjoy our tunes.
URL:https://clannamorna.ca/event/live-at-the-sidney-street-market-2/
LOCATION:Mary Winspear Centre\, Sidney\, 2243 Beacon Ave\, Sidney\, BC\, NULL\, CA
END:VEVENT
BEGIN:VEVENT
DTSTART;TZID=America/Vancouver:20220816T203000
DTEND;TZID=America/Vancouver:20220816T233000
DTSTAMP:20260422T150750
CREATED:20240122T064116Z
LAST-MODIFIED:20240122T064116Z
UID:2141-1660681800-1660692600@clannamorna.ca
SUMMARY:Craic Tuesdays at Irish Times Pub
DESCRIPTION:Come on down to The Irish Times Pub  from 8:30pm to 11:30pm for  the craic!  Playing your favorite Celtic and English ballads and tunes.\n \n 
URL:https://clannamorna.ca/event/craic-tuesdays-at-irish-times-pub-69/
LOCATION:Irish Times Pub\, 1200 Goverment St\, Victoria\, BC\, V8W 1Y2\, CA
END:VEVENT
BEGIN:VEVENT
DTSTART;TZID=America/Vancouver:20220809T203000
DTEND;TZID=America/Vancouver:20220809T233000
DTSTAMP:20260422T150750
CREATED:20240122T064116Z
LAST-MODIFIED:20240122T064116Z
UID:2140-1660077000-1660087800@clannamorna.ca
SUMMARY:Craic Tuesdays at Irish Times Pub
DESCRIPTION:Come on down to The Irish Times Pub  from 8:30pm to 11:30pm for  the craic!  Playing your favorite Celtic and English ballads and tunes.\n \n 
URL:https://clannamorna.ca/event/craic-tuesdays-at-irish-times-pub-68/
LOCATION:Irish Times Pub\, 1200 Goverment St\, Victoria\, BC\, V8W 1Y2\, CA
END:VEVENT
BEGIN:VEVENT
DTSTART;TZID=America/Vancouver:20220806T200000
DTEND;TZID=America/Vancouver:20220806T220000
DTSTAMP:20260422T150750
CREATED:20240122T064116Z
LAST-MODIFIED:20240122T064116Z
UID:2139-1659816000-1659823200@clannamorna.ca
SUMMARY:Campbell River - Salmonfest 2022
DESCRIPTION:Catch us as the evening’s entertainment from 8pm to 10pm on Saturday Aug 6th!\nhttps://crsalmonfestival.com/
URL:https://clannamorna.ca/event/campbell-river-salmonfest-2022/
LOCATION:Logger Bar\, NUNNS CREEK PARK 18TH AVENUE\, Campbell River\, BC\, NULL\, CA
END:VEVENT
BEGIN:VEVENT
DTSTART;TZID=America/Vancouver:20220805T180000
DTEND;TZID=America/Vancouver:20220805T210000
DTSTAMP:20260422T150750
CREATED:20240122T064112Z
LAST-MODIFIED:20240122T064112Z
UID:2138-1659722400-1659733200@clannamorna.ca
SUMMARY:Riot Brewing Patio
DESCRIPTION:
URL:https://clannamorna.ca/event/riot-brewing-patio/
LOCATION:Riot Brewing\, Chemainus\, 101A\, 3055 Oak St\, Chemainus\, BC\, NULL\, CA
END:VEVENT
BEGIN:VEVENT
DTSTART;TZID=America/Vancouver:20220802T203000
DTEND;TZID=America/Vancouver:20220802T233000
DTSTAMP:20260422T150750
CREATED:20240122T064112Z
LAST-MODIFIED:20240122T064112Z
UID:2137-1659472200-1659483000@clannamorna.ca
SUMMARY:Craic Tuesdays at Irish Times Pub
DESCRIPTION:Come on down to The Irish Times Pub  from 8:30pm to 11:30pm for  the craic!  Playing your favorite Celtic and English ballads and tunes.\n \n 
URL:https://clannamorna.ca/event/craic-tuesdays-at-irish-times-pub-67/
LOCATION:Irish Times Pub\, 1200 Goverment St\, Victoria\, BC\, V8W 1Y2\, CA
END:VEVENT
BEGIN:VEVENT
DTSTART;TZID=America/Vancouver:20220726T203000
DTEND;TZID=America/Vancouver:20220726T233000
DTSTAMP:20260422T150750
CREATED:20240122T064112Z
LAST-MODIFIED:20240122T064112Z
UID:2136-1658867400-1658878200@clannamorna.ca
SUMMARY:Craic Tuesdays at Irish Times Pub
DESCRIPTION:Come on down to The Irish Times Pub  from 8:30pm to 11:30pm for  the craic!  Playing your favorite Celtic and English ballads and tunes.\n \n 
URL:https://clannamorna.ca/event/craic-tuesdays-at-irish-times-pub-66/
LOCATION:Irish Times Pub\, 1200 Goverment St\, Victoria\, BC\, V8W 1Y2\, CA
END:VEVENT
BEGIN:VEVENT
DTSTART;VALUE=DATE:20220724
DTEND;VALUE=DATE:20220725
DTSTAMP:20260422T150750
CREATED:20240122T064112Z
LAST-MODIFIED:20240122T064112Z
UID:2135-1658620800-1658707199@clannamorna.ca
SUMMARY:Private Event
DESCRIPTION:
URL:https://clannamorna.ca/event/private-event-10/
LOCATION:BC
END:VEVENT
BEGIN:VEVENT
DTSTART;TZID=America/Vancouver:20220723T180000
DTEND;TZID=America/Vancouver:20220723T210000
DTSTAMP:20260422T150750
CREATED:20240122T064112Z
LAST-MODIFIED:20240122T064112Z
UID:2134-1658599200-1658610000@clannamorna.ca
SUMMARY:Gorge Harbour Marina\, Cortes Island
DESCRIPTION:
URL:https://clannamorna.ca/event/gorge-harbour-marina-cortes-island/
LOCATION:Gorge Harbour Marina\, Cortes Island\, Gorge Harbour Marina\, Cortes Island\, NULL\, NULL\, CA
END:VEVENT
BEGIN:VEVENT
DTSTART;VALUE=DATE:20220722
DTEND;VALUE=DATE:20220723
DTSTAMP:20260422T150750
CREATED:20240122T064108Z
LAST-MODIFIED:20240122T064446Z
UID:2128-1658448000-1658534399@clannamorna.ca
SUMMARY:Read Island/Lamberts Beach Music Weekend 2022
DESCRIPTION:
URL:https://clannamorna.ca/event/read-island-lamberts-beach-music-weekend-2022/
LOCATION:Lambert’s Beach\, Read Island\, Read Islatd\, NULL\, NULL\, CA
END:VEVENT
BEGIN:VEVENT
DTSTART;TZID=America/Vancouver:20220721T160000
DTEND;TZID=America/Vancouver:20220721T193000
DTSTAMP:20260422T150750
CREATED:20240122T064108Z
LAST-MODIFIED:20240122T064108Z
UID:2127-1658419200-1658431800@clannamorna.ca
SUMMARY:Cancelled - Live at the Sidney Street Market
DESCRIPTION:Due to unforeseen circumstances\, Clanna Morna will not be performing at this market – instead the live stage there will feature a local legend we greatly admire – Q Brooke! Go check them out!
URL:https://clannamorna.ca/event/cancelled-live-at-the-sidney-street-market/
LOCATION:Mary Winspear Centre\, Sidney\, 2243 Beacon Ave\, Sidney\, BC\, NULL\, CA
END:VEVENT
BEGIN:VEVENT
DTSTART;TZID=America/Vancouver:20220719T203000
DTEND;TZID=America/Vancouver:20220719T233000
DTSTAMP:20260422T150750
CREATED:20240122T064108Z
LAST-MODIFIED:20240122T064108Z
UID:2126-1658262600-1658273400@clannamorna.ca
SUMMARY:Craic Tuesdays at Irish Times Pub
DESCRIPTION:Come on down to The Irish Times Pub  from 8:30pm to 11:30pm for  the craic!  Playing your favorite Celtic and English ballads and tunes.\n \n 
URL:https://clannamorna.ca/event/craic-tuesdays-at-irish-times-pub-65/
LOCATION:Irish Times Pub\, 1200 Goverment St\, Victoria\, BC\, V8W 1Y2\, CA
END:VEVENT
BEGIN:VEVENT
DTSTART;VALUE=DATE:20220718
DTEND;VALUE=DATE:20220719
DTSTAMP:20260422T150750
CREATED:20240122T064108Z
LAST-MODIFIED:20240122T064108Z
UID:2125-1658102400-1658188799@clannamorna.ca
SUMMARY:Private Event
DESCRIPTION:
URL:https://clannamorna.ca/event/private-event-9/
LOCATION:BC
END:VEVENT
BEGIN:VEVENT
DTSTART;TZID=America/Vancouver:20220712T203000
DTEND;TZID=America/Vancouver:20220712T233000
DTSTAMP:20260422T150750
CREATED:20240122T064108Z
LAST-MODIFIED:20240122T064108Z
UID:2124-1657657800-1657668600@clannamorna.ca
SUMMARY:Craic Tuesdays at Irish Times Pub
DESCRIPTION:Come on down to The Irish Times Pub  from 8:30pm to 11:30pm for  the craic!  Playing your favorite Celtic and English ballads and tunes.\n \n 
URL:https://clannamorna.ca/event/craic-tuesdays-at-irish-times-pub-64/
LOCATION:Irish Times Pub\, 1200 Goverment St\, Victoria\, BC\, V8W 1Y2\, CA
END:VEVENT
BEGIN:VEVENT
DTSTART;VALUE=DATE:20220710
DTEND;VALUE=DATE:20220711
DTSTAMP:20260422T150750
CREATED:20240122T064100Z
LAST-MODIFIED:20240122T064100Z
UID:2123-1657411200-1657497599@clannamorna.ca
SUMMARY:Private Event
DESCRIPTION:
URL:https://clannamorna.ca/event/private-event-8/
LOCATION:BC
END:VEVENT
BEGIN:VEVENT
DTSTART;TZID=America/Vancouver:20220709T140000
DTEND;TZID=America/Vancouver:20220709T170000
DTSTAMP:20260422T150750
CREATED:20240122T064100Z
LAST-MODIFIED:20240122T064100Z
UID:2122-1657375200-1657386000@clannamorna.ca
SUMMARY:Maple Bay Marina
DESCRIPTION:
URL:https://clannamorna.ca/event/maple-bay-marina/
LOCATION:Maple Bay Marina\, 6145 Genoa Bay Rd\, Duncan\, BC\, V9L 5T7\, CA
END:VEVENT
BEGIN:VEVENT
DTSTART;TZID=America/Vancouver:20220708T133000
DTEND;TZID=America/Vancouver:20220708T153000
DTSTAMP:20260422T150750
CREATED:20240122T064100Z
LAST-MODIFIED:20240122T064100Z
UID:2121-1657287000-1657294200@clannamorna.ca
SUMMARY:Cameron Bandshell\, Beacon Hill Park
DESCRIPTION:
URL:https://clannamorna.ca/event/cameron-bandshell-beacon-hill-park/
LOCATION:Cameron Bandshell\, Beacon Hill Park\, Victoria BC\, Cameron Bandshell\, Victoria\, BC\, NULL\, CA
END:VEVENT
BEGIN:VEVENT
DTSTART;TZID=America/Vancouver:20220707T183000
DTEND;TZID=America/Vancouver:20220707T200000
DTSTAMP:20260422T150750
CREATED:20240122T064100Z
LAST-MODIFIED:20240122T064100Z
UID:2120-1657218600-1657224000@clannamorna.ca
SUMMARY:Cobble Hill’s “Music in the Park” series
DESCRIPTION:Music In The Park
URL:https://clannamorna.ca/event/cobble-hills-music-in-the-park-series/
LOCATION:Cobble Hill Village Park\, Cobble Hill Village Park\, Cobble Hill\, BC\, NULL\, CA
END:VEVENT
BEGIN:VEVENT
DTSTART;TZID=America/Vancouver:20220705T203000
DTEND;TZID=America/Vancouver:20220705T233000
DTSTAMP:20260422T150750
CREATED:20240122T064100Z
LAST-MODIFIED:20240122T064100Z
UID:2119-1657053000-1657063800@clannamorna.ca
SUMMARY:Craic Tuesdays at Irish Times Pub
DESCRIPTION:Come on down to The Irish Times Pub  from 8:30pm to 11:30pm for  the craic!  Playing your favorite Celtic and English ballads and tunes.\n \n 
URL:https://clannamorna.ca/event/craic-tuesdays-at-irish-times-pub-63/
LOCATION:Irish Times Pub\, 1200 Goverment St\, Victoria\, BC\, V8W 1Y2\, CA
END:VEVENT
BEGIN:VEVENT
DTSTART;TZID=America/Vancouver:20220703T130000
DTEND;TZID=America/Vancouver:20220703T160000
DTSTAMP:20260422T150750
CREATED:20240122T064053Z
LAST-MODIFIED:20240122T064053Z
UID:2118-1656853200-1656864000@clannamorna.ca
SUMMARY:Western Provinces Tour - Covert Farms - Oliver BC
DESCRIPTION:Supported by Music BC\, Creative BC and the Province of British Columbia.
URL:https://clannamorna.ca/event/western-provinces-tour-covert-farms-oliver-bc/
LOCATION:Covert Farms – Oliver\, BC\, 300 Covert Pl\, Oliver\, BC\, NULL\, CA
END:VEVENT
BEGIN:VEVENT
DTSTART;TZID=America/Edmonton:20220702T180000
DTEND;TZID=America/Edmonton:20220702T210000
DTSTAMP:20260422T150750
CREATED:20240122T064053Z
LAST-MODIFIED:20240122T064053Z
UID:2117-1656784800-1656795600@clannamorna.ca
SUMMARY:Western Provinces Tour - Kimberley BC @ Kimberly Platzl
DESCRIPTION:Supported by Music BC\, Creative BC and the Province of British Columbia.
URL:https://clannamorna.ca/event/western-provinces-tour-kimberley-bc-kimberly-platzl/
LOCATION:Kimberley Platzl\, Spokane St\, Kimberley\, BC\, NULL\, CA
END:VEVENT
BEGIN:VEVENT
DTSTART;TZID=America/Edmonton:20220701T163000
DTEND;TZID=America/Edmonton:20220701T173000
DTSTAMP:20260422T150750
CREATED:20240122T064053Z
LAST-MODIFIED:20240122T064053Z
UID:2116-1656693000-1656696600@clannamorna.ca
SUMMARY:Western Provinces Tour - Sande Shindig\, Sundre\, Alberta
DESCRIPTION:We take the stage at 4:30pm on July 1st!\nSupported by Music BC\, Creative BC and the Province of British Columbia.
URL:https://clannamorna.ca/event/western-provinces-tour-sande-shindig-sundre-alberta/
LOCATION:The Sande Stage\, Sundre\, AB\, Sande Stage\, Sundre\, AB\, NULL\, CA
END:VEVENT
BEGIN:VEVENT
DTSTART;TZID=America/Vancouver:20220630T183000
DTEND;TZID=America/Vancouver:20220630T213000
DTSTAMP:20260422T150750
CREATED:20240122T064053Z
LAST-MODIFIED:20240122T064053Z
UID:2115-1656613800-1656624600@clannamorna.ca
SUMMARY:Western Provinces Tour - Calgary at containR Art Park in Sunnyside
DESCRIPTION:Get you tickets now! https://www.showpass.com/containr-fest-clanna-morna/\nSupported by Music BC\, Creative BC and the Province of British Columbia.
URL:https://clannamorna.ca/event/western-provinces-tour-calgary-at-containr-art-park-in-sunnyside/
LOCATION:containR Art Park Calgary (Sunnyside)\, 1020 2 Ave NW\,\, Calgary\, AB\, NULL\, CA
END:VEVENT
END:VCALENDAR