BEGIN:VCALENDAR
VERSION:2.0
PRODID:-//Clanna Morna - ECPv6.15.20//NONSGML v1.0//EN
CALSCALE:GREGORIAN
METHOD:PUBLISH
X-WR-CALNAME:Clanna Morna
X-ORIGINAL-URL:https://clannamorna.ca
X-WR-CALDESC:Events for Clanna Morna
REFRESH-INTERVAL;VALUE=DURATION:PT1H
X-Robots-Tag:noindex
X-PUBLISHED-TTL:PT1H
BEGIN:VTIMEZONE
TZID:America/Vancouver
BEGIN:DAYLIGHT
TZOFFSETFROM:-0800
TZOFFSETTO:-0700
TZNAME:PDT
DTSTART:20200308T100000
END:DAYLIGHT
BEGIN:STANDARD
TZOFFSETFROM:-0700
TZOFFSETTO:-0800
TZNAME:PST
DTSTART:20201101T090000
END:STANDARD
BEGIN:DAYLIGHT
TZOFFSETFROM:-0800
TZOFFSETTO:-0700
TZNAME:PDT
DTSTART:20210314T100000
END:DAYLIGHT
BEGIN:STANDARD
TZOFFSETFROM:-0700
TZOFFSETTO:-0800
TZNAME:PST
DTSTART:20211107T090000
END:STANDARD
BEGIN:DAYLIGHT
TZOFFSETFROM:-0800
TZOFFSETTO:-0700
TZNAME:PDT
DTSTART:20220313T100000
END:DAYLIGHT
BEGIN:STANDARD
TZOFFSETFROM:-0700
TZOFFSETTO:-0800
TZNAME:PST
DTSTART:20221106T090000
END:STANDARD
END:VTIMEZONE
BEGIN:VEVENT
DTSTART;TZID=America/Vancouver:20210904T183000
DTEND;TZID=America/Vancouver:20210904T233000
DTSTAMP:20260422T155031
CREATED:20240122T063253Z
LAST-MODIFIED:20240122T063253Z
UID:2016-1630780200-1630798200@clannamorna.ca
SUMMARY:Pender Island\, BC w/ Ghostly Hounds
DESCRIPTION:
URL:https://clannamorna.ca/event/pender-island-bc-w-ghostly-hounds/
LOCATION:Pender Island Legion Branch 239\, 1344 MacKinnon Rd\, Pender Island\, BC\, V0N 2M1\, CA
END:VEVENT
BEGIN:VEVENT
DTSTART;TZID=America/Vancouver:20210903T183000
DTEND;TZID=America/Vancouver:20210903T220000
DTSTAMP:20260422T155031
CREATED:20240122T063253Z
LAST-MODIFIED:20240122T063253Z
UID:2015-1630693800-1630706400@clannamorna.ca
SUMMARY:Saltspring Island\, BC - Three Moon Farm w/Ghostly Hounds
DESCRIPTION:
URL:https://clannamorna.ca/event/saltspring-island-bc-three-moon-farm-w-ghostly-hounds/
LOCATION:Three Moon Farm\, 2823 Fulford-Ganges Rd\, Saltspring Island\, BC\, V8K 1Z2\, CA
END:VEVENT
BEGIN:VEVENT
DTSTART;VALUE=DATE:20210902
DTEND;VALUE=DATE:20210903
DTSTAMP:20260422T155031
CREATED:20240122T063253Z
LAST-MODIFIED:20240122T063253Z
UID:2014-1630540800-1630627199@clannamorna.ca
SUMMARY:Galiano Island\, BC w/ Ghostly Hounds @ Yellowhouse
DESCRIPTION:
URL:https://clannamorna.ca/event/galiano-island-bc-w-ghostly-hounds-yellowhouse/
LOCATION:Yellow House\, 2517 Sturdies Bay Road\, Galiano Island\, BC\, V0N 1P0\, CA
END:VEVENT
BEGIN:VEVENT
DTSTART;TZID=America/Vancouver:20210831T203000
DTEND;TZID=America/Vancouver:20210831T233000
DTSTAMP:20260422T155031
CREATED:20240122T063253Z
LAST-MODIFIED:20240122T063253Z
UID:2013-1630441800-1630452600@clannamorna.ca
SUMMARY:Craic Tuesdays at Irish Times Pub
DESCRIPTION:Come on down to The Irish Times Pub  from 8:30pm to 11:30pm for  the craic!  Playing your favorite Celtic and English ballads and tunes.\n \n 
URL:https://clannamorna.ca/event/craic-tuesdays-at-irish-times-pub-19/
LOCATION:Irish Times Pub\, 1200 Goverment St\, Victoria\, BC\, V8W 1Y2\, CA
END:VEVENT
BEGIN:VEVENT
DTSTART;TZID=America/Vancouver:20210829T150000
DTEND;TZID=America/Vancouver:20210829T180000
DTSTAMP:20260422T155031
CREATED:20240122T063230Z
LAST-MODIFIED:20240122T063230Z
UID:2012-1630249200-1630260000@clannamorna.ca
SUMMARY:Irish Times Pub - Victoria\, BC
DESCRIPTION:
URL:https://clannamorna.ca/event/irish-times-pub-victoria-bc/
LOCATION:Irish Times Pub\, 1200 Goverment St\, Victoria\, BC\, V8W 1Y2\, CA
END:VEVENT
BEGIN:VEVENT
DTSTART;TZID=America/Vancouver:20210824T203000
DTEND;TZID=America/Vancouver:20210824T233000
DTSTAMP:20260422T155031
CREATED:20240122T063230Z
LAST-MODIFIED:20240122T063230Z
UID:2011-1629837000-1629847800@clannamorna.ca
SUMMARY:Craic Tuesdays at Irish Times Pub
DESCRIPTION:Come on down to The Irish Times Pub  from 8:30pm to 11:30pm for  the craic!  Playing your favorite Celtic and English ballads and tunes.\n \n 
URL:https://clannamorna.ca/event/craic-tuesdays-at-irish-times-pub-18/
LOCATION:Irish Times Pub\, 1200 Goverment St\, Victoria\, BC\, V8W 1Y2\, CA
END:VEVENT
BEGIN:VEVENT
DTSTART;TZID=America/Vancouver:20210822T150000
DTEND;TZID=America/Vancouver:20210822T180000
DTSTAMP:20260422T155031
CREATED:20240122T063230Z
LAST-MODIFIED:20240122T063230Z
UID:2010-1629644400-1629655200@clannamorna.ca
SUMMARY:Irish Times - Victoria\, BC
DESCRIPTION:
URL:https://clannamorna.ca/event/irish-times-victoria-bc/
LOCATION:Irish Times Pub\, 1200 Goverment St\, Victoria\, BC\, V8W 1Y2\, CA
END:VEVENT
BEGIN:VEVENT
DTSTART;TZID=America/Vancouver:20210817T203000
DTEND;TZID=America/Vancouver:20210817T233000
DTSTAMP:20260422T155031
CREATED:20240122T063230Z
LAST-MODIFIED:20240122T063230Z
UID:2009-1629232200-1629243000@clannamorna.ca
SUMMARY:Craic Tuesdays at Irish Times Pub
DESCRIPTION:Come on down to The Irish Times Pub  from 8:30pm to 11:30pm for  the craic!  Playing your favorite Celtic and English ballads and tunes.\n \n 
URL:https://clannamorna.ca/event/craic-tuesdays-at-irish-times-pub-17/
LOCATION:Irish Times Pub\, 1200 Goverment St\, Victoria\, BC\, V8W 1Y2\, CA
END:VEVENT
BEGIN:VEVENT
DTSTART;TZID=America/Vancouver:20210814T150000
DTEND;TZID=America/Vancouver:20210814T180000
DTSTAMP:20260422T155031
CREATED:20240122T063230Z
LAST-MODIFIED:20240122T063230Z
UID:2008-1628953200-1628964000@clannamorna.ca
SUMMARY:Seahorse Cafe - Brentwood Bay\, BC
DESCRIPTION:
URL:https://clannamorna.ca/event/seahorse-cafe-brentwood-bay-bc/
LOCATION:Seahorses Cafe\, 799 Verdier Ave\, Brentwood Bay\, BC\, V8M 1C5\, CA
END:VEVENT
BEGIN:VEVENT
DTSTART;TZID=America/Vancouver:20210810T203000
DTEND;TZID=America/Vancouver:20210810T233000
DTSTAMP:20260422T155031
CREATED:20240122T063222Z
LAST-MODIFIED:20240122T063222Z
UID:2007-1628627400-1628638200@clannamorna.ca
SUMMARY:Craic Tuesdays at Irish Times Pub
DESCRIPTION:Come on down to The Irish Times Pub  from 8:30pm to 11:30pm for  the craic!  Playing your favorite Celtic and English ballads and tunes.\n \n 
URL:https://clannamorna.ca/event/craic-tuesdays-at-irish-times-pub-16/
LOCATION:Irish Times Pub\, 1200 Goverment St\, Victoria\, BC\, V8W 1Y2\, CA
END:VEVENT
BEGIN:VEVENT
DTSTART;TZID=America/Vancouver:20210803T203000
DTEND;TZID=America/Vancouver:20210803T233000
DTSTAMP:20260422T155031
CREATED:20240122T063222Z
LAST-MODIFIED:20240122T063222Z
UID:2006-1628022600-1628033400@clannamorna.ca
SUMMARY:Craic Tuesdays at Irish Times Pub
DESCRIPTION:Come on down to The Irish Times Pub  from 8:30pm to 11:30pm for  the craic!  Playing your favorite Celtic and English ballads and tunes.\n \n 
URL:https://clannamorna.ca/event/craic-tuesdays-at-irish-times-pub-15/
LOCATION:Irish Times Pub\, 1200 Goverment St\, Victoria\, BC\, V8W 1Y2\, CA
END:VEVENT
BEGIN:VEVENT
DTSTART;TZID=America/Vancouver:20210728T180000
DTEND;TZID=America/Vancouver:20210728T210000
DTSTAMP:20260422T155031
CREATED:20240122T063222Z
LAST-MODIFIED:20240122T063222Z
UID:2005-1627495200-1627506000@clannamorna.ca
SUMMARY:Private Event - Duncan
DESCRIPTION:
URL:https://clannamorna.ca/event/private-event-duncan/
LOCATION:BC
END:VEVENT
BEGIN:VEVENT
DTSTART;TZID=America/Vancouver:20210727T203000
DTEND;TZID=America/Vancouver:20210727T233000
DTSTAMP:20260422T155031
CREATED:20240122T063222Z
LAST-MODIFIED:20240122T063222Z
UID:2004-1627417800-1627428600@clannamorna.ca
SUMMARY:Craic Tuesdays at Irish Times Pub
DESCRIPTION:Come on down to The Irish Times Pub  from 8:30pm to 11:30pm for  the craic!  Playing your favorite Celtic and English ballads and tunes.\n \n 
URL:https://clannamorna.ca/event/craic-tuesdays-at-irish-times-pub-14/
LOCATION:Irish Times Pub\, 1200 Goverment St\, Victoria\, BC\, V8W 1Y2\, CA
END:VEVENT
BEGIN:VEVENT
DTSTART;TZID=America/Vancouver:20210720T203000
DTEND;TZID=America/Vancouver:20210720T233000
DTSTAMP:20260422T155031
CREATED:20240122T063222Z
LAST-MODIFIED:20240122T063222Z
UID:2003-1626813000-1626823800@clannamorna.ca
SUMMARY:Craic Tuesdays at Irish Times Pub
DESCRIPTION:Come on down to The Irish Times Pub  from 8:30pm to 11:30pm for  the craic!  Playing your favorite Celtic and English ballads and tunes.\n \n 
URL:https://clannamorna.ca/event/craic-tuesdays-at-irish-times-pub-13/
LOCATION:Irish Times Pub\, 1200 Goverment St\, Victoria\, BC\, V8W 1Y2\, CA
END:VEVENT
BEGIN:VEVENT
DTSTART;TZID=America/Vancouver:20210718T180000
DTEND;TZID=America/Vancouver:20210718T230000
DTSTAMP:20260422T155031
CREATED:20240122T063215Z
LAST-MODIFIED:20240122T063215Z
UID:2002-1626631200-1626649200@clannamorna.ca
SUMMARY:Protection Island\, BC
DESCRIPTION:
URL:https://clannamorna.ca/event/protection-island-bc/
LOCATION:BC
END:VEVENT
BEGIN:VEVENT
DTSTART;TZID=America/Vancouver:20210717T190000
DTEND;TZID=America/Vancouver:20210717T210000
DTSTAMP:20260422T155031
CREATED:20240122T063215Z
LAST-MODIFIED:20240122T063215Z
UID:2001-1626548400-1626555600@clannamorna.ca
SUMMARY:Cortes Island\, BC - Gorge Harbour Marina
DESCRIPTION:
URL:https://clannamorna.ca/event/cortes-island-bc-gorge-harbour-marina/
LOCATION:Gorge Harbour Marina\, Cortes Island\, Gorge Harbour Marina\, Cortes Island\, NULL\, NULL\, CA
END:VEVENT
BEGIN:VEVENT
DTSTART;TZID=America/Vancouver:20210713T203000
DTEND;TZID=America/Vancouver:20210713T233000
DTSTAMP:20260422T155031
CREATED:20240122T063215Z
LAST-MODIFIED:20240122T063215Z
UID:2000-1626208200-1626219000@clannamorna.ca
SUMMARY:Craic Tuesdays at Irish Times Pub
DESCRIPTION:Come on down to The Irish Times Pub  from 8:30pm to 11:30pm for  the craic!  Playing your favorite Celtic and English ballads and tunes.\n \n 
URL:https://clannamorna.ca/event/craic-tuesdays-at-irish-times-pub-12/
LOCATION:Irish Times Pub\, 1200 Goverment St\, Victoria\, BC\, V8W 1Y2\, CA
END:VEVENT
BEGIN:VEVENT
DTSTART;TZID=America/Vancouver:20210706T203000
DTEND;TZID=America/Vancouver:20210706T233000
DTSTAMP:20260422T155031
CREATED:20240122T063215Z
LAST-MODIFIED:20240122T063215Z
UID:1999-1625603400-1625614200@clannamorna.ca
SUMMARY:Craic Tuesdays at Irish Times Pub
DESCRIPTION:Come on down to The Irish Times Pub  from 8:30pm to 11:30pm for  the craic!  Playing your favorite Celtic and English ballads and tunes.\n \n 
URL:https://clannamorna.ca/event/craic-tuesdays-at-irish-times-pub-11/
LOCATION:Irish Times Pub\, 1200 Goverment St\, Victoria\, BC\, V8W 1Y2\, CA
END:VEVENT
BEGIN:VEVENT
DTSTART;TZID=America/Vancouver:20210704T150000
DTEND;TZID=America/Vancouver:20210704T180000
DTSTAMP:20260422T155031
CREATED:20240122T063215Z
LAST-MODIFIED:20240122T063215Z
UID:1998-1625410800-1625421600@clannamorna.ca
SUMMARY:Sunday July 4th Afternoon - Clanna Morna (as a quartet!) live at the Irish Times Pub
DESCRIPTION:Come on down to The Irish Times Pub  from 3:00pm to 6:00pm for our first pub performance with our entire ensemble. Still playing your favorite Celtic and English ballads and tunes\, we’re now allowed to have all 4 of us on stage for the first time since the Covid pandemic began. If you’ve been missing the sounds of the accordion and tin whistles; this is your chance!
URL:https://clannamorna.ca/event/sunday-july-4th-afternoon-clanna-morna-as-a-quartet-live-at-the-irish-times-pub/
LOCATION:Irish Times Pub\, 1200 Goverment St\, Victoria\, BC\, V8W 1Y2\, CA
END:VEVENT
BEGIN:VEVENT
DTSTART;TZID=America/Vancouver:20210703T140000
DTEND;TZID=America/Vancouver:20210703T160000
DTSTAMP:20260422T155031
CREATED:20240122T063138Z
LAST-MODIFIED:20240122T063138Z
UID:1997-1625320800-1625328000@clannamorna.ca
SUMMARY:Maple Bay Marina - Christina Morrison Art Opening
DESCRIPTION:
URL:https://clannamorna.ca/event/maple-bay-marina-christina-morrison-art-opening/
LOCATION:Maple Bay Marina\, 6145 Genoa Bay Rd\, Duncan\, BC\, V9L 5T7\, CA
END:VEVENT
BEGIN:VEVENT
DTSTART;TZID=America/Vancouver:20210629T203000
DTEND;TZID=America/Vancouver:20210629T233000
DTSTAMP:20260422T155031
CREATED:20240122T063138Z
LAST-MODIFIED:20240122T063138Z
UID:1996-1624998600-1625009400@clannamorna.ca
SUMMARY:Craic Tuesdays at Irish Times Pub
DESCRIPTION:Come on down to The Irish Times Pub  from 8:30pm to 11:30pm for  the craic!  Playing your favorite Celtic and English ballads and tunes.\n \n 
URL:https://clannamorna.ca/event/craic-tuesdays-at-irish-times-pub-10/
LOCATION:Irish Times Pub\, 1200 Goverment St\, Victoria\, BC\, V8W 1Y2\, CA
END:VEVENT
BEGIN:VEVENT
DTSTART;TZID=America/Vancouver:20210622T203000
DTEND;TZID=America/Vancouver:20210622T233000
DTSTAMP:20260422T155031
CREATED:20240122T063137Z
LAST-MODIFIED:20240122T063137Z
UID:1995-1624393800-1624404600@clannamorna.ca
SUMMARY:Craic Tuesdays at Irish Times Pub
DESCRIPTION:Come on down to The Irish Times Pub  from 8:30pm to 11:30pm for  the craic!  Playing your favorite Celtic and English ballads and tunes.\n \n 
URL:https://clannamorna.ca/event/craic-tuesdays-at-irish-times-pub-9/
LOCATION:Irish Times Pub\, 1200 Goverment St\, Victoria\, BC\, V8W 1Y2\, CA
END:VEVENT
BEGIN:VEVENT
DTSTART;TZID=America/Vancouver:20210615T203000
DTEND;TZID=America/Vancouver:20210615T233000
DTSTAMP:20260422T155031
CREATED:20240122T063137Z
LAST-MODIFIED:20240122T063137Z
UID:1994-1623789000-1623799800@clannamorna.ca
SUMMARY:Craic Tuesdays at Irish Times Pub
DESCRIPTION:Come on down to The Irish Times Pub  from 8:30pm to 11:30pm for  the craic!  Playing your favorite Celtic and English ballads and tunes.\n \n 
URL:https://clannamorna.ca/event/craic-tuesdays-at-irish-times-pub-8/
LOCATION:Irish Times Pub\, 1200 Goverment St\, Victoria\, BC\, V8W 1Y2\, CA
END:VEVENT
BEGIN:VEVENT
DTSTART;TZID=America/Vancouver:20210608T203000
DTEND;TZID=America/Vancouver:20210608T233000
DTSTAMP:20260422T155031
CREATED:20240122T063137Z
LAST-MODIFIED:20240122T063137Z
UID:1993-1623184200-1623195000@clannamorna.ca
SUMMARY:Craic Tuesdays at Irish Times Pub
DESCRIPTION:Come on down to The Irish Times Pub  from 8:30pm to 11:30pm for  the craic!  Playing your favorite Celtic and English ballads and tunes.\n \n 
URL:https://clannamorna.ca/event/craic-tuesdays-at-irish-times-pub-7/
LOCATION:Irish Times Pub\, 1200 Goverment St\, Victoria\, BC\, V8W 1Y2\, CA
END:VEVENT
BEGIN:VEVENT
DTSTART;TZID=America/Vancouver:20210601T203000
DTEND;TZID=America/Vancouver:20210601T233000
DTSTAMP:20260422T155031
CREATED:20240122T063121Z
LAST-MODIFIED:20240122T063121Z
UID:1987-1622579400-1622590200@clannamorna.ca
SUMMARY:Craic Tuesdays at Irish Times Pub
DESCRIPTION:Come on down to The Irish Times Pub  from 8:30pm to 11:30pm for  the craic!  Playing your favorite Celtic and English ballads and tunes.\n \n 
URL:https://clannamorna.ca/event/craic-tuesdays-at-irish-times-pub-6/
LOCATION:Irish Times Pub\, 1200 Goverment St\, Victoria\, BC\, V8W 1Y2\, CA
END:VEVENT
BEGIN:VEVENT
DTSTART;TZID=America/Vancouver:20210525T203000
DTEND;TZID=America/Vancouver:20210525T233000
DTSTAMP:20260422T155031
CREATED:20240122T063121Z
LAST-MODIFIED:20240122T063121Z
UID:1986-1621974600-1621985400@clannamorna.ca
SUMMARY:Craic Tuesdays at Irish Times Pub
DESCRIPTION:Come on down to The Irish Times Pub  from 8:30pm to 11:30pm for  the craic!  Playing your favorite Celtic and English ballads and tunes.\n \n 
URL:https://clannamorna.ca/event/craic-tuesdays-at-irish-times-pub-5/
LOCATION:Irish Times Pub\, 1200 Goverment St\, Victoria\, BC\, V8W 1Y2\, CA
END:VEVENT
BEGIN:VEVENT
DTSTART;TZID=America/Vancouver:20210518T203000
DTEND;TZID=America/Vancouver:20210518T233000
DTSTAMP:20260422T155031
CREATED:20240122T063121Z
LAST-MODIFIED:20240122T063121Z
UID:1985-1621369800-1621380600@clannamorna.ca
SUMMARY:Craic Tuesdays at Irish Times Pub
DESCRIPTION:Come on down to The Irish Times Pub  from 8:30pm to 11:30pm for  the craic!  Playing your favorite Celtic and English ballads and tunes.\n \n 
URL:https://clannamorna.ca/event/craic-tuesdays-at-irish-times-pub-4/
LOCATION:Irish Times Pub\, 1200 Goverment St\, Victoria\, BC\, V8W 1Y2\, CA
END:VEVENT
BEGIN:VEVENT
DTSTART;TZID=America/Vancouver:20210511T203000
DTEND;TZID=America/Vancouver:20210511T233000
DTSTAMP:20260422T155031
CREATED:20240122T063120Z
LAST-MODIFIED:20240122T063121Z
UID:1984-1620765000-1620775800@clannamorna.ca
SUMMARY:Craic Tuesdays at Irish Times Pub
DESCRIPTION:Come on down to The Irish Times Pub  from 8:30pm to 11:30pm for  the craic!  Playing your favorite Celtic and English ballads and tunes.\n \n 
URL:https://clannamorna.ca/event/craic-tuesdays-at-irish-times-pub-3/
LOCATION:Irish Times Pub\, 1200 Goverment St\, Victoria\, BC\, V8W 1Y2\, CA
END:VEVENT
BEGIN:VEVENT
DTSTART;TZID=America/Vancouver:20210504T203000
DTEND;TZID=America/Vancouver:20210504T233000
DTSTAMP:20260422T155031
CREATED:20240122T063120Z
LAST-MODIFIED:20240122T063121Z
UID:1983-1620160200-1620171000@clannamorna.ca
SUMMARY:Craic Tuesdays at Irish Times Pub
DESCRIPTION:Come on down to The Irish Times Pub  from 8:30pm to 11:30pm for  the craic!  Playing your favorite Celtic and English ballads and tunes.\n \n 
URL:https://clannamorna.ca/event/craic-tuesdays-at-irish-times-pub-2/
LOCATION:Irish Times Pub\, 1200 Goverment St\, Victoria\, BC\, V8W 1Y2\, CA
END:VEVENT
BEGIN:VEVENT
DTSTART;TZID=America/Vancouver:20210427T203000
DTEND;TZID=America/Vancouver:20210427T233000
DTSTAMP:20260422T155031
CREATED:20240122T063118Z
LAST-MODIFIED:20240122T063118Z
UID:1982-1619555400-1619566200@clannamorna.ca
SUMMARY:Craic Tuesdays at Irish Times Pub
DESCRIPTION:Come on down to The Irish Times Pub  from 8:30pm to 11:30pm for  the craic!  Playing your favorite Celtic and English ballads and tunes.\n \n 
URL:https://clannamorna.ca/event/craic-tuesdays-at-irish-times-pub/
LOCATION:Irish Times Pub\, 1200 Goverment St\, Victoria\, BC\, V8W 1Y2\, CA
END:VEVENT
END:VCALENDAR