BEGIN:VCALENDAR
VERSION:2.0
PRODID:-//Clanna Morna - ECPv6.15.20//NONSGML v1.0//EN
CALSCALE:GREGORIAN
METHOD:PUBLISH
X-WR-CALNAME:Clanna Morna
X-ORIGINAL-URL:https://clannamorna.ca
X-WR-CALDESC:Events for Clanna Morna
REFRESH-INTERVAL;VALUE=DURATION:PT1H
X-Robots-Tag:noindex
X-PUBLISHED-TTL:PT1H
BEGIN:VTIMEZONE
TZID:America/Vancouver
BEGIN:DAYLIGHT
TZOFFSETFROM:-0800
TZOFFSETTO:-0700
TZNAME:PDT
DTSTART:20200308T100000
END:DAYLIGHT
BEGIN:STANDARD
TZOFFSETFROM:-0700
TZOFFSETTO:-0800
TZNAME:PST
DTSTART:20201101T090000
END:STANDARD
BEGIN:DAYLIGHT
TZOFFSETFROM:-0800
TZOFFSETTO:-0700
TZNAME:PDT
DTSTART:20210314T100000
END:DAYLIGHT
BEGIN:STANDARD
TZOFFSETFROM:-0700
TZOFFSETTO:-0800
TZNAME:PST
DTSTART:20211107T090000
END:STANDARD
BEGIN:DAYLIGHT
TZOFFSETFROM:-0800
TZOFFSETTO:-0700
TZNAME:PDT
DTSTART:20220313T100000
END:DAYLIGHT
BEGIN:STANDARD
TZOFFSETFROM:-0700
TZOFFSETTO:-0800
TZNAME:PST
DTSTART:20221106T090000
END:STANDARD
END:VTIMEZONE
BEGIN:VEVENT
DTSTART;TZID=America/Vancouver:20211120T190000
DTEND;TZID=America/Vancouver:20211120T220000
DTSTAMP:20260422T150130
CREATED:20240122T063657Z
LAST-MODIFIED:20240122T063657Z
UID:2040-1637434800-1637445600@clannamorna.ca
SUMMARY:Private Wedding - Victoria
DESCRIPTION:
URL:https://clannamorna.ca/event/private-wedding-victoria/
END:VEVENT
BEGIN:VEVENT
DTSTART;TZID=America/Vancouver:20211116T203000
DTEND;TZID=America/Vancouver:20211116T233000
DTSTAMP:20260422T150130
CREATED:20240122T063657Z
LAST-MODIFIED:20240122T063657Z
UID:2039-1637094600-1637105400@clannamorna.ca
SUMMARY:Craic Tuesdays at Irish Times Pub
DESCRIPTION:Come on down to The Irish Times Pub  from 8:30pm to 11:30pm for  the craic!  Playing your favorite Celtic and English ballads and tunes.\n \n 
URL:https://clannamorna.ca/event/craic-tuesdays-at-irish-times-pub-31/
LOCATION:Irish Times Pub\, 1200 Goverment St\, Victoria\, BC\, V8W 1Y2\, CA
END:VEVENT
BEGIN:VEVENT
DTSTART;TZID=America/Vancouver:20211109T203000
DTEND;TZID=America/Vancouver:20211109T233000
DTSTAMP:20260422T150130
CREATED:20240122T063657Z
LAST-MODIFIED:20240122T063657Z
UID:2038-1636489800-1636500600@clannamorna.ca
SUMMARY:Craic Tuesdays at Irish Times Pub
DESCRIPTION:Come on down to The Irish Times Pub  from 8:30pm to 11:30pm for  the craic!  Playing your favorite Celtic and English ballads and tunes.\n \n 
URL:https://clannamorna.ca/event/craic-tuesdays-at-irish-times-pub-30/
LOCATION:Irish Times Pub\, 1200 Goverment St\, Victoria\, BC\, V8W 1Y2\, CA
END:VEVENT
BEGIN:VEVENT
DTSTART;TZID=America/Vancouver:20211102T203000
DTEND;TZID=America/Vancouver:20211102T233000
DTSTAMP:20260422T150130
CREATED:20240122T063647Z
LAST-MODIFIED:20240122T063647Z
UID:2037-1635885000-1635895800@clannamorna.ca
SUMMARY:Craic Tuesdays at Irish Times Pub
DESCRIPTION:Come on down to The Irish Times Pub  from 8:30pm to 11:30pm for  the craic!  Playing your favorite Celtic and English ballads and tunes.\n \n 
URL:https://clannamorna.ca/event/craic-tuesdays-at-irish-times-pub-29/
LOCATION:Irish Times Pub\, 1200 Goverment St\, Victoria\, BC\, V8W 1Y2\, CA
END:VEVENT
BEGIN:VEVENT
DTSTART;TZID=America/Vancouver:20211030T203000
DTEND;TZID=America/Vancouver:20211030T230000
DTSTAMP:20260422T150130
CREATED:20240122T063647Z
LAST-MODIFIED:20240122T063647Z
UID:2036-1635625800-1635634800@clannamorna.ca
SUMMARY:Halloween show at the Wildwood Public House in Powell River
DESCRIPTION:Hailing from the stolen territories of the Songhees\, Esquimalt and WSÁNEĆ nations (Victoria\, BC in Canada)\, Clanna Morna brings their take on the Celtic Traditional genre to the west coast. Their sound is rooted in the traditional Irish\, Scottish and English music that many love\, and features carefully crafted arrangements\, rhythmic spirited energy and captivating storytelling. Comprised of an ensemble of  multi-instrumentalists\, their excellent musicianship and attention to detail create a unique sound.  Members of Clanna Morna have been arranging and performing traditional Celtic and original music for over a decade in other projects\, sharing their melodic arrangements and stories both internationally and locally. \nThe band is comprised of Cody Baresich (mandolins\, Irish bouzouki\, tin whistle\, percussion\, vocals)\, Mark Leigh (accordion\, tin whistles\, vocals)\, Finn Letourneau (fiddle\, banjo\, vocals)\, and Syver Pendlebury (guitar\, vocals). With the combination of traditional instruments featuring strong melodic leads\, rhythmic guitar accompaniment and foot percussion\, the band covers a wide swath of musical ground. From high-energy instrumentals to slow ballads\, drinking songs to sea shanties\, Clanna Morna explores different aspects of folk. The band pays tribute to and takes inspiration from legendary predecessors including The Dubliners\, The Pogues\, the Bothy Band\, Planxty\, The Clancy Brothers\, and The Wolfe Tones. \nThe Wildwood Public House\n15 craft brew taps\, Neapolitan style stone fired pizza and an amazing bistro-pub kitchen! \n$15 advance tickets Available at Base Camp Base Camp Outpost and the Wildwood Pub.\n19+\nFamily Friendly until 9PM
URL:https://clannamorna.ca/event/halloween-show-at-the-wildwood-public-house-in-powell-river/
LOCATION:Wildwood Public House – Powell River\, 5987 Lund St\, Powell River\, BC\, V8A 4S9\, CA
END:VEVENT
BEGIN:VEVENT
DTSTART;TZID=America/Vancouver:20211029T170000
DTEND;TZID=America/Vancouver:20211029T200000
DTSTAMP:20260422T150130
CREATED:20240122T063646Z
LAST-MODIFIED:20240122T063646Z
UID:2035-1635526800-1635537600@clannamorna.ca
SUMMARY:The Clubhouse Restaurant at Pender Harbour - Sunshine Coast
DESCRIPTION:$5.00 Cover Charge
URL:https://clannamorna.ca/event/the-clubhouse-restaurant-at-pender-harbour-sunshine-coast/
LOCATION:The Clubhouse at Pender Harbour\, 13823 Sunshine Coast Highway\, Madeira Park\, BC\, V0N2H0\, CA
END:VEVENT
BEGIN:VEVENT
DTSTART;TZID=America/Vancouver:20211028T190000
DTEND;TZID=America/Vancouver:20211028T220000
DTSTAMP:20260422T150130
CREATED:20240122T063646Z
LAST-MODIFIED:20240122T063646Z
UID:2034-1635447600-1635458400@clannamorna.ca
SUMMARY:Clanna Morna at the Roberts Creek Legion
DESCRIPTION: Get Tickets: https://rclegionevents.com/indoor-stage-coming-fall-2021/clanna-morna-oct-28 \nMembers $10\, Guests of Members $20.00 \nHailing from the stolen territories of the Songhees\, Esquimalt and WSÁNEĆ nations (Victoria\, BC in Canada)\, Clanna Morna brings their take on the Celtic Traditional genre to the west coast. Their sound is rooted in the traditional Irish\, Scottish and English music that many love\, and features carefully crafted arrangements\, rhythmic spirited energy and captivating storytelling. Comprised of an ensemble of multi-instrumentalists\, their excellent musicianship and attention to detail create a unique sound. Members of Clanna Morna have been arranging and performing traditional Celtic and original music for over a decade in other projects\, sharing their melodic arrangements and stories both internationally and locally. \nThe band is comprised of Cody Baresich (mandolins\, Irish bouzouki\, tin whistle\, percussion\, vocals)\, Mark Leigh (accordion\, tin whistles\, vocals)\, Finn Letourneau (fiddle\, banjo\, vocals)\, and Matt Pendlebury (guitar\, vocals). With the combination of traditional instruments featuring strong melodic leads\, rhythmic guitar accompaniment and foot percussion\, the band covers a wide swath of musical ground. From high-energy instrumentals to slow ballads\, drinking songs to sea shanties\, Clanna Morna explores different aspects of folk. The band pays tribute to and takes inspiration from legendary predecessors including The Dubliners\, The Pogues\, the Bothy Band\, Planxty\, The Clancy Brothers\, and The Wolfe Tones.
URL:https://clannamorna.ca/event/clanna-morna-at-the-roberts-creek-legion/
LOCATION:Robert’s Creek Legion\, 3064 Lower Rd\, Roberts Creek\, BC\, V0N 2W0\, CA
END:VEVENT
BEGIN:VEVENT
DTSTART;TZID=America/Vancouver:20211026T203000
DTEND;TZID=America/Vancouver:20211026T233000
DTSTAMP:20260422T150130
CREATED:20240122T063646Z
LAST-MODIFIED:20240122T063646Z
UID:2033-1635280200-1635291000@clannamorna.ca
SUMMARY:Craic Tuesdays at Irish Times Pub
DESCRIPTION:Come on down to The Irish Times Pub  from 8:30pm to 11:30pm for  the craic!  Playing your favorite Celtic and English ballads and tunes.\n \n 
URL:https://clannamorna.ca/event/craic-tuesdays-at-irish-times-pub-28/
LOCATION:Irish Times Pub\, 1200 Goverment St\, Victoria\, BC\, V8W 1Y2\, CA
END:VEVENT
BEGIN:VEVENT
DTSTART;TZID=America/Vancouver:20211023T160000
DTEND;TZID=America/Vancouver:20211023T190000
DTSTAMP:20260422T150130
CREATED:20240122T063642Z
LAST-MODIFIED:20240122T063642Z
UID:2032-1635004800-1635015600@clannamorna.ca
SUMMARY:Craic Tuesdays at Irish Times Pub
DESCRIPTION:Come on down to The Irish Times Pub  from 8:30pm to 11:30pm for  us performing as a trio. Playing your favorite Celtic and English ballads and tunes.\n \n 
URL:https://clannamorna.ca/event/craic-tuesdays-at-irish-times-pub-27/
LOCATION:Irish Times Pub\, 1200 Goverment St\, Victoria\, BC\, V8W 1Y2\, CA
END:VEVENT
BEGIN:VEVENT
DTSTART;TZID=America/Vancouver:20211019T203000
DTEND;TZID=America/Vancouver:20211019T233000
DTSTAMP:20260422T150130
CREATED:20240122T063642Z
LAST-MODIFIED:20240122T063642Z
UID:2031-1634675400-1634686200@clannamorna.ca
SUMMARY:Craic Tuesdays at Irish Times Pub
DESCRIPTION:Come on down to The Irish Times Pub  from 8:30pm to 11:30pm for  the craic!  Playing your favorite Celtic and English ballads and tunes.\n \n 
URL:https://clannamorna.ca/event/craic-tuesdays-at-irish-times-pub-26/
LOCATION:Irish Times Pub\, 1200 Goverment St\, Victoria\, BC\, V8W 1Y2\, CA
END:VEVENT
BEGIN:VEVENT
DTSTART;TZID=America/Vancouver:20211012T203000
DTEND;TZID=America/Vancouver:20211012T233000
DTSTAMP:20260422T150130
CREATED:20240122T063642Z
LAST-MODIFIED:20240122T063642Z
UID:2030-1634070600-1634081400@clannamorna.ca
SUMMARY:Craic Tuesdays at Irish Times Pub
DESCRIPTION:Come on down to The Irish Times Pub  from 8:30pm to 11:30pm for  the craic!  Playing your favorite Celtic and English ballads and tunes.\n \n 
URL:https://clannamorna.ca/event/craic-tuesdays-at-irish-times-pub-25/
LOCATION:Irish Times Pub\, 1200 Goverment St\, Victoria\, BC\, V8W 1Y2\, CA
END:VEVENT
BEGIN:VEVENT
DTSTART;TZID=America/Vancouver:20211005T203000
DTEND;TZID=America/Vancouver:20211005T233000
DTSTAMP:20260422T150130
CREATED:20240122T063642Z
LAST-MODIFIED:20240122T063642Z
UID:2029-1633465800-1633476600@clannamorna.ca
SUMMARY:Craic Tuesdays at Irish Times Pub
DESCRIPTION:Come on down to The Irish Times Pub  from 8:30pm to 11:30pm for  the craic!  Playing your favorite Celtic and English ballads and tunes.\n \n 
URL:https://clannamorna.ca/event/craic-tuesdays-at-irish-times-pub-24/
LOCATION:Irish Times Pub\, 1200 Goverment St\, Victoria\, BC\, V8W 1Y2\, CA
END:VEVENT
BEGIN:VEVENT
DTSTART;TZID=America/Vancouver:20210928T203000
DTEND;TZID=America/Vancouver:20210928T233000
DTSTAMP:20260422T150130
CREATED:20240122T063642Z
LAST-MODIFIED:20240122T063642Z
UID:2028-1632861000-1632871800@clannamorna.ca
SUMMARY:Craic Tuesdays at Irish Times Pub
DESCRIPTION:Come on down to The Irish Times Pub  from 8:30pm to 11:30pm for  the craic!  Playing your favorite Celtic and English ballads and tunes.\n \n 
URL:https://clannamorna.ca/event/craic-tuesdays-at-irish-times-pub-23/
LOCATION:Irish Times Pub\, 1200 Goverment St\, Victoria\, BC\, V8W 1Y2\, CA
END:VEVENT
BEGIN:VEVENT
DTSTART;TZID=America/Vancouver:20210924T170000
DTEND;TZID=America/Vancouver:20210924T230000
DTSTAMP:20260422T150130
CREATED:20240122T063509Z
LAST-MODIFIED:20240122T063509Z
UID:2027-1632502800-1632524400@clannamorna.ca
SUMMARY:Denman Island\, BC @ Earth Club Factory
DESCRIPTION:
URL:https://clannamorna.ca/event/denman-island-bc-earth-club-factory/
LOCATION:Earth Club Factory\, 3806 Denman Rd\, Denman Island\, BC\, V0R 1T0\, CA
END:VEVENT
BEGIN:VEVENT
DTSTART;TZID=America/Vancouver:20210921T203000
DTEND;TZID=America/Vancouver:20210921T233000
DTSTAMP:20260422T150130
CREATED:20240122T063509Z
LAST-MODIFIED:20240122T063509Z
UID:2026-1632256200-1632267000@clannamorna.ca
SUMMARY:Craic Tuesdays at Irish Times Pub
DESCRIPTION:Come on down to The Irish Times Pub  from 8:30pm to 11:30pm for  the craic!  Playing your favorite Celtic and English ballads and tunes.\n \n 
URL:https://clannamorna.ca/event/craic-tuesdays-at-irish-times-pub-22/
LOCATION:Irish Times Pub\, 1200 Goverment St\, Victoria\, BC\, V8W 1Y2\, CA
END:VEVENT
BEGIN:VEVENT
DTSTART;TZID=America/Vancouver:20210919T000000
DTEND;TZID=America/Vancouver:20210919T000000
DTSTAMP:20260422T150130
CREATED:20240122T063509Z
LAST-MODIFIED:20240122T063509Z
UID:2025-1632009600-1632009600@clannamorna.ca
SUMMARY:Quadra Island\, BC - Private Event
DESCRIPTION:
URL:https://clannamorna.ca/event/quadra-island-bc-private-event/
END:VEVENT
BEGIN:VEVENT
DTSTART;TZID=America/Vancouver:20210918T200000
DTEND;TZID=America/Vancouver:20210918T230000
DTSTAMP:20260422T150130
CREATED:20240122T063509Z
LAST-MODIFIED:20240122T063509Z
UID:2024-1631995200-1632006000@clannamorna.ca
SUMMARY:Art Farm - Quadra Island\, BC
DESCRIPTION:
URL:https://clannamorna.ca/event/art-farm-quadra-island-bc/
LOCATION:Art Farm\, Quadra Island\, Quadra Island\, Quadra Island\, BC\, V0P 1N0\, CA
END:VEVENT
BEGIN:VEVENT
DTSTART;TZID=America/Vancouver:20210917T190000
DTEND;TZID=America/Vancouver:20210917T210000
DTSTAMP:20260422T150130
CREATED:20240122T063509Z
LAST-MODIFIED:20240122T063509Z
UID:2023-1631905200-1631912400@clannamorna.ca
SUMMARY:Oceanside Folk Roots Club - Qualicum Beach\, BC
DESCRIPTION:
URL:https://clannamorna.ca/event/oceanside-folk-roots-club-qualicum-beach-bc/
LOCATION:Oceanside Folk/Roots Club\, 644 Memorial Ave\, Qualicum Beach\, BC\, V9K 1L8\, CA
END:VEVENT
BEGIN:VEVENT
DTSTART;TZID=America/Vancouver:20210914T203000
DTEND;TZID=America/Vancouver:20210914T233000
DTSTAMP:20260422T150130
CREATED:20240122T063308Z
LAST-MODIFIED:20240122T063308Z
UID:2022-1631651400-1631662200@clannamorna.ca
SUMMARY:Craic Tuesdays at Irish Times Pub
DESCRIPTION:Come on down to The Irish Times Pub  from 8:30pm to 11:30pm for  the craic!  Playing your favorite Celtic and English ballads and tunes.\n \n 
URL:https://clannamorna.ca/event/craic-tuesdays-at-irish-times-pub-21/
LOCATION:Irish Times Pub\, 1200 Goverment St\, Victoria\, BC\, V8W 1Y2\, CA
END:VEVENT
BEGIN:VEVENT
DTSTART;TZID=America/Vancouver:20210911T193000
DTEND;TZID=America/Vancouver:20210911T223000
DTSTAMP:20260422T150130
CREATED:20240122T063308Z
LAST-MODIFIED:20240122T063308Z
UID:2021-1631388600-1631399400@clannamorna.ca
SUMMARY:POSTPONED - Cawston Community Hall - Cawston\, BC
DESCRIPTION:POSTPONED UNTIL SUMMER 2022
URL:https://clannamorna.ca/event/postponed-cawston-community-hall-cawston-bc/
LOCATION:Cawston Hall\, 2119 Main St\, Cawston\, BC\, V0X 1C1\, CA
END:VEVENT
BEGIN:VEVENT
DTSTART;VALUE=DATE:20210910
DTEND;VALUE=DATE:20210911
DTSTAMP:20260422T150130
CREATED:20240122T063308Z
LAST-MODIFIED:20240122T063308Z
UID:2020-1631232000-1631318399@clannamorna.ca
SUMMARY:Private Wedding
DESCRIPTION:
URL:https://clannamorna.ca/event/private-wedding/
END:VEVENT
BEGIN:VEVENT
DTSTART;VALUE=DATE:20210909
DTEND;VALUE=DATE:20210910
DTSTAMP:20260422T150130
CREATED:20240122T063308Z
LAST-MODIFIED:20240122T063308Z
UID:2019-1631145600-1631231999@clannamorna.ca
SUMMARY:Red Bird Brewing - Kelowna\, BC
DESCRIPTION:
URL:https://clannamorna.ca/event/red-bird-brewing-kelowna-bc/
LOCATION:Red Bird Brewing\, 1086 Richter St\, Kelowna\, BC\, V1Y 2K5\, CA
END:VEVENT
BEGIN:VEVENT
DTSTART;TZID=America/Vancouver:20210907T203000
DTEND;TZID=America/Vancouver:20210907T233000
DTSTAMP:20260422T150130
CREATED:20240122T063308Z
LAST-MODIFIED:20240122T063308Z
UID:2018-1631046600-1631057400@clannamorna.ca
SUMMARY:Craic Tuesdays at Irish Times Pub
DESCRIPTION:Come on down to The Irish Times Pub  from 8:30pm to 11:30pm for  the craic!  Playing your favorite Celtic and English ballads and tunes.\n \n 
URL:https://clannamorna.ca/event/craic-tuesdays-at-irish-times-pub-20/
LOCATION:Irish Times Pub\, 1200 Goverment St\, Victoria\, BC\, V8W 1Y2\, CA
END:VEVENT
BEGIN:VEVENT
DTSTART;TZID=America/Vancouver:20210905T130000
DTEND;TZID=America/Vancouver:20210905T140000
DTSTAMP:20260422T150130
CREATED:20240122T063253Z
LAST-MODIFIED:20240122T063253Z
UID:2017-1630846800-1630850400@clannamorna.ca
SUMMARY:Highland Games  - Victoria\, BC
DESCRIPTION:
URL:https://clannamorna.ca/event/highland-games-victoria-bc/
LOCATION:Topaz Park\, Victoria\, Topaz Park\, Victoria\, BC\, NULL\, CA
END:VEVENT
BEGIN:VEVENT
DTSTART;TZID=America/Vancouver:20210904T183000
DTEND;TZID=America/Vancouver:20210904T233000
DTSTAMP:20260422T150130
CREATED:20240122T063253Z
LAST-MODIFIED:20240122T063253Z
UID:2016-1630780200-1630798200@clannamorna.ca
SUMMARY:Pender Island\, BC w/ Ghostly Hounds
DESCRIPTION:
URL:https://clannamorna.ca/event/pender-island-bc-w-ghostly-hounds/
LOCATION:Pender Island Legion Branch 239\, 1344 MacKinnon Rd\, Pender Island\, BC\, V0N 2M1\, CA
END:VEVENT
BEGIN:VEVENT
DTSTART;TZID=America/Vancouver:20210903T183000
DTEND;TZID=America/Vancouver:20210903T220000
DTSTAMP:20260422T150130
CREATED:20240122T063253Z
LAST-MODIFIED:20240122T063253Z
UID:2015-1630693800-1630706400@clannamorna.ca
SUMMARY:Saltspring Island\, BC - Three Moon Farm w/Ghostly Hounds
DESCRIPTION:
URL:https://clannamorna.ca/event/saltspring-island-bc-three-moon-farm-w-ghostly-hounds/
LOCATION:Three Moon Farm\, 2823 Fulford-Ganges Rd\, Saltspring Island\, BC\, V8K 1Z2\, CA
END:VEVENT
BEGIN:VEVENT
DTSTART;VALUE=DATE:20210902
DTEND;VALUE=DATE:20210903
DTSTAMP:20260422T150130
CREATED:20240122T063253Z
LAST-MODIFIED:20240122T063253Z
UID:2014-1630540800-1630627199@clannamorna.ca
SUMMARY:Galiano Island\, BC w/ Ghostly Hounds @ Yellowhouse
DESCRIPTION:
URL:https://clannamorna.ca/event/galiano-island-bc-w-ghostly-hounds-yellowhouse/
LOCATION:Yellow House\, 2517 Sturdies Bay Road\, Galiano Island\, BC\, V0N 1P0\, CA
END:VEVENT
BEGIN:VEVENT
DTSTART;TZID=America/Vancouver:20210831T203000
DTEND;TZID=America/Vancouver:20210831T233000
DTSTAMP:20260422T150130
CREATED:20240122T063253Z
LAST-MODIFIED:20240122T063253Z
UID:2013-1630441800-1630452600@clannamorna.ca
SUMMARY:Craic Tuesdays at Irish Times Pub
DESCRIPTION:Come on down to The Irish Times Pub  from 8:30pm to 11:30pm for  the craic!  Playing your favorite Celtic and English ballads and tunes.\n \n 
URL:https://clannamorna.ca/event/craic-tuesdays-at-irish-times-pub-19/
LOCATION:Irish Times Pub\, 1200 Goverment St\, Victoria\, BC\, V8W 1Y2\, CA
END:VEVENT
BEGIN:VEVENT
DTSTART;TZID=America/Vancouver:20210829T150000
DTEND;TZID=America/Vancouver:20210829T180000
DTSTAMP:20260422T150130
CREATED:20240122T063230Z
LAST-MODIFIED:20240122T063230Z
UID:2012-1630249200-1630260000@clannamorna.ca
SUMMARY:Irish Times Pub - Victoria\, BC
DESCRIPTION:
URL:https://clannamorna.ca/event/irish-times-pub-victoria-bc/
LOCATION:Irish Times Pub\, 1200 Goverment St\, Victoria\, BC\, V8W 1Y2\, CA
END:VEVENT
BEGIN:VEVENT
DTSTART;TZID=America/Vancouver:20210824T203000
DTEND;TZID=America/Vancouver:20210824T233000
DTSTAMP:20260422T150130
CREATED:20240122T063230Z
LAST-MODIFIED:20240122T063230Z
UID:2011-1629837000-1629847800@clannamorna.ca
SUMMARY:Craic Tuesdays at Irish Times Pub
DESCRIPTION:Come on down to The Irish Times Pub  from 8:30pm to 11:30pm for  the craic!  Playing your favorite Celtic and English ballads and tunes.\n \n 
URL:https://clannamorna.ca/event/craic-tuesdays-at-irish-times-pub-18/
LOCATION:Irish Times Pub\, 1200 Goverment St\, Victoria\, BC\, V8W 1Y2\, CA
END:VEVENT
END:VCALENDAR