BEGIN:VCALENDAR
VERSION:2.0
PRODID:-//Clanna Morna - ECPv6.15.13//NONSGML v1.0//EN
CALSCALE:GREGORIAN
METHOD:PUBLISH
X-WR-CALNAME:Clanna Morna
X-ORIGINAL-URL:https://clannamorna.ca
X-WR-CALDESC:Events for Clanna Morna
REFRESH-INTERVAL;VALUE=DURATION:PT1H
X-Robots-Tag:noindex
X-PUBLISHED-TTL:PT1H
BEGIN:VTIMEZONE
TZID:America/Vancouver
BEGIN:DAYLIGHT
TZOFFSETFROM:-0800
TZOFFSETTO:-0700
TZNAME:PDT
DTSTART:20220313T100000
END:DAYLIGHT
BEGIN:STANDARD
TZOFFSETFROM:-0700
TZOFFSETTO:-0800
TZNAME:PST
DTSTART:20221106T090000
END:STANDARD
BEGIN:DAYLIGHT
TZOFFSETFROM:-0800
TZOFFSETTO:-0700
TZNAME:PDT
DTSTART:20230312T100000
END:DAYLIGHT
BEGIN:STANDARD
TZOFFSETFROM:-0700
TZOFFSETTO:-0800
TZNAME:PST
DTSTART:20231105T090000
END:STANDARD
BEGIN:DAYLIGHT
TZOFFSETFROM:-0800
TZOFFSETTO:-0700
TZNAME:PDT
DTSTART:20240310T100000
END:DAYLIGHT
BEGIN:STANDARD
TZOFFSETFROM:-0700
TZOFFSETTO:-0800
TZNAME:PST
DTSTART:20241103T090000
END:STANDARD
END:VTIMEZONE
BEGIN:VEVENT
DTSTART;TZID=America/Vancouver:20231010T203000
DTEND;TZID=America/Vancouver:20231010T233000
DTSTAMP:20260419T145517
CREATED:20240122T064644Z
LAST-MODIFIED:20240122T064644Z
UID:2254-1696969800-1696980600@clannamorna.ca
SUMMARY:Craic Tuesdays at Irish Times Pub
DESCRIPTION:Come on down to The Irish Times Pub  from 8:30pm to 11:30pm for  the craic!  Playing your favorite Celtic and English ballads and tunes.\n \n 
URL:https://clannamorna.ca/event/craic-tuesdays-at-irish-times-pub-111/
LOCATION:Irish Times Pub\, 1200 Goverment St\, Victoria\, BC\, V8W 1Y2\, CA
END:VEVENT
BEGIN:VEVENT
DTSTART;TZID=America/Vancouver:20230926T203000
DTEND;TZID=America/Vancouver:20230926T233000
DTSTAMP:20260419T145517
CREATED:20240122T064644Z
LAST-MODIFIED:20240122T064644Z
UID:2253-1695760200-1695771000@clannamorna.ca
SUMMARY:Craic Tuesdays at Irish Times Pub
DESCRIPTION:Come on down to The Irish Times Pub  from 8:30pm to 11:30pm for  the craic!  Playing your favorite Celtic and English ballads and tunes.\n \n 
URL:https://clannamorna.ca/event/craic-tuesdays-at-irish-times-pub-110/
LOCATION:Irish Times Pub\, 1200 Goverment St\, Victoria\, BC\, V8W 1Y2\, CA
END:VEVENT
BEGIN:VEVENT
DTSTART;VALUE=DATE:20230922
DTEND;VALUE=DATE:20230923
DTSTAMP:20260419T145517
CREATED:20240122T064644Z
LAST-MODIFIED:20240122T064644Z
UID:2252-1695340800-1695427199@clannamorna.ca
SUMMARY:Riot Brewing\, Chemainus - CANCELLED (illness)
DESCRIPTION:
URL:https://clannamorna.ca/event/riot-brewing-chemainus-cancelled-illness/
LOCATION:Riot Brewing\, Chemainus\, 101A\, 3055 Oak St\, Chemainus\, BC\, NULL\, CA
END:VEVENT
BEGIN:VEVENT
DTSTART;VALUE=DATE:20230916
DTEND;VALUE=DATE:20230917
DTSTAMP:20260419T145517
CREATED:20240122T064644Z
LAST-MODIFIED:20240122T064644Z
UID:2251-1694822400-1694908799@clannamorna.ca
SUMMARY:Private Event
DESCRIPTION:
URL:https://clannamorna.ca/event/private-event-19/
LOCATION:BC
END:VEVENT
BEGIN:VEVENT
DTSTART;TZID=America/Vancouver:20230915T180000
DTEND;TZID=America/Vancouver:20230915T220000
DTSTAMP:20260419T145517
CREATED:20240122T064629Z
LAST-MODIFIED:20240122T064629Z
UID:2249-1694800800-1694815200@clannamorna.ca
SUMMARY:A Celtic Party - Clanna Morna and the Slieves live at Allium Co-op Farm in Duncan
DESCRIPTION:
URL:https://clannamorna.ca/event/a-celtic-party-clanna-morna-and-the-slieves-live-at-allium-co-op-farm-in-duncan/
LOCATION:Allium Co-op Farm Duncan\, 5984 Castley Rd\, Duncan\, BC\, NULL\, CA
END:VEVENT
BEGIN:VEVENT
DTSTART;TZID=America/Vancouver:20230912T203000
DTEND;TZID=America/Vancouver:20230912T233000
DTSTAMP:20260419T145517
CREATED:20240122T064629Z
LAST-MODIFIED:20240122T064629Z
UID:2248-1694550600-1694561400@clannamorna.ca
SUMMARY:Craic Tuesdays at Irish Times Pub
DESCRIPTION:Come on down to The Irish Times Pub  from 8:30pm to 11:30pm for  the craic!  Playing your favorite Celtic and English ballads and tunes.\n \n 
URL:https://clannamorna.ca/event/craic-tuesdays-at-irish-times-pub-109/
LOCATION:Irish Times Pub\, 1200 Goverment St\, Victoria\, BC\, V8W 1Y2\, CA
END:VEVENT
BEGIN:VEVENT
DTSTART;VALUE=DATE:20230910
DTEND;VALUE=DATE:20230911
DTSTAMP:20260419T145517
CREATED:20240122T064629Z
LAST-MODIFIED:20240122T064629Z
UID:2247-1694304000-1694390399@clannamorna.ca
SUMMARY:In Sight Festival\, Colwood (Fort Rodd Hill)
DESCRIPTION:https://www.artsandculturecolwood.com/events\n 
URL:https://clannamorna.ca/event/in-sight-festival-colwood-fort-rodd-hill/
LOCATION:Fort Rodd Hill\, Fort Rodd Hill\, Colwood\, BC\, NULL\, CA
END:VEVENT
BEGIN:VEVENT
DTSTART;VALUE=DATE:20230909
DTEND;VALUE=DATE:20230910
DTSTAMP:20260419T145517
CREATED:20240122T064629Z
LAST-MODIFIED:20240122T064629Z
UID:2246-1694217600-1694303999@clannamorna.ca
SUMMARY:Private Event
DESCRIPTION:
URL:https://clannamorna.ca/event/private-event-18/
LOCATION:BC
END:VEVENT
BEGIN:VEVENT
DTSTART;VALUE=DATE:20230903
DTEND;VALUE=DATE:20230904
DTSTAMP:20260419T145517
CREATED:20240122T064629Z
LAST-MODIFIED:20240122T064629Z
UID:2245-1693699200-1693785599@clannamorna.ca
SUMMARY:Oliver @ Covert Farms - CANCELLED (wildfires)
DESCRIPTION:
URL:https://clannamorna.ca/event/oliver-covert-farms-cancelled-wildfires/
LOCATION:Covert Farms – Oliver\, BC\, 300 Covert Pl\, Oliver\, BC\, NULL\, CA
END:VEVENT
BEGIN:VEVENT
DTSTART;VALUE=DATE:20230902
DTEND;VALUE=DATE:20230903
DTSTAMP:20260419T145517
CREATED:20240122T064622Z
LAST-MODIFIED:20240122T064622Z
UID:2244-1693612800-1693699199@clannamorna.ca
SUMMARY:Kelowna Yacht Club - CANCELLED (wildfires)
DESCRIPTION:
URL:https://clannamorna.ca/event/kelowna-yacht-club-cancelled-wildfires/
LOCATION:Kelowna Yacht Club\, 1370 Water St #1\, Kelowna\, BC\, V1Y 1J1\, CA
END:VEVENT
BEGIN:VEVENT
DTSTART;TZID=America/Vancouver:20230901T110000
DTEND;TZID=America/Vancouver:20230901T140000
DTSTAMP:20260419T145517
CREATED:20240122T064622Z
LAST-MODIFIED:20240122T064622Z
UID:2243-1693566000-1693576800@clannamorna.ca
SUMMARY:Private Event
DESCRIPTION:
URL:https://clannamorna.ca/event/private-event-17/
LOCATION:BC
END:VEVENT
BEGIN:VEVENT
DTSTART;VALUE=DATE:20230901
DTEND;VALUE=DATE:20230902
DTSTAMP:20260419T145517
CREATED:20240122T064622Z
LAST-MODIFIED:20240122T064622Z
UID:2242-1693526400-1693612799@clannamorna.ca
SUMMARY:Keremeos @ The Grist Mill - CANCELLED (wildfires)
DESCRIPTION:
URL:https://clannamorna.ca/event/keremeos-the-grist-mill-cancelled-wildfires/
LOCATION:The Grist Mill\, 2691 Upper Bench Rd\, Keremeos\, BC\, V0X 1N4\, CA
END:VEVENT
BEGIN:VEVENT
DTSTART;TZID=America/Vancouver:20230831T110000
DTEND;TZID=America/Vancouver:20230831T140000
DTSTAMP:20260419T145517
CREATED:20240122T064622Z
LAST-MODIFIED:20240122T064622Z
UID:2241-1693479600-1693490400@clannamorna.ca
SUMMARY:Private Event
DESCRIPTION:
URL:https://clannamorna.ca/event/private-event-16/
LOCATION:BC
END:VEVENT
BEGIN:VEVENT
DTSTART;VALUE=DATE:20230830
DTEND;VALUE=DATE:20230831
DTSTAMP:20260419T145517
CREATED:20240122T064622Z
LAST-MODIFIED:20240122T064622Z
UID:2240-1693353600-1693439999@clannamorna.ca
SUMMARY:Invermere - Locals Live Concert Series @ Pothole Park - CANCELLED (wildfires)
DESCRIPTION:
URL:https://clannamorna.ca/event/invermere-locals-live-concert-series-pothole-park-cancelled-wildfires/
LOCATION:Pothole Park\, 639 7th Ave\, Athalmer\, BC\, V0A 1A0\, CA
END:VEVENT
BEGIN:VEVENT
DTSTART;VALUE=DATE:20230826
DTEND;VALUE=DATE:20230828
DTSTAMP:20260419T145517
CREATED:20240122T064614Z
LAST-MODIFIED:20240122T064614Z
UID:2239-1693008000-1693180799@clannamorna.ca
SUMMARY:Richmond Maritime Festival @ Britannia Shipyards
DESCRIPTION:
URL:https://clannamorna.ca/event/richmond-maritime-festival-britannia-shipyards/
LOCATION:Britannia Shipyards\, 5180 Westwater Dr\, Richmond\, BC\, V7E 6P3\, CA
END:VEVENT
BEGIN:VEVENT
DTSTART;VALUE=DATE:20230825
DTEND;VALUE=DATE:20230826
DTSTAMP:20260419T145517
CREATED:20240122T064614Z
LAST-MODIFIED:20240122T064614Z
UID:2238-1692921600-1693007999@clannamorna.ca
SUMMARY:Bellingham\, WA @ Bellewood Farms
DESCRIPTION:
URL:https://clannamorna.ca/event/bellingham-wa-bellewood-farms/
LOCATION:Bellewood Farms & Distillery\, 6140 WA-539 #3\, Lynden\, WA\, 98264\, US
END:VEVENT
BEGIN:VEVENT
DTSTART;TZID=America/Vancouver:20230821T133000
DTEND;TZID=America/Vancouver:20230821T153000
DTSTAMP:20260419T145517
CREATED:20240122T064614Z
LAST-MODIFIED:20240122T064614Z
UID:2237-1692624600-1692631800@clannamorna.ca
SUMMARY:Cameron Bandshell in Beacon Hill Park
DESCRIPTION:
URL:https://clannamorna.ca/event/cameron-bandshell-in-beacon-hill-park/
LOCATION:Cameron Bandshell\, Beacon Hill Park\, Victoria BC\, Cameron Bandshell\, Victoria\, BC\, NULL\, CA
END:VEVENT
BEGIN:VEVENT
DTSTART;VALUE=DATE:20230806
DTEND;VALUE=DATE:20230807
DTSTAMP:20260419T145517
CREATED:20240122T064614Z
LAST-MODIFIED:20240122T064614Z
UID:2236-1691280000-1691366399@clannamorna.ca
SUMMARY:Fossil Beach Farms on Hornby Island
DESCRIPTION:
URL:https://clannamorna.ca/event/fossil-beach-farms-on-hornby-island/
LOCATION:Fossil Beach Farm\, 750 Savoie Rd\, Hornby Island\, BC\, V0R 1Z0\, CA
END:VEVENT
BEGIN:VEVENT
DTSTART;VALUE=DATE:20230805
DTEND;VALUE=DATE:20230806
DTSTAMP:20260419T145517
CREATED:20240122T064614Z
LAST-MODIFIED:20240122T064614Z
UID:2235-1691193600-1691279999@clannamorna.ca
SUMMARY:Private Event
DESCRIPTION:
URL:https://clannamorna.ca/event/private-event-15/
LOCATION:BC
END:VEVENT
BEGIN:VEVENT
DTSTART;VALUE=DATE:20230804
DTEND;VALUE=DATE:20230805
DTSTAMP:20260419T145517
CREATED:20240122T064548Z
LAST-MODIFIED:20240122T064548Z
UID:2234-1691107200-1691193599@clannamorna.ca
SUMMARY:Earth Club Factory - Denman Island
DESCRIPTION:
URL:https://clannamorna.ca/event/earth-club-factory-denman-island/
LOCATION:Earth Club Factory\, 3806 Denman Rd\, Denman Island\, BC\, V0R 1T0\, CA
END:VEVENT
BEGIN:VEVENT
DTSTART;VALUE=DATE:20230803
DTEND;VALUE=DATE:20230804
DTSTAMP:20260419T145517
CREATED:20240122T064548Z
LAST-MODIFIED:20240122T064548Z
UID:2233-1691020800-1691107199@clannamorna.ca
SUMMARY:Sidney Market
DESCRIPTION:
URL:https://clannamorna.ca/event/sidney-market/
LOCATION:Mary Winspear Centre\, Sidney\, 2243 Beacon Ave\, Sidney\, BC\, NULL\, CA
END:VEVENT
BEGIN:VEVENT
DTSTART;TZID=America/Vancouver:20230801T203000
DTEND;TZID=America/Vancouver:20230801T233000
DTSTAMP:20260419T145517
CREATED:20240122T064548Z
LAST-MODIFIED:20240122T064548Z
UID:2232-1690921800-1690932600@clannamorna.ca
SUMMARY:Craic Tuesdays at Irish Times Pub
DESCRIPTION:Come on down to The Irish Times Pub  from 8:30pm to 11:30pm for  the craic!  Playing your favorite Celtic and English ballads and tunes.\n \n 
URL:https://clannamorna.ca/event/craic-tuesdays-at-irish-times-pub-108/
LOCATION:Irish Times Pub\, 1200 Goverment St\, Victoria\, BC\, V8W 1Y2\, CA
END:VEVENT
BEGIN:VEVENT
DTSTART;VALUE=DATE:20230729
DTEND;VALUE=DATE:20230730
DTSTAMP:20260419T145517
CREATED:20240122T064548Z
LAST-MODIFIED:20240122T064548Z
UID:2231-1690588800-1690675199@clannamorna.ca
SUMMARY:Western Provinces Tour: Nelson @ The Royal Nelson
DESCRIPTION:
URL:https://clannamorna.ca/event/western-provinces-tour-nelson-the-royal-nelson/
LOCATION:The Royal\, Nelson BC\, 330 Baker St\, Nelson\, BC\, NULL\, CA
END:VEVENT
BEGIN:VEVENT
DTSTART;VALUE=DATE:20230728
DTEND;VALUE=DATE:20230729
DTSTAMP:20260419T145517
CREATED:20240122T064548Z
LAST-MODIFIED:20240122T064548Z
UID:2230-1690502400-1690588799@clannamorna.ca
SUMMARY:Western Provinces Tour: Lethbridge @ The House
DESCRIPTION:
URL:https://clannamorna.ca/event/western-provinces-tour-lethbridge-the-house/
LOCATION:BC
END:VEVENT
BEGIN:VEVENT
DTSTART;VALUE=DATE:20230727
DTEND;VALUE=DATE:20230728
DTSTAMP:20260419T145517
CREATED:20240122T064533Z
LAST-MODIFIED:20240122T064533Z
UID:2228-1690416000-1690502399@clannamorna.ca
SUMMARY:Western Provinces Tour: Calgary @ The Attic (Inglewood)
DESCRIPTION:
URL:https://clannamorna.ca/event/western-provinces-tour-calgary-the-attic-inglewood/
LOCATION:The Attic (Calgary)\, 1413 9 Ave SE\, Calgary\, AB\, T2G 0T4\, CA
END:VEVENT
BEGIN:VEVENT
DTSTART;VALUE=DATE:20230726
DTEND;VALUE=DATE:20230727
DTSTAMP:20260419T145517
CREATED:20240122T064532Z
LAST-MODIFIED:20240122T064532Z
UID:2227-1690329600-1690415999@clannamorna.ca
SUMMARY:Western Provinces Tour: Edmonton @ BLAKBAR Tavern
DESCRIPTION:
URL:https://clannamorna.ca/event/western-provinces-tour-edmonton-blakbar-tavern/
LOCATION:BLAKBAR Tavern\, 10762 82 Ave NW\, Edmonton\, AB\, T6E 2A8\, CA
END:VEVENT
BEGIN:VEVENT
DTSTART;VALUE=DATE:20230721
DTEND;VALUE=DATE:20230722
DTSTAMP:20260419T145517
CREATED:20240122T064532Z
LAST-MODIFIED:20240122T064532Z
UID:2226-1689897600-1689983999@clannamorna.ca
SUMMARY:Western Provinces Tour: Peace Valley Folk Festival
DESCRIPTION:
URL:https://clannamorna.ca/event/western-provinces-tour-peace-valley-folk-festival/
LOCATION:Peace Valley Folk Festival\, 10801 Dudley Dr\, Hudson's Hope\, BC\, NULL\, CA
END:VEVENT
BEGIN:VEVENT
DTSTART;VALUE=DATE:20230720
DTEND;VALUE=DATE:20230721
DTSTAMP:20260419T145517
CREATED:20240122T064532Z
LAST-MODIFIED:20240122T064724Z
UID:2225-1689811200-1689897599@clannamorna.ca
SUMMARY:Western Provinces Tour: Prince George @ Nancy O's
DESCRIPTION:
URL:https://clannamorna.ca/event/western-provinces-tour-prince-george-nancy-os/
LOCATION:Nancy O’s\, 1261 3rd Ave\, Prince George\, BC\, V2L 3E6\, CA
END:VEVENT
BEGIN:VEVENT
DTSTART;VALUE=DATE:20230719
DTEND;VALUE=DATE:20230720
DTSTAMP:20260419T145517
CREATED:20240122T064532Z
LAST-MODIFIED:20240122T064532Z
UID:2224-1689724800-1689811199@clannamorna.ca
SUMMARY:Western Provinces Tour: Kamloops @ The London Creative
DESCRIPTION:
URL:https://clannamorna.ca/event/western-provinces-tour-kamloops-the-london-creative/
LOCATION:The London Creative\, 260 3 Ave\, Kamloops\, BC\, V2C 3M3\, Canada
END:VEVENT
BEGIN:VEVENT
DTSTART;TZID=America/Vancouver:20230718T203000
DTEND;TZID=America/Vancouver:20230718T233000
DTSTAMP:20260419T145517
CREATED:20240122T064420Z
LAST-MODIFIED:20240122T064420Z
UID:2223-1689712200-1689723000@clannamorna.ca
SUMMARY:Craic Tuesdays at Irish Times Pub
DESCRIPTION:Come on down to The Irish Times Pub  from 8:30pm to 11:30pm for  the craic!  Playing your favorite Celtic and English ballads and tunes.\n \n 
URL:https://clannamorna.ca/event/craic-tuesdays-at-irish-times-pub-107/
LOCATION:Irish Times Pub\, 1200 Goverment St\, Victoria\, BC\, V8W 1Y2\, CA
END:VEVENT
END:VCALENDAR