BEGIN:VCALENDAR
VERSION:2.0
PRODID:-//Clanna Morna - ECPv6.15.20//NONSGML v1.0//EN
CALSCALE:GREGORIAN
METHOD:PUBLISH
X-WR-CALNAME:Clanna Morna
X-ORIGINAL-URL:https://clannamorna.ca
X-WR-CALDESC:Events for Clanna Morna
REFRESH-INTERVAL;VALUE=DURATION:PT1H
X-Robots-Tag:noindex
X-PUBLISHED-TTL:PT1H
BEGIN:VTIMEZONE
TZID:America/Vancouver
BEGIN:DAYLIGHT
TZOFFSETFROM:-0800
TZOFFSETTO:-0700
TZNAME:PDT
DTSTART:20210314T100000
END:DAYLIGHT
BEGIN:STANDARD
TZOFFSETFROM:-0700
TZOFFSETTO:-0800
TZNAME:PST
DTSTART:20211107T090000
END:STANDARD
BEGIN:DAYLIGHT
TZOFFSETFROM:-0800
TZOFFSETTO:-0700
TZNAME:PDT
DTSTART:20220313T100000
END:DAYLIGHT
BEGIN:STANDARD
TZOFFSETFROM:-0700
TZOFFSETTO:-0800
TZNAME:PST
DTSTART:20221106T090000
END:STANDARD
BEGIN:DAYLIGHT
TZOFFSETFROM:-0800
TZOFFSETTO:-0700
TZNAME:PDT
DTSTART:20230312T100000
END:DAYLIGHT
BEGIN:STANDARD
TZOFFSETFROM:-0700
TZOFFSETTO:-0800
TZNAME:PST
DTSTART:20231105T090000
END:STANDARD
END:VTIMEZONE
BEGIN:VEVENT
DTSTART;VALUE=DATE:20220506
DTEND;VALUE=DATE:20220507
DTSTAMP:20260422T150703
CREATED:20240122T063848Z
LAST-MODIFIED:20240122T063848Z
UID:2090-1651795200-1651881599@clannamorna.ca
SUMMARY:Oceanside Folk Roots Club - Qualicum Beach\, BC
DESCRIPTION:
URL:https://clannamorna.ca/event/oceanside-folk-roots-club-qualicum-beach-bc-2/
LOCATION:Oceanside Folk/Roots Club\, 644 Memorial Ave\, Qualicum Beach\, BC\, V9K 1L8\, CA
END:VEVENT
BEGIN:VEVENT
DTSTART;TZID=America/Vancouver:20220505T190000
DTEND;TZID=America/Vancouver:20220505T220000
DTSTAMP:20260422T150703
CREATED:20240122T063848Z
LAST-MODIFIED:20240122T063848Z
UID:2089-1651777200-1651788000@clannamorna.ca
SUMMARY:Nanaimo - Harbour City House Concerts
DESCRIPTION:https://www.facebook.com/events/754760932158179/?ref=newsfeed\n 
URL:https://clannamorna.ca/event/nanaimo-harbour-city-house-concerts/
LOCATION:Harbour City House Concert – 421 Milton St\, Nanaimo\, 421 Milton St\, Nanaimo\, NULL\, NULL\, CA
END:VEVENT
BEGIN:VEVENT
DTSTART;TZID=America/Vancouver:20220503T203000
DTEND;TZID=America/Vancouver:20220503T233000
DTSTAMP:20260422T150703
CREATED:20240122T063848Z
LAST-MODIFIED:20240122T063848Z
UID:2088-1651609800-1651620600@clannamorna.ca
SUMMARY:Craic Tuesdays at Irish Times Pub
DESCRIPTION:Come on down to The Irish Times Pub  from 8:30pm to 11:30pm for  the craic!  Playing your favorite Celtic and English ballads and tunes.\n \n 
URL:https://clannamorna.ca/event/craic-tuesdays-at-irish-times-pub-55/
LOCATION:Irish Times Pub\, 1200 Goverment St\, Victoria\, BC\, V8W 1Y2\, CA
END:VEVENT
BEGIN:VEVENT
DTSTART;TZID=America/Vancouver:20220501T180000
DTEND;TZID=America/Vancouver:20220501T230000
DTSTAMP:20260422T150703
CREATED:20240122T063836Z
LAST-MODIFIED:20240122T063836Z
UID:2087-1651428000-1651446000@clannamorna.ca
SUMMARY:Protection Island
DESCRIPTION:We are so lucky to present an amazing night of Celtic\, folk\, blues and roots with musicians from BC and Alberta. Our lineup is:\n\nAine MacDonald (Traditional Celtic Folk)\nDavid Essig (Our local legend)\nBen Sures Trio (Acoustic Roots)\nClanna Morna (Celtic)\n\nTickets are by $20 donation to the Lion’s Club- or hey\, you can donate more if you like! Please email me at summer.laurie@gmail.com to make your donation and reserve your spot.
URL:https://clannamorna.ca/event/protection-island/
LOCATION:Beacon House (Protection Island Lions Club)\, 208 Colvilleton Trail\, Nanaimo\, BC\, NULL\, CA
END:VEVENT
BEGIN:VEVENT
DTSTART;TZID=America/Vancouver:20220429T200000
DTEND;TZID=America/Vancouver:20220429T220000
DTSTAMP:20260422T150703
CREATED:20240122T063836Z
LAST-MODIFIED:20240122T063836Z
UID:2086-1651262400-1651269600@clannamorna.ca
SUMMARY:Saltspring Island - The Mateada Lounge
DESCRIPTION:Friday\, April 29\, 2022\n8:00 PM  10:00 PM\nmateada (map)\n\n\n\n\n\n\n\n$15 Advance\, $20 Door \nSeasoned celtic-traditional quartet brings their spectacular set to Mateada! \nThis is an all-ages event.
URL:https://clannamorna.ca/event/saltspring-island-the-mateada-lounge/
LOCATION:The Mateada\, Saltspring Island\, 150 Fulford-Ganges Rd\, Saltspring Island\, NULL\, NULL\, CA
END:VEVENT
BEGIN:VEVENT
DTSTART;TZID=America/Vancouver:20220426T203000
DTEND;TZID=America/Vancouver:20220426T233000
DTSTAMP:20260422T150703
CREATED:20240122T063836Z
LAST-MODIFIED:20240122T063836Z
UID:2085-1651005000-1651015800@clannamorna.ca
SUMMARY:Craic Tuesdays at Irish Times Pub
DESCRIPTION:Come on down to The Irish Times Pub  from 8:30pm to 11:30pm for  the craic!  Playing your favorite Celtic and English ballads and tunes.\n \n 
URL:https://clannamorna.ca/event/craic-tuesdays-at-irish-times-pub-54/
LOCATION:Irish Times Pub\, 1200 Goverment St\, Victoria\, BC\, V8W 1Y2\, CA
END:VEVENT
BEGIN:VEVENT
DTSTART;TZID=America/Vancouver:20220423T210000
DTEND;TZID=America/Vancouver:20220423T235900
DTSTAMP:20260422T150703
CREATED:20240122T063836Z
LAST-MODIFIED:20240122T063836Z
UID:2084-1650747600-1650758340@clannamorna.ca
SUMMARY:Powell River - Wildwood Public House 2nd anniversary!
DESCRIPTION:@TheWildwoodPub\n5987 Lund St\, PowellRiver\, BC\nShow @ 9PM-11PM\nTickets $20\nTickets available at Base Camp\, Base Camp Outpost\, and at the Pub
URL:https://clannamorna.ca/event/powell-river-wildwood-public-house-2nd-anniversary/
LOCATION:Wildwood Public House – Powell River\, 5987 Lund St\, Powell River\, BC\, V8A 4S9\, CA
END:VEVENT
BEGIN:VEVENT
DTSTART;TZID=America/Vancouver:20220422T200000
DTEND;TZID=America/Vancouver:20220422T230000
DTSTAMP:20260422T150703
CREATED:20240122T063836Z
LAST-MODIFIED:20240122T063836Z
UID:2083-1650657600-1650668400@clannamorna.ca
SUMMARY:Pender Harbour Legion\, Sunshine Coast
DESCRIPTION:
URL:https://clannamorna.ca/event/pender-harbour-legion-sunshine-coast/
LOCATION:Pender Harbour Legion #112\, 12829 Lillies Lake Rd\, Madeira Park\, BC\, NULL\, CA
END:VEVENT
BEGIN:VEVENT
DTSTART;TZID=America/Vancouver:20220419T203000
DTEND;TZID=America/Vancouver:20220419T233000
DTSTAMP:20260422T150703
CREATED:20240122T063834Z
LAST-MODIFIED:20240122T063834Z
UID:2082-1650400200-1650411000@clannamorna.ca
SUMMARY:Craic Tuesdays at Irish Times Pub
DESCRIPTION:Come on down to The Irish Times Pub  from 8:30pm to 11:30pm for  the craic!  Playing your favorite Celtic and English ballads and tunes.\n \n 
URL:https://clannamorna.ca/event/craic-tuesdays-at-irish-times-pub-53/
LOCATION:Irish Times Pub\, 1200 Goverment St\, Victoria\, BC\, V8W 1Y2\, CA
END:VEVENT
BEGIN:VEVENT
DTSTART;TZID=America/Vancouver:20220417T210000
DTEND;TZID=America/Vancouver:20220418T003000
DTSTAMP:20260422T150703
CREATED:20240122T063834Z
LAST-MODIFIED:20240122T063834Z
UID:2081-1650229200-1650241800@clannamorna.ca
SUMMARY:St. Practice day at the Irish Times
DESCRIPTION:It’s a rehearsal for the audience. Tune up your skills on April 17th with us!
URL:https://clannamorna.ca/event/st-practice-day-at-the-irish-times/
LOCATION:Irish Times Pub\, 1200 Goverment St\, Victoria\, BC\, V8W 1Y2\, CA
END:VEVENT
BEGIN:VEVENT
DTSTART;TZID=America/Vancouver:20220416T200000
DTEND;TZID=America/Vancouver:20220416T230000
DTSTAMP:20260422T150703
CREATED:20240122T063834Z
LAST-MODIFIED:20240122T063834Z
UID:2080-1650139200-1650150000@clannamorna.ca
SUMMARY:Quadra Island - Heriot Bay Inn
DESCRIPTION:$20 tickets.
URL:https://clannamorna.ca/event/quadra-island-heriot-bay-inn/
LOCATION:Heriot Bay Inn\, Quadra Island\, 4Q2Q+WV\, Heriot Bay\, BC\, V0P 1H0\, CA
END:VEVENT
BEGIN:VEVENT
DTSTART;VALUE=DATE:20220415
DTEND;VALUE=DATE:20220416
DTSTAMP:20260422T150703
CREATED:20240122T063834Z
LAST-MODIFIED:20240122T063834Z
UID:2079-1649980800-1650067199@clannamorna.ca
SUMMARY:Private Event
DESCRIPTION:
URL:https://clannamorna.ca/event/private-event-4/
LOCATION:BC
END:VEVENT
BEGIN:VEVENT
DTSTART;TZID=America/Vancouver:20220412T203000
DTEND;TZID=America/Vancouver:20220412T233000
DTSTAMP:20260422T150703
CREATED:20240122T063834Z
LAST-MODIFIED:20240122T063834Z
UID:2078-1649795400-1649806200@clannamorna.ca
SUMMARY:Craic Tuesdays at Irish Times Pub
DESCRIPTION:Come on down to The Irish Times Pub  from 8:30pm to 11:30pm for  the craic!  Playing your favorite Celtic and English ballads and tunes.\n \n 
URL:https://clannamorna.ca/event/craic-tuesdays-at-irish-times-pub-52/
LOCATION:Irish Times Pub\, 1200 Goverment St\, Victoria\, BC\, V8W 1Y2\, CA
END:VEVENT
BEGIN:VEVENT
DTSTART;TZID=America/Vancouver:20220408T183000
DTEND;TZID=America/Vancouver:20220408T210000
DTSTAMP:20260422T150703
CREATED:20240122T063820Z
LAST-MODIFIED:20240122T063820Z
UID:2077-1649442600-1649451600@clannamorna.ca
SUMMARY:Riot Brewing - Chemainus\, BC
DESCRIPTION:
URL:https://clannamorna.ca/event/riot-brewing-chemainus-bc/
LOCATION:Riot Brewing\, Chemainus\, 101A\, 3055 Oak St\, Chemainus\, BC\, NULL\, CA
END:VEVENT
BEGIN:VEVENT
DTSTART;TZID=America/Vancouver:20220405T203000
DTEND;TZID=America/Vancouver:20220405T233000
DTSTAMP:20260422T150703
CREATED:20240122T063820Z
LAST-MODIFIED:20240122T063820Z
UID:2076-1649190600-1649201400@clannamorna.ca
SUMMARY:Craic Tuesdays at Irish Times Pub
DESCRIPTION:Come on down to The Irish Times Pub  from 8:30pm to 11:30pm for  the craic!  Playing your favorite Celtic and English ballads and tunes.\n \n 
URL:https://clannamorna.ca/event/craic-tuesdays-at-irish-times-pub-51/
LOCATION:Irish Times Pub\, 1200 Goverment St\, Victoria\, BC\, V8W 1Y2\, CA
END:VEVENT
BEGIN:VEVENT
DTSTART;TZID=America/Vancouver:20220402T170000
DTEND;TZID=America/Vancouver:20220402T200000
DTSTAMP:20260422T150703
CREATED:20240122T063820Z
LAST-MODIFIED:20240122T063820Z
UID:2075-1648918800-1648929600@clannamorna.ca
SUMMARY:Pender Island - HUB at Hope Bay evening show
DESCRIPTION: \nDetails TBC
URL:https://clannamorna.ca/event/pender-island-hub-at-hope-bay-evening-show/
LOCATION:HUB at Hope Bay\, 4301 Bedwell Harbour Road\, Pender Island\, BC\, NULL\, CA
END:VEVENT
BEGIN:VEVENT
DTSTART;TZID=America/Vancouver:20220329T203000
DTEND;TZID=America/Vancouver:20220329T233000
DTSTAMP:20260422T150703
CREATED:20240122T063820Z
LAST-MODIFIED:20240122T063820Z
UID:2074-1648585800-1648596600@clannamorna.ca
SUMMARY:Craic Tuesdays at Irish Times Pub
DESCRIPTION:Come on down to The Irish Times Pub  from 8:30pm to 11:30pm for  the craic!  Playing your favorite Celtic and English ballads and tunes.\n \n 
URL:https://clannamorna.ca/event/craic-tuesdays-at-irish-times-pub-50/
LOCATION:Irish Times Pub\, 1200 Goverment St\, Victoria\, BC\, V8W 1Y2\, CA
END:VEVENT
BEGIN:VEVENT
DTSTART;VALUE=DATE:20220326
DTEND;VALUE=DATE:20220327
DTSTAMP:20260422T150703
CREATED:20240122T063820Z
LAST-MODIFIED:20240122T063820Z
UID:2073-1648252800-1648339199@clannamorna.ca
SUMMARY:Private Event
DESCRIPTION:
URL:https://clannamorna.ca/event/private-event-3/
LOCATION:BC
END:VEVENT
BEGIN:VEVENT
DTSTART;TZID=America/Vancouver:20220325T163000
DTEND;TZID=America/Vancouver:20220325T193000
DTSTAMP:20260422T150703
CREATED:20240122T063746Z
LAST-MODIFIED:20240122T063746Z
UID:2072-1648225800-1648236600@clannamorna.ca
SUMMARY:Irish Times happy hour - Trio performance
DESCRIPTION:Join us for a special happy hour performance.
URL:https://clannamorna.ca/event/irish-times-happy-hour-trio-performance/
LOCATION:Irish Times Pub\, 1200 Goverment St\, Victoria\, BC\, V8W 1Y2\, CA
END:VEVENT
BEGIN:VEVENT
DTSTART;TZID=America/Vancouver:20220322T203000
DTEND;TZID=America/Vancouver:20220322T233000
DTSTAMP:20260422T150703
CREATED:20240122T063746Z
LAST-MODIFIED:20240122T063746Z
UID:2071-1647981000-1647991800@clannamorna.ca
SUMMARY:Craic Tuesdays at Irish Times Pub
DESCRIPTION:Come on down to The Irish Times Pub  from 8:30pm to 11:30pm for  the craic!  Playing your favorite Celtic and English ballads and tunes.\n \n 
URL:https://clannamorna.ca/event/craic-tuesdays-at-irish-times-pub-49/
LOCATION:Irish Times Pub\, 1200 Goverment St\, Victoria\, BC\, V8W 1Y2\, CA
END:VEVENT
BEGIN:VEVENT
DTSTART;TZID=America/Vancouver:20220320T120000
DTEND;TZID=America/Vancouver:20220320T130000
DTSTAMP:20260422T150703
CREATED:20240122T063746Z
LAST-MODIFIED:20240122T063746Z
UID:2070-1647777600-1647781200@clannamorna.ca
SUMMARY:Craigflower Music Festival - Victoria Highland Games Live Stream Event
DESCRIPTION:Watch live here! We’ll be on at noon.
URL:https://clannamorna.ca/event/craigflower-music-festival-victoria-highland-games-live-stream-event/
LOCATION:BC
END:VEVENT
BEGIN:VEVENT
DTSTART;TZID=America/Vancouver:20220319T163000
DTEND;TZID=America/Vancouver:20220319T180000
DTSTAMP:20260422T150703
CREATED:20240122T063746Z
LAST-MODIFIED:20240122T063746Z
UID:2069-1647707400-1647712800@clannamorna.ca
SUMMARY:Celtic Fest Vancouver
DESCRIPTION:Catch us at 4:30pm at Vancouver Celtic Fest on the Main Stage!
URL:https://clannamorna.ca/event/celtic-fest-vancouver/
LOCATION:Vancouver Art Gallery North Square\, 750 Hornby St\, Vancouver\, BC\, V6Z 2H7\, CA
END:VEVENT
BEGIN:VEVENT
DTSTART;TZID=America/Vancouver:20220318T190000
DTEND;TZID=America/Vancouver:20220318T210000
DTSTAMP:20260422T150703
CREATED:20240122T063746Z
LAST-MODIFIED:20240122T063746Z
UID:2068-1647630000-1647637200@clannamorna.ca
SUMMARY:Nanaimo - Legion #10 St. Patrick's Day Party
DESCRIPTION:  \n  \n  \nDoors @ 7pm – Music starts at 7:30pm. \nTickets $12 \n129 Harewood Rd\, Nanaimo\, BC V9R 2Y9 \nhttps://www.facebook.com/events/768930900746442/
URL:https://clannamorna.ca/event/nanaimo-legion-10-st-patricks-day-party/
LOCATION:Nanaimo Legion #10\, Nanaimo Legion #10\, Nanaimo\, BC\, NULL\, CA
END:VEVENT
BEGIN:VEVENT
DTSTART;TZID=America/Vancouver:20220317T163000
DTEND;TZID=America/Vancouver:20220317T200000
DTSTAMP:20260422T150703
CREATED:20240122T063735Z
LAST-MODIFIED:20240122T063735Z
UID:2066-1647534600-1647547200@clannamorna.ca
SUMMARY:St. Patrick's Day - Early Evening at the Irish Times
DESCRIPTION:The usual place… but a bit earlier than usual. Come celebrate whatever you happen to celebrate on March 17th!
URL:https://clannamorna.ca/event/st-patricks-day-early-evening-at-the-irish-times/
LOCATION:Irish Times Pub\, 1200 Goverment St\, Victoria\, BC\, V8W 1Y2\, CA
END:VEVENT
BEGIN:VEVENT
DTSTART;TZID=America/Vancouver:20220317T130000
DTEND;TZID=America/Vancouver:20220317T153000
DTSTAMP:20260422T150703
CREATED:20240122T063735Z
LAST-MODIFIED:20240122T063735Z
UID:2067-1647522000-1647531000@clannamorna.ca
SUMMARY:St. Patrick's Day - Early afternoon at Bard & Banker
DESCRIPTION:
URL:https://clannamorna.ca/event/st-patricks-day-early-afternoon-at-bard-banker/
LOCATION:Bard & Banker Pub\, 1022 Government St\, Victoria\, BC\, V8W 1X7\, CA
END:VEVENT
BEGIN:VEVENT
DTSTART;TZID=America/Vancouver:20220315T203000
DTEND;TZID=America/Vancouver:20220315T233000
DTSTAMP:20260422T150703
CREATED:20240122T063735Z
LAST-MODIFIED:20240122T063735Z
UID:2065-1647376200-1647387000@clannamorna.ca
SUMMARY:Craic Tuesdays at Irish Times Pub
DESCRIPTION:Come on down to The Irish Times Pub  from 8:30pm to 11:30pm for  the craic!  Playing your favorite Celtic and English ballads and tunes.\n \n 
URL:https://clannamorna.ca/event/craic-tuesdays-at-irish-times-pub-48/
LOCATION:Irish Times Pub\, 1200 Goverment St\, Victoria\, BC\, V8W 1Y2\, CA
END:VEVENT
BEGIN:VEVENT
DTSTART;TZID=America/Vancouver:20220308T203000
DTEND;TZID=America/Vancouver:20220308T233000
DTSTAMP:20260422T150703
CREATED:20240122T063735Z
LAST-MODIFIED:20240122T063735Z
UID:2064-1646771400-1646782200@clannamorna.ca
SUMMARY:Craic Tuesdays at Irish Times Pub
DESCRIPTION:Come on down to The Irish Times Pub  from 8:30pm to 11:30pm for  the craic!  Playing your favorite Celtic and English ballads and tunes.\n \n 
URL:https://clannamorna.ca/event/craic-tuesdays-at-irish-times-pub-47/
LOCATION:Irish Times Pub\, 1200 Goverment St\, Victoria\, BC\, V8W 1Y2\, CA
END:VEVENT
BEGIN:VEVENT
DTSTART;TZID=America/Vancouver:20220301T203000
DTEND;TZID=America/Vancouver:20220301T233000
DTSTAMP:20260422T150703
CREATED:20240122T063735Z
LAST-MODIFIED:20240122T063735Z
UID:2063-1646166600-1646177400@clannamorna.ca
SUMMARY:Craic Tuesdays at Irish Times Pub
DESCRIPTION:Come on down to The Irish Times Pub  from 8:30pm to 11:30pm for  the craic!  Playing your favorite Celtic and English ballads and tunes.\n \n 
URL:https://clannamorna.ca/event/craic-tuesdays-at-irish-times-pub-46/
LOCATION:Irish Times Pub\, 1200 Goverment St\, Victoria\, BC\, V8W 1Y2\, CA
END:VEVENT
BEGIN:VEVENT
DTSTART;TZID=America/Vancouver:20220226T170000
DTEND;TZID=America/Vancouver:20220226T203000
DTSTAMP:20260422T150703
CREATED:20240122T063731Z
LAST-MODIFIED:20240122T063731Z
UID:2062-1645894800-1645907400@clannamorna.ca
SUMMARY:Pender Island - HUB at Hope Bay
DESCRIPTION:Join us for a great Mediterranean meal paired with a night of Celtic and English folk. \nDinner service starts seating at 5:00pm\, Music starts at 6:30pm. \n$15 cover.
URL:https://clannamorna.ca/event/pender-island-hub-at-hope-bay/
LOCATION:HUB at Hope Bay\, 4301 Bedwell Harbour Road\, Pender Island\, BC\, NULL\, CA
END:VEVENT
BEGIN:VEVENT
DTSTART;TZID=America/Vancouver:20220222T203000
DTEND;TZID=America/Vancouver:20220222T233000
DTSTAMP:20260422T150703
CREATED:20240122T063731Z
LAST-MODIFIED:20240122T063731Z
UID:2061-1645561800-1645572600@clannamorna.ca
SUMMARY:Craic Tuesdays at Irish Times Pub
DESCRIPTION:Come on down to The Irish Times Pub  from 8:30pm to 11:30pm for  the craic!  Playing your favorite Celtic and English ballads and tunes.\n \n 
URL:https://clannamorna.ca/event/craic-tuesdays-at-irish-times-pub-45/
LOCATION:Irish Times Pub\, 1200 Goverment St\, Victoria\, BC\, V8W 1Y2\, CA
END:VEVENT
END:VCALENDAR