BEGIN:VCALENDAR
VERSION:2.0
PRODID:-//Clanna Morna - ECPv6.15.20//NONSGML v1.0//EN
CALSCALE:GREGORIAN
METHOD:PUBLISH
X-WR-CALNAME:Clanna Morna
X-ORIGINAL-URL:https://clannamorna.ca
X-WR-CALDESC:Events for Clanna Morna
REFRESH-INTERVAL;VALUE=DURATION:PT1H
X-Robots-Tag:noindex
X-PUBLISHED-TTL:PT1H
BEGIN:VTIMEZONE
TZID:America/Vancouver
BEGIN:DAYLIGHT
TZOFFSETFROM:-0800
TZOFFSETTO:-0700
TZNAME:PDT
DTSTART:20210314T100000
END:DAYLIGHT
BEGIN:STANDARD
TZOFFSETFROM:-0700
TZOFFSETTO:-0800
TZNAME:PST
DTSTART:20211107T090000
END:STANDARD
BEGIN:DAYLIGHT
TZOFFSETFROM:-0800
TZOFFSETTO:-0700
TZNAME:PDT
DTSTART:20220313T100000
END:DAYLIGHT
BEGIN:STANDARD
TZOFFSETFROM:-0700
TZOFFSETTO:-0800
TZNAME:PST
DTSTART:20221106T090000
END:STANDARD
BEGIN:DAYLIGHT
TZOFFSETFROM:-0800
TZOFFSETTO:-0700
TZNAME:PDT
DTSTART:20230312T100000
END:DAYLIGHT
BEGIN:STANDARD
TZOFFSETFROM:-0700
TZOFFSETTO:-0800
TZNAME:PST
DTSTART:20231105T090000
END:STANDARD
BEGIN:DAYLIGHT
TZOFFSETFROM:-0800
TZOFFSETTO:-0700
TZNAME:PDT
DTSTART:20240310T100000
END:DAYLIGHT
BEGIN:STANDARD
TZOFFSETFROM:-0700
TZOFFSETTO:-0800
TZNAME:PST
DTSTART:20241103T090000
END:STANDARD
END:VTIMEZONE
BEGIN:VEVENT
DTSTART;TZID=America/Vancouver:20230214T203000
DTEND;TZID=America/Vancouver:20230214T233000
DTSTAMP:20260421T154549
CREATED:20240122T064317Z
LAST-MODIFIED:20240122T064317Z
UID:2183-1676406600-1676417400@clannamorna.ca
SUMMARY:Craic Tuesdays at Irish Times Pub
DESCRIPTION:Come on down to The Irish Times Pub  from 8:30pm to 11:30pm for  the craic!  Playing your favorite Celtic and English ballads and tunes.\n \n 
URL:https://clannamorna.ca/event/craic-tuesdays-at-irish-times-pub-94/
LOCATION:Irish Times Pub\, 1200 Goverment St\, Victoria\, BC\, V8W 1Y2\, CA
END:VEVENT
BEGIN:VEVENT
DTSTART;TZID=America/Vancouver:20230203T193000
DTEND;TZID=America/Vancouver:20230203T213000
DTSTAMP:20260421T154549
CREATED:20240122T064317Z
LAST-MODIFIED:20240122T064317Z
UID:2182-1675452600-1675459800@clannamorna.ca
SUMMARY:Brentwood Bay Village Empourium
DESCRIPTION:We had a blast at this lovely spot last time\, and we’re back for a winter concert. Come warm up with some lovely local brews and foot stomping celtic folk.
URL:https://clannamorna.ca/event/brentwood-bay-village-empourium-2/
LOCATION:Brentwood Bay Village Empourium\, 7103 W Saanich Rd\, Brentwood Bay\, BC\, NULL\, CA
END:VEVENT
BEGIN:VEVENT
DTSTART;TZID=America/Vancouver:20230131T203000
DTEND;TZID=America/Vancouver:20230131T233000
DTSTAMP:20260421T154549
CREATED:20240122T064317Z
LAST-MODIFIED:20240122T064317Z
UID:2181-1675197000-1675207800@clannamorna.ca
SUMMARY:Craic Tuesdays at Irish Times Pub
DESCRIPTION:Come on down to The Irish Times Pub  from 8:30pm to 11:30pm for  the craic!  Playing your favorite Celtic and English ballads and tunes.\n \n 
URL:https://clannamorna.ca/event/craic-tuesdays-at-irish-times-pub-93/
LOCATION:Irish Times Pub\, 1200 Goverment St\, Victoria\, BC\, V8W 1Y2\, CA
END:VEVENT
BEGIN:VEVENT
DTSTART;TZID=America/Vancouver:20230129T140000
DTEND;TZID=America/Vancouver:20230129T160000
DTSTAMP:20260421T154549
CREATED:20240122T064317Z
LAST-MODIFIED:20240122T064317Z
UID:2180-1675000800-1675008000@clannamorna.ca
SUMMARY:Pender Harbour Music Society
DESCRIPTION:https://penderharbourmusic.ca/product/clanna-morna-sunday-january-29-2023-2-pm/
URL:https://clannamorna.ca/event/pender-harbour-music-society/
LOCATION:Pender Harbour School of Music\, 12956 Madeira Park Rd\, Madeira Park\, BC\, V0N 2H0\, CA
END:VEVENT
BEGIN:VEVENT
DTSTART;TZID=America/Vancouver:20230127T190000
DTEND;TZID=America/Vancouver:20230127T210000
DTSTAMP:20260421T154549
CREATED:20240122T064316Z
LAST-MODIFIED:20240122T064316Z
UID:2179-1674846000-1674853200@clannamorna.ca
SUMMARY:Riot Brewing Pub@ Chemainus
DESCRIPTION:Back at one of our favorite spots again!
URL:https://clannamorna.ca/event/riot-brewing-pub-chemainus/
LOCATION:Riot Brewing\, Chemainus\, 101A\, 3055 Oak St\, Chemainus\, BC\, NULL\, CA
END:VEVENT
BEGIN:VEVENT
DTSTART;TZID=America/Vancouver:20230124T203000
DTEND;TZID=America/Vancouver:20230124T233000
DTSTAMP:20260421T154549
CREATED:20240122T064228Z
LAST-MODIFIED:20240122T064228Z
UID:2178-1674592200-1674603000@clannamorna.ca
SUMMARY:Craic Tuesdays at Irish Times Pub
DESCRIPTION:Come on down to The Irish Times Pub  from 8:30pm to 11:30pm for  the craic!  Playing your favorite Celtic and English ballads and tunes.\n \n 
URL:https://clannamorna.ca/event/craic-tuesdays-at-irish-times-pub-92/
LOCATION:Irish Times Pub\, 1200 Goverment St\, Victoria\, BC\, V8W 1Y2\, CA
END:VEVENT
BEGIN:VEVENT
DTSTART;TZID=America/Vancouver:20230117T203000
DTEND;TZID=America/Vancouver:20230117T233000
DTSTAMP:20260421T154549
CREATED:20240122T064227Z
LAST-MODIFIED:20240122T064227Z
UID:2177-1673987400-1673998200@clannamorna.ca
SUMMARY:Craic Tuesdays at Irish Times Pub
DESCRIPTION:Come on down to The Irish Times Pub  from 8:30pm to 11:30pm for  the craic!  Playing your favorite Celtic and English ballads and tunes.\n \n 
URL:https://clannamorna.ca/event/craic-tuesdays-at-irish-times-pub-91/
LOCATION:Irish Times Pub\, 1200 Goverment St\, Victoria\, BC\, V8W 1Y2\, CA
END:VEVENT
BEGIN:VEVENT
DTSTART;TZID=America/Vancouver:20230110T203000
DTEND;TZID=America/Vancouver:20230110T233000
DTSTAMP:20260421T154549
CREATED:20240122T064227Z
LAST-MODIFIED:20240122T064227Z
UID:2176-1673382600-1673393400@clannamorna.ca
SUMMARY:Craic Tuesdays at Irish Times Pub
DESCRIPTION:Come on down to The Irish Times Pub  from 8:30pm to 11:30pm for  the craic!  Playing your favorite Celtic and English ballads and tunes.\n \n 
URL:https://clannamorna.ca/event/craic-tuesdays-at-irish-times-pub-90/
LOCATION:Irish Times Pub\, 1200 Goverment St\, Victoria\, BC\, V8W 1Y2\, CA
END:VEVENT
BEGIN:VEVENT
DTSTART;TZID=America/Vancouver:20230103T203000
DTEND;TZID=America/Vancouver:20230103T233000
DTSTAMP:20260421T154549
CREATED:20240122T064227Z
LAST-MODIFIED:20240122T064227Z
UID:2175-1672777800-1672788600@clannamorna.ca
SUMMARY:Craic Tuesdays at Irish Times Pub
DESCRIPTION:Come on down to The Irish Times Pub  from 8:30pm to 11:30pm for  the craic!  Playing your favorite Celtic and English ballads and tunes.\n \n 
URL:https://clannamorna.ca/event/craic-tuesdays-at-irish-times-pub-89/
LOCATION:Irish Times Pub\, 1200 Goverment St\, Victoria\, BC\, V8W 1Y2\, CA
END:VEVENT
BEGIN:VEVENT
DTSTART;TZID=America/Vancouver:20221227T203000
DTEND;TZID=America/Vancouver:20221227T233000
DTSTAMP:20260421T154549
CREATED:20240122T064227Z
LAST-MODIFIED:20240122T064227Z
UID:2174-1672173000-1672183800@clannamorna.ca
SUMMARY:Craic Tuesdays at Irish Times Pub
DESCRIPTION:Come on down to The Irish Times Pub  from 8:30pm to 11:30pm for  the craic!  Playing your favorite Celtic and English ballads and tunes.\n \n 
URL:https://clannamorna.ca/event/craic-tuesdays-at-irish-times-pub-88/
LOCATION:Irish Times Pub\, 1200 Goverment St\, Victoria\, BC\, V8W 1Y2\, CA
END:VEVENT
BEGIN:VEVENT
DTSTART;TZID=America/Vancouver:20221224T203000
DTEND;TZID=America/Vancouver:20221224T233000
DTSTAMP:20260421T154549
CREATED:20240122T064211Z
LAST-MODIFIED:20240122T064211Z
UID:2173-1671913800-1671924600@clannamorna.ca
SUMMARY:Christmas Eve (Dec 24) at the Irish Times
DESCRIPTION:Special Christmas eve (or whatever we’re all celebrating) show at the Irish Times! Join us for a festive night.
URL:https://clannamorna.ca/event/christmas-eve-dec-24-at-the-irish-times/
LOCATION:Irish Times Pub\, 1200 Goverment St\, Victoria\, BC\, V8W 1Y2\, CA
END:VEVENT
BEGIN:VEVENT
DTSTART;TZID=America/Vancouver:20221223T170000
DTEND;TZID=America/Vancouver:20221223T200000
DTSTAMP:20260421T154549
CREATED:20240122T064211Z
LAST-MODIFIED:20240122T064211Z
UID:2172-1671814800-1671825600@clannamorna.ca
SUMMARY:Christmas Eve-Eve (Dec 23) at the Irish Times
DESCRIPTION:We’ll be delivering 3 hours of celtic trad on Dec 23rd in the late afternoon at the Irish Times.
URL:https://clannamorna.ca/event/christmas-eve-eve-dec-23-at-the-irish-times/
LOCATION:Irish Times Pub\, 1200 Goverment St\, Victoria\, BC\, V8W 1Y2\, CA
END:VEVENT
BEGIN:VEVENT
DTSTART;TZID=America/Vancouver:20221220T203000
DTEND;TZID=America/Vancouver:20221220T233000
DTSTAMP:20260421T154549
CREATED:20240122T064211Z
LAST-MODIFIED:20240122T064211Z
UID:2171-1671568200-1671579000@clannamorna.ca
SUMMARY:Craic Tuesdays at Irish Times Pub
DESCRIPTION:Come on down to The Irish Times Pub  from 8:30pm to 11:30pm for  the craic!  Playing your favorite Celtic and English ballads and tunes.\n \n 
URL:https://clannamorna.ca/event/craic-tuesdays-at-irish-times-pub-87/
LOCATION:Irish Times Pub\, 1200 Goverment St\, Victoria\, BC\, V8W 1Y2\, CA
END:VEVENT
BEGIN:VEVENT
DTSTART;TZID=America/Vancouver:20221213T203000
DTEND;TZID=America/Vancouver:20221213T233000
DTSTAMP:20260421T154549
CREATED:20240122T064211Z
LAST-MODIFIED:20240122T064211Z
UID:2170-1670963400-1670974200@clannamorna.ca
SUMMARY:Craic Tuesdays at Irish Times Pub
DESCRIPTION:Come on down to The Irish Times Pub  from 8:30pm to 11:30pm for  the craic!  Playing your favorite Celtic and English ballads and tunes.\n \n 
URL:https://clannamorna.ca/event/craic-tuesdays-at-irish-times-pub-86/
LOCATION:Irish Times Pub\, 1200 Goverment St\, Victoria\, BC\, V8W 1Y2\, CA
END:VEVENT
BEGIN:VEVENT
DTSTART;TZID=America/Vancouver:20221206T203000
DTEND;TZID=America/Vancouver:20221206T233000
DTSTAMP:20260421T154549
CREATED:20240122T064211Z
LAST-MODIFIED:20240122T064211Z
UID:2169-1670358600-1670369400@clannamorna.ca
SUMMARY:Craic Tuesdays at Irish Times Pub
DESCRIPTION:Come on down to The Irish Times Pub  from 8:30pm to 11:30pm for  the craic!  Playing your favorite Celtic and English ballads and tunes.\n \n 
URL:https://clannamorna.ca/event/craic-tuesdays-at-irish-times-pub-85/
LOCATION:Irish Times Pub\, 1200 Goverment St\, Victoria\, BC\, V8W 1Y2\, CA
END:VEVENT
BEGIN:VEVENT
DTSTART;TZID=America/Vancouver:20221203T193000
DTEND;TZID=America/Vancouver:20221203T220000
DTSTAMP:20260421T154549
CREATED:20240122T064156Z
LAST-MODIFIED:20240122T064156Z
UID:2168-1670095800-1670104800@clannamorna.ca
SUMMARY:Live at 101 Bar and Grill - The Lund Resort at Klah ah men- customer appreciation night
DESCRIPTION:
URL:https://clannamorna.ca/event/live-at-101-bar-and-grill-the-lund-resort-at-klah-ah-men-customer-appreciation-night/
LOCATION:101 Bar and Grill @ The Lund Resort at Klah ah men\, 1436 Hwy 101\, Lund\, BC\, V0N 2G0\, CA
END:VEVENT
BEGIN:VEVENT
DTSTART;TZID=America/Vancouver:20221202T200000
DTEND;TZID=America/Vancouver:20221202T220000
DTSTAMP:20260421T154549
CREATED:20240122T064156Z
LAST-MODIFIED:20240122T064156Z
UID:2167-1670011200-1670018400@clannamorna.ca
SUMMARY:Tapworks (Gibsons) - Live from the Taproom
DESCRIPTION:https://www.facebook.com/events/807192977246014/
URL:https://clannamorna.ca/event/tapworks-gibsons-live-from-the-taproom/
LOCATION:Tapworks Brewing Company\, 537 Cruice Ln\, Gibsons\, BC\, V0N 1V9\, CA
END:VEVENT
BEGIN:VEVENT
DTSTART;TZID=America/Vancouver:20221129T203000
DTEND;TZID=America/Vancouver:20221129T233000
DTSTAMP:20260421T154549
CREATED:20240122T064156Z
LAST-MODIFIED:20240122T064156Z
UID:2166-1669753800-1669764600@clannamorna.ca
SUMMARY:Craic Tuesdays at Irish Times Pub
DESCRIPTION:Come on down to The Irish Times Pub  from 8:30pm to 11:30pm for  the craic!  Playing your favorite Celtic and English ballads and tunes.\n \n 
URL:https://clannamorna.ca/event/craic-tuesdays-at-irish-times-pub-84/
LOCATION:Irish Times Pub\, 1200 Goverment St\, Victoria\, BC\, V8W 1Y2\, CA
END:VEVENT
BEGIN:VEVENT
DTSTART;TZID=America/Vancouver:20221127T113000
DTEND;TZID=America/Vancouver:20221127T141500
DTSTAMP:20260421T154549
CREATED:20240122T064156Z
LAST-MODIFIED:20240122T064156Z
UID:2165-1669548600-1669558500@clannamorna.ca
SUMMARY:Sea Cider's Holiday Market
DESCRIPTION:Two sets of music at the Sea Cider holiday market. It’ll be a good one!
URL:https://clannamorna.ca/event/sea-ciders-holiday-market/
LOCATION:Sea Cider\, 2487 Mt St Michael Rd\, Saanichton\, BC\, V8M 1T7\, CA
END:VEVENT
BEGIN:VEVENT
DTSTART;TZID=America/Vancouver:20221125T190000
DTEND;TZID=America/Vancouver:20221125T210000
DTSTAMP:20260421T154549
CREATED:20240122T064156Z
LAST-MODIFIED:20240122T064156Z
UID:2164-1669402800-1669410000@clannamorna.ca
SUMMARY:Riot Brewing (indoors)
DESCRIPTION:Back at our favorite spot in Chemainus. We’ll be playing in this awesome brewpub from 7pm-9pm.
URL:https://clannamorna.ca/event/riot-brewing-indoors/
LOCATION:Riot Brewing\, Chemainus\, 101A\, 3055 Oak St\, Chemainus\, BC\, NULL\, CA
END:VEVENT
BEGIN:VEVENT
DTSTART;TZID=America/Vancouver:20221122T203000
DTEND;TZID=America/Vancouver:20221122T233000
DTSTAMP:20260421T154549
CREATED:20240122T064141Z
LAST-MODIFIED:20240122T064141Z
UID:2163-1669149000-1669159800@clannamorna.ca
SUMMARY:Craic Tuesdays at Irish Times Pub
DESCRIPTION:Come on down to The Irish Times Pub  from 8:30pm to 11:30pm for  the craic!  Playing your favorite Celtic and English ballads and tunes.\n \n 
URL:https://clannamorna.ca/event/craic-tuesdays-at-irish-times-pub-83/
LOCATION:Irish Times Pub\, 1200 Goverment St\, Victoria\, BC\, V8W 1Y2\, CA
END:VEVENT
BEGIN:VEVENT
DTSTART;TZID=America/Vancouver:20221118T203000
DTEND;TZID=America/Vancouver:20221118T233000
DTSTAMP:20260421T154549
CREATED:20240122T064141Z
LAST-MODIFIED:20240122T064141Z
UID:2162-1668803400-1668814200@clannamorna.ca
SUMMARY:Penny Farthing (Oak Bay)
DESCRIPTION:Not too often we get to Oak Bay\, but we’ll be there this week!\nCatch us from 8:30pm onwards.
URL:https://clannamorna.ca/event/penny-farthing-oak-bay/
LOCATION:Penny Farthing Pub\, 2228 Oak Bay Ave\, Victoria\, BC\, V8R 1G5\, CA
END:VEVENT
BEGIN:VEVENT
DTSTART;TZID=America/Vancouver:20221115T203000
DTEND;TZID=America/Vancouver:20221115T233000
DTSTAMP:20260421T154549
CREATED:20240122T064141Z
LAST-MODIFIED:20240122T064141Z
UID:2161-1668544200-1668555000@clannamorna.ca
SUMMARY:Craic Tuesdays at Irish Times Pub
DESCRIPTION:Come on down to The Irish Times Pub  from 8:30pm to 11:30pm for  the craic!  Playing your favorite Celtic and English ballads and tunes.\n \n 
URL:https://clannamorna.ca/event/craic-tuesdays-at-irish-times-pub-82/
LOCATION:Irish Times Pub\, 1200 Goverment St\, Victoria\, BC\, V8W 1Y2\, CA
END:VEVENT
BEGIN:VEVENT
DTSTART;TZID=America/Vancouver:20221108T203000
DTEND;TZID=America/Vancouver:20221108T233000
DTSTAMP:20260421T154549
CREATED:20240122T064141Z
LAST-MODIFIED:20240122T064141Z
UID:2160-1667939400-1667950200@clannamorna.ca
SUMMARY:Craic Tuesdays at Irish Times Pub
DESCRIPTION:Come on down to The Irish Times Pub  from 8:30pm to 11:30pm for  the craic!  Playing your favorite Celtic and English ballads and tunes.\n \n 
URL:https://clannamorna.ca/event/craic-tuesdays-at-irish-times-pub-81/
LOCATION:Irish Times Pub\, 1200 Goverment St\, Victoria\, BC\, V8W 1Y2\, CA
END:VEVENT
BEGIN:VEVENT
DTSTART;TZID=America/Vancouver:20221105T130000
DTEND;TZID=America/Vancouver:20221105T140000
DTSTAMP:20260421T154549
CREATED:20240122T064141Z
LAST-MODIFIED:20240122T064141Z
UID:2159-1667653200-1667656800@clannamorna.ca
SUMMARY:Woodstove Festival (Saturday @ the Masonic Hall)
DESCRIPTION:Two performances:\nFriday Nov 4th @ the Weird Church: Midnight until 1am \nSaturday Nov 4th @ the Masonic Hall: 1pm-2pm
URL:https://clannamorna.ca/event/woodstove-festival-saturday-the-masonic-hall/
LOCATION:Cumberland Masonic Hall\, 2687 Dunsmuir Ave\, Cumberland\, BC\, NULL\, CA
END:VEVENT
BEGIN:VEVENT
DTSTART;TZID=America/Vancouver:20221104T115900
DTEND;TZID=America/Vancouver:20221104T130000
DTSTAMP:20260421T154549
CREATED:20240122T064135Z
LAST-MODIFIED:20240122T064135Z
UID:2158-1667563140-1667566800@clannamorna.ca
SUMMARY:Woodstove Festival (Friday @ the Weird Church)
DESCRIPTION:Two performances:\nFriday Nov 4th @ the Weird Church: Midnight until 1am \nSaturday Nov 4th @ the Masonic Hall: 1pm-2pm
URL:https://clannamorna.ca/event/woodstove-festival-friday-the-weird-church/
LOCATION:Weird Church\, 2688 Penrith Ave\, Cumberland\, BC\, V0R 1S0\, CA
END:VEVENT
BEGIN:VEVENT
DTSTART;TZID=America/Vancouver:20221101T203000
DTEND;TZID=America/Vancouver:20221101T233000
DTSTAMP:20260421T154549
CREATED:20240122T064135Z
LAST-MODIFIED:20240122T064135Z
UID:2157-1667334600-1667345400@clannamorna.ca
SUMMARY:Craic Tuesdays at Irish Times Pub
DESCRIPTION:Come on down to The Irish Times Pub  from 8:30pm to 11:30pm for  the craic!  Playing your favorite Celtic and English ballads and tunes.\n \n 
URL:https://clannamorna.ca/event/craic-tuesdays-at-irish-times-pub-80/
LOCATION:Irish Times Pub\, 1200 Goverment St\, Victoria\, BC\, V8W 1Y2\, CA
END:VEVENT
BEGIN:VEVENT
DTSTART;TZID=America/Vancouver:20221025T203000
DTEND;TZID=America/Vancouver:20221025T233000
DTSTAMP:20260421T154549
CREATED:20240122T064135Z
LAST-MODIFIED:20240122T064135Z
UID:2156-1666729800-1666740600@clannamorna.ca
SUMMARY:Craic Tuesdays at Irish Times Pub
DESCRIPTION:Come on down to The Irish Times Pub  from 8:30pm to 11:30pm for  the craic!  Playing your favorite Celtic and English ballads and tunes.\n \n 
URL:https://clannamorna.ca/event/craic-tuesdays-at-irish-times-pub-79/
LOCATION:Irish Times Pub\, 1200 Goverment St\, Victoria\, BC\, V8W 1Y2\, CA
END:VEVENT
BEGIN:VEVENT
DTSTART;VALUE=DATE:20221022
DTEND;VALUE=DATE:20221023
DTSTAMP:20260421T154549
CREATED:20240122T064135Z
LAST-MODIFIED:20240122T064135Z
UID:2155-1666396800-1666483199@clannamorna.ca
SUMMARY:Private Event
DESCRIPTION:
URL:https://clannamorna.ca/event/private-event-12/
LOCATION:BC
END:VEVENT
BEGIN:VEVENT
DTSTART;TZID=America/Vancouver:20221018T203000
DTEND;TZID=America/Vancouver:20221018T233000
DTSTAMP:20260421T154549
CREATED:20240122T064135Z
LAST-MODIFIED:20240122T064135Z
UID:2154-1666125000-1666135800@clannamorna.ca
SUMMARY:Craic Tuesdays at Irish Times Pub
DESCRIPTION:Come on down to The Irish Times Pub  from 8:30pm to 11:30pm for  the craic!  Playing your favorite Celtic and English ballads and tunes.\n \n 
URL:https://clannamorna.ca/event/craic-tuesdays-at-irish-times-pub-78/
LOCATION:Irish Times Pub\, 1200 Goverment St\, Victoria\, BC\, V8W 1Y2\, CA
END:VEVENT
END:VCALENDAR