BEGIN:VCALENDAR
VERSION:2.0
PRODID:-//Clanna Morna - ECPv6.15.20//NONSGML v1.0//EN
CALSCALE:GREGORIAN
METHOD:PUBLISH
X-ORIGINAL-URL:https://clannamorna.ca
X-WR-CALDESC:Events for Clanna Morna
REFRESH-INTERVAL;VALUE=DURATION:PT1H
X-Robots-Tag:noindex
X-PUBLISHED-TTL:PT1H
BEGIN:VTIMEZONE
TZID:America/Vancouver
BEGIN:DAYLIGHT
TZOFFSETFROM:-0800
TZOFFSETTO:-0700
TZNAME:PDT
DTSTART:20220313T100000
END:DAYLIGHT
BEGIN:STANDARD
TZOFFSETFROM:-0700
TZOFFSETTO:-0800
TZNAME:PST
DTSTART:20221106T090000
END:STANDARD
BEGIN:DAYLIGHT
TZOFFSETFROM:-0800
TZOFFSETTO:-0700
TZNAME:PDT
DTSTART:20230312T100000
END:DAYLIGHT
BEGIN:STANDARD
TZOFFSETFROM:-0700
TZOFFSETTO:-0800
TZNAME:PST
DTSTART:20231105T090000
END:STANDARD
BEGIN:DAYLIGHT
TZOFFSETFROM:-0800
TZOFFSETTO:-0700
TZNAME:PDT
DTSTART:20240310T100000
END:DAYLIGHT
BEGIN:STANDARD
TZOFFSETFROM:-0700
TZOFFSETTO:-0800
TZNAME:PST
DTSTART:20241103T090000
END:STANDARD
END:VTIMEZONE
BEGIN:VEVENT
DTSTART;TZID=America/Vancouver:20230314T203000
DTEND;TZID=America/Vancouver:20230314T233000
DTSTAMP:20260421T224525
CREATED:20240122T064318Z
LAST-MODIFIED:20240122T064318Z
UID:2186-1678825800-1678836600@clannamorna.ca
SUMMARY:Craic Tuesdays at Irish Times Pub
DESCRIPTION:Come on down to The Irish Times Pub  from 8:30pm to 11:30pm for  the craic!  Playing your favorite Celtic and English ballads and tunes.\n \n 
URL:https://clannamorna.ca/event/craic-tuesdays-at-irish-times-pub-96/
LOCATION:Irish Times Pub\, 1200 Goverment St\, Victoria\, BC\, V8W 1Y2\, CA
END:VEVENT
BEGIN:VEVENT
DTSTART;VALUE=DATE:20230316
DTEND;VALUE=DATE:20230317
DTSTAMP:20260421T224525
CREATED:20240122T064319Z
LAST-MODIFIED:20240122T064319Z
UID:2187-1678924800-1679011199@clannamorna.ca
SUMMARY:Private Event
DESCRIPTION:
URL:https://clannamorna.ca/event/private-event-13/
END:VEVENT
BEGIN:VEVENT
DTSTART;TZID=America/Vancouver:20230317T120000
DTEND;TZID=America/Vancouver:20230317T150000
DTSTAMP:20260421T224525
CREATED:20240122T064319Z
LAST-MODIFIED:20240122T064319Z
UID:2188-1679054400-1679065200@clannamorna.ca
SUMMARY:St. Patrick's Day (1 of 3) - Irish Times Pub
DESCRIPTION:
URL:https://clannamorna.ca/event/st-patricks-day-1-of-3-irish-times-pub/
LOCATION:Irish Times Pub\, 1200 Goverment St\, Victoria\, BC\, V8W 1Y2\, CA
END:VEVENT
BEGIN:VEVENT
DTSTART;TZID=America/Vancouver:20230317T160000
DTEND;TZID=America/Vancouver:20230317T190000
DTSTAMP:20260421T224525
CREATED:20240122T064332Z
LAST-MODIFIED:20240122T064332Z
UID:2189-1679068800-1679079600@clannamorna.ca
SUMMARY:St. Patrick's Day (2 of 3) - Bard & Banker Pub
DESCRIPTION:
URL:https://clannamorna.ca/event/st-patricks-day-2-of-3-bard-banker-pub/
LOCATION:Bard & Banker Pub\, 1022 Government St\, Victoria\, BC\, V8W 1X7\, CA
END:VEVENT
BEGIN:VEVENT
DTSTART;TZID=America/Vancouver:20230317T200000
DTEND;TZID=America/Vancouver:20230317T230000
DTSTAMP:20260421T224525
CREATED:20240122T064332Z
LAST-MODIFIED:20240122T064332Z
UID:2190-1679083200-1679094000@clannamorna.ca
SUMMARY:St. Patrick's Day (3 of 3) - Penny Farthing Pub
DESCRIPTION:
URL:https://clannamorna.ca/event/st-patricks-day-3-of-3-penny-farthing-pub/
LOCATION:Penny Farthing Pub\, 2228 Oak Bay Ave\, Victoria\, BC\, V8R 1G5\, CA
END:VEVENT
BEGIN:VEVENT
DTSTART;TZID=America/Vancouver:20230318T183000
DTEND;TZID=America/Vancouver:20230318T210000
DTSTAMP:20260421T224525
CREATED:20240122T064332Z
LAST-MODIFIED:20240122T064332Z
UID:2191-1679164200-1679173200@clannamorna.ca
SUMMARY:Cobble Hill - Clanna Morna on Fisher Road
DESCRIPTION:https://www.facebook.com/events/s/clanna-morna-on-fisher-road/534288485249735/
URL:https://clannamorna.ca/event/cobble-hill-clanna-morna-on-fisher-road/
LOCATION:Fisher Road\, Fisher Road\, Cobble Hill\, BC\, NULL\, CA
END:VEVENT
BEGIN:VEVENT
DTSTART;TZID=America/Vancouver:20230321T203000
DTEND;TZID=America/Vancouver:20230321T233000
DTSTAMP:20260421T224525
CREATED:20240122T064332Z
LAST-MODIFIED:20240122T064332Z
UID:2192-1679430600-1679441400@clannamorna.ca
SUMMARY:Craic Tuesdays at Irish Times Pub
DESCRIPTION:Come on down to The Irish Times Pub  from 8:30pm to 11:30pm for  the craic!  Playing your favorite Celtic and English ballads and tunes.\n \n 
URL:https://clannamorna.ca/event/craic-tuesdays-at-irish-times-pub-97/
LOCATION:Irish Times Pub\, 1200 Goverment St\, Victoria\, BC\, V8W 1Y2\, CA
END:VEVENT
END:VCALENDAR