BEGIN:VCALENDAR
VERSION:2.0
PRODID:-//Clanna Morna - ECPv6.15.20//NONSGML v1.0//EN
CALSCALE:GREGORIAN
METHOD:PUBLISH
X-WR-CALNAME:Clanna Morna
X-ORIGINAL-URL:https://clannamorna.ca
X-WR-CALDESC:Events for Clanna Morna
REFRESH-INTERVAL;VALUE=DURATION:PT1H
X-Robots-Tag:noindex
X-PUBLISHED-TTL:PT1H
BEGIN:VTIMEZONE
TZID:America/Vancouver
BEGIN:DAYLIGHT
TZOFFSETFROM:-0800
TZOFFSETTO:-0700
TZNAME:PDT
DTSTART:20220313T100000
END:DAYLIGHT
BEGIN:STANDARD
TZOFFSETFROM:-0700
TZOFFSETTO:-0800
TZNAME:PST
DTSTART:20221106T090000
END:STANDARD
BEGIN:DAYLIGHT
TZOFFSETFROM:-0800
TZOFFSETTO:-0700
TZNAME:PDT
DTSTART:20230312T100000
END:DAYLIGHT
BEGIN:STANDARD
TZOFFSETFROM:-0700
TZOFFSETTO:-0800
TZNAME:PST
DTSTART:20231105T090000
END:STANDARD
BEGIN:DAYLIGHT
TZOFFSETFROM:-0800
TZOFFSETTO:-0700
TZNAME:PDT
DTSTART:20240310T100000
END:DAYLIGHT
BEGIN:STANDARD
TZOFFSETFROM:-0700
TZOFFSETTO:-0800
TZNAME:PST
DTSTART:20241103T090000
END:STANDARD
END:VTIMEZONE
BEGIN:VEVENT
DTSTART;TZID=America/Vancouver:20230613T203000
DTEND;TZID=America/Vancouver:20230613T233000
DTSTAMP:20260421T182511
CREATED:20240122T064404Z
LAST-MODIFIED:20240122T064405Z
UID:2204-1686688200-1686699000@clannamorna.ca
SUMMARY:Craic Tuesdays at Irish Times Pub
DESCRIPTION:Come on down to The Irish Times Pub  from 8:30pm to 11:30pm for  the craic!  Playing your favorite Celtic and English ballads and tunes.\n \n 
URL:https://clannamorna.ca/event/craic-tuesdays-at-irish-times-pub-104/
LOCATION:Irish Times Pub\, 1200 Goverment St\, Victoria\, BC\, V8W 1Y2\, CA
END:VEVENT
BEGIN:VEVENT
DTSTART;VALUE=DATE:20230616
DTEND;VALUE=DATE:20230617
DTSTAMP:20260421T182511
CREATED:20240122T064404Z
LAST-MODIFIED:20240122T064405Z
UID:2205-1686873600-1686959999@clannamorna.ca
SUMMARY:USA Tour: Quilcene Gray Coast Guildhall
DESCRIPTION:
URL:https://clannamorna.ca/event/usa-tour-quilcene-gray-coast-guildhall/
LOCATION:Gray Coast Guildhall\, 11 Old Church Rd\, Quilcene\, WA\, 98376\, US
END:VEVENT
BEGIN:VEVENT
DTSTART;VALUE=DATE:20230617
DTEND;VALUE=DATE:20230618
DTSTAMP:20260421T182511
CREATED:20240122T064404Z
LAST-MODIFIED:20240122T064405Z
UID:2206-1686960000-1687046399@clannamorna.ca
SUMMARY:Private Event
DESCRIPTION:
URL:https://clannamorna.ca/event/private-event-14/
END:VEVENT
BEGIN:VEVENT
DTSTART;VALUE=DATE:20230618
DTEND;VALUE=DATE:20230619
DTSTAMP:20260421T182511
CREATED:20240122T064404Z
LAST-MODIFIED:20240122T064405Z
UID:2207-1687046400-1687132799@clannamorna.ca
SUMMARY:USA Tour: The Cryptatropa Bar Olympia
DESCRIPTION:
URL:https://clannamorna.ca/event/usa-tour-the-cryptatropa-bar-olympia/
LOCATION:The Cryptatropa\, 421 4th Ave E\, Olympia\, WA\, 98501\, United States
END:VEVENT
BEGIN:VEVENT
DTSTART;TZID=America/Vancouver:20230620T203000
DTEND;TZID=America/Vancouver:20230620T233000
DTSTAMP:20260421T182511
CREATED:20240122T064404Z
LAST-MODIFIED:20240122T064405Z
UID:2208-1687293000-1687303800@clannamorna.ca
SUMMARY:Craic Tuesdays at Irish Times Pub
DESCRIPTION:Come on down to The Irish Times Pub  from 8:30pm to 11:30pm for  the craic!  Playing your favorite Celtic and English ballads and tunes.\n \n 
URL:https://clannamorna.ca/event/craic-tuesdays-at-irish-times-pub-105/
LOCATION:Irish Times Pub\, 1200 Goverment St\, Victoria\, BC\, V8W 1Y2\, CA
END:VEVENT
BEGIN:VEVENT
DTSTART;VALUE=DATE:20230623
DTEND;VALUE=DATE:20230624
DTSTAMP:20260421T182511
CREATED:20240122T064417Z
LAST-MODIFIED:20240122T064417Z
UID:2214-1687478400-1687564799@clannamorna.ca
SUMMARY:USA Tour: Honeymoon Meadery\, Bellingham
DESCRIPTION:
URL:https://clannamorna.ca/event/usa-tour-honeymoon-meadery-bellingham/
LOCATION:Honey Moon Mead and Cider\, 1053 N State St\, Bellingham\, WA\, 98225\, US
END:VEVENT
BEGIN:VEVENT
DTSTART;VALUE=DATE:20230629
DTEND;VALUE=DATE:20230630
DTSTAMP:20260421T182511
CREATED:20240122T064417Z
LAST-MODIFIED:20240122T064417Z
UID:2215-1687996800-1688083199@clannamorna.ca
SUMMARY:Salmon Arm - House Concert at the Vivian's
DESCRIPTION:
URL:https://clannamorna.ca/event/salmon-arm-house-concert-at-the-vivians/
END:VEVENT
BEGIN:VEVENT
DTSTART;VALUE=DATE:20230630
DTEND;VALUE=DATE:20230701
DTSTAMP:20260421T182511
CREATED:20240122T064417Z
LAST-MODIFIED:20240122T064417Z
UID:2216-1688083200-1688169599@clannamorna.ca
SUMMARY:Mackie Lake House - Coldstream BC
DESCRIPTION:
URL:https://clannamorna.ca/event/mackie-lake-house-coldstream-bc/
LOCATION:Mackie Lake House\, 7804 Kidston Rd\, Coldstream\, BC\, V1B 1S2\, CA
END:VEVENT
END:VCALENDAR