BEGIN:VCALENDAR
VERSION:2.0
PRODID:-//Clanna Morna - ECPv6.15.20//NONSGML v1.0//EN
CALSCALE:GREGORIAN
METHOD:PUBLISH
X-ORIGINAL-URL:https://clannamorna.ca
X-WR-CALDESC:Events for Clanna Morna
REFRESH-INTERVAL;VALUE=DURATION:PT1H
X-Robots-Tag:noindex
X-PUBLISHED-TTL:PT1H
BEGIN:VTIMEZONE
TZID:America/Vancouver
BEGIN:DAYLIGHT
TZOFFSETFROM:-0800
TZOFFSETTO:-0700
TZNAME:PDT
DTSTART:20220313T100000
END:DAYLIGHT
BEGIN:STANDARD
TZOFFSETFROM:-0700
TZOFFSETTO:-0800
TZNAME:PST
DTSTART:20221106T090000
END:STANDARD
BEGIN:DAYLIGHT
TZOFFSETFROM:-0800
TZOFFSETTO:-0700
TZNAME:PDT
DTSTART:20230312T100000
END:DAYLIGHT
BEGIN:STANDARD
TZOFFSETFROM:-0700
TZOFFSETTO:-0800
TZNAME:PST
DTSTART:20231105T090000
END:STANDARD
BEGIN:DAYLIGHT
TZOFFSETFROM:-0800
TZOFFSETTO:-0700
TZNAME:PDT
DTSTART:20240310T100000
END:DAYLIGHT
BEGIN:STANDARD
TZOFFSETFROM:-0700
TZOFFSETTO:-0800
TZNAME:PST
DTSTART:20241103T090000
END:STANDARD
END:VTIMEZONE
BEGIN:VEVENT
DTSTART;VALUE=DATE:20230901
DTEND;VALUE=DATE:20230902
DTSTAMP:20260421T134016
CREATED:20240122T064622Z
LAST-MODIFIED:20240122T064622Z
UID:2242-1693526400-1693612799@clannamorna.ca
SUMMARY:Keremeos @ The Grist Mill - CANCELLED (wildfires)
DESCRIPTION:
URL:https://clannamorna.ca/event/keremeos-the-grist-mill-cancelled-wildfires/
LOCATION:The Grist Mill\, 2691 Upper Bench Rd\, Keremeos\, BC\, V0X 1N4\, CA
END:VEVENT
BEGIN:VEVENT
DTSTART;TZID=America/Vancouver:20230901T110000
DTEND;TZID=America/Vancouver:20230901T140000
DTSTAMP:20260421T134016
CREATED:20240122T064622Z
LAST-MODIFIED:20240122T064622Z
UID:2243-1693566000-1693576800@clannamorna.ca
SUMMARY:Private Event
DESCRIPTION:
URL:https://clannamorna.ca/event/private-event-17/
END:VEVENT
BEGIN:VEVENT
DTSTART;VALUE=DATE:20230902
DTEND;VALUE=DATE:20230903
DTSTAMP:20260421T134016
CREATED:20240122T064622Z
LAST-MODIFIED:20240122T064622Z
UID:2244-1693612800-1693699199@clannamorna.ca
SUMMARY:Kelowna Yacht Club - CANCELLED (wildfires)
DESCRIPTION:
URL:https://clannamorna.ca/event/kelowna-yacht-club-cancelled-wildfires/
LOCATION:Kelowna Yacht Club\, 1370 Water St #1\, Kelowna\, BC\, V1Y 1J1\, CA
END:VEVENT
BEGIN:VEVENT
DTSTART;VALUE=DATE:20230903
DTEND;VALUE=DATE:20230904
DTSTAMP:20260421T134016
CREATED:20240122T064629Z
LAST-MODIFIED:20240122T064629Z
UID:2245-1693699200-1693785599@clannamorna.ca
SUMMARY:Oliver @ Covert Farms - CANCELLED (wildfires)
DESCRIPTION:
URL:https://clannamorna.ca/event/oliver-covert-farms-cancelled-wildfires/
LOCATION:Covert Farms – Oliver\, BC\, 300 Covert Pl\, Oliver\, BC\, NULL\, CA
END:VEVENT
BEGIN:VEVENT
DTSTART;VALUE=DATE:20230909
DTEND;VALUE=DATE:20230910
DTSTAMP:20260421T134016
CREATED:20240122T064629Z
LAST-MODIFIED:20240122T064629Z
UID:2246-1694217600-1694303999@clannamorna.ca
SUMMARY:Private Event
DESCRIPTION:
URL:https://clannamorna.ca/event/private-event-18/
END:VEVENT
BEGIN:VEVENT
DTSTART;VALUE=DATE:20230910
DTEND;VALUE=DATE:20230911
DTSTAMP:20260421T134016
CREATED:20240122T064629Z
LAST-MODIFIED:20240122T064629Z
UID:2247-1694304000-1694390399@clannamorna.ca
SUMMARY:In Sight Festival\, Colwood (Fort Rodd Hill)
DESCRIPTION:https://www.artsandculturecolwood.com/events\n 
URL:https://clannamorna.ca/event/in-sight-festival-colwood-fort-rodd-hill/
LOCATION:Fort Rodd Hill\, Fort Rodd Hill\, Colwood\, BC\, NULL\, CA
END:VEVENT
BEGIN:VEVENT
DTSTART;TZID=America/Vancouver:20230912T203000
DTEND;TZID=America/Vancouver:20230912T233000
DTSTAMP:20260421T134016
CREATED:20240122T064629Z
LAST-MODIFIED:20240122T064629Z
UID:2248-1694550600-1694561400@clannamorna.ca
SUMMARY:Craic Tuesdays at Irish Times Pub
DESCRIPTION:Come on down to The Irish Times Pub  from 8:30pm to 11:30pm for  the craic!  Playing your favorite Celtic and English ballads and tunes.\n \n 
URL:https://clannamorna.ca/event/craic-tuesdays-at-irish-times-pub-109/
LOCATION:Irish Times Pub\, 1200 Goverment St\, Victoria\, BC\, V8W 1Y2\, CA
END:VEVENT
BEGIN:VEVENT
DTSTART;TZID=America/Vancouver:20230915T180000
DTEND;TZID=America/Vancouver:20230915T220000
DTSTAMP:20260421T134016
CREATED:20240122T064629Z
LAST-MODIFIED:20240122T064629Z
UID:2249-1694800800-1694815200@clannamorna.ca
SUMMARY:A Celtic Party - Clanna Morna and the Slieves live at Allium Co-op Farm in Duncan
DESCRIPTION:
URL:https://clannamorna.ca/event/a-celtic-party-clanna-morna-and-the-slieves-live-at-allium-co-op-farm-in-duncan/
LOCATION:Allium Co-op Farm Duncan\, 5984 Castley Rd\, Duncan\, BC\, NULL\, CA
END:VEVENT
BEGIN:VEVENT
DTSTART;VALUE=DATE:20230916
DTEND;VALUE=DATE:20230917
DTSTAMP:20260421T134016
CREATED:20240122T064644Z
LAST-MODIFIED:20240122T064644Z
UID:2251-1694822400-1694908799@clannamorna.ca
SUMMARY:Private Event
DESCRIPTION:
URL:https://clannamorna.ca/event/private-event-19/
END:VEVENT
BEGIN:VEVENT
DTSTART;VALUE=DATE:20230922
DTEND;VALUE=DATE:20230923
DTSTAMP:20260421T134016
CREATED:20240122T064644Z
LAST-MODIFIED:20240122T064644Z
UID:2252-1695340800-1695427199@clannamorna.ca
SUMMARY:Riot Brewing\, Chemainus - CANCELLED (illness)
DESCRIPTION:
URL:https://clannamorna.ca/event/riot-brewing-chemainus-cancelled-illness/
LOCATION:Riot Brewing\, Chemainus\, 101A\, 3055 Oak St\, Chemainus\, BC\, NULL\, CA
END:VEVENT
BEGIN:VEVENT
DTSTART;TZID=America/Vancouver:20230926T203000
DTEND;TZID=America/Vancouver:20230926T233000
DTSTAMP:20260421T134016
CREATED:20240122T064644Z
LAST-MODIFIED:20240122T064644Z
UID:2253-1695760200-1695771000@clannamorna.ca
SUMMARY:Craic Tuesdays at Irish Times Pub
DESCRIPTION:Come on down to The Irish Times Pub  from 8:30pm to 11:30pm for  the craic!  Playing your favorite Celtic and English ballads and tunes.\n \n 
URL:https://clannamorna.ca/event/craic-tuesdays-at-irish-times-pub-110/
LOCATION:Irish Times Pub\, 1200 Goverment St\, Victoria\, BC\, V8W 1Y2\, CA
END:VEVENT
END:VCALENDAR