BEGIN:VCALENDAR
VERSION:2.0
PRODID:-//Clanna Morna - ECPv6.15.20//NONSGML v1.0//EN
CALSCALE:GREGORIAN
METHOD:PUBLISH
X-ORIGINAL-URL:https://clannamorna.ca
X-WR-CALDESC:Events for Clanna Morna
REFRESH-INTERVAL;VALUE=DURATION:PT1H
X-Robots-Tag:noindex
X-PUBLISHED-TTL:PT1H
BEGIN:VTIMEZONE
TZID:America/Vancouver
BEGIN:DAYLIGHT
TZOFFSETFROM:-0800
TZOFFSETTO:-0700
TZNAME:PDT
DTSTART:20230312T100000
END:DAYLIGHT
BEGIN:STANDARD
TZOFFSETFROM:-0700
TZOFFSETTO:-0800
TZNAME:PST
DTSTART:20231105T090000
END:STANDARD
BEGIN:DAYLIGHT
TZOFFSETFROM:-0800
TZOFFSETTO:-0700
TZNAME:PDT
DTSTART:20240310T100000
END:DAYLIGHT
BEGIN:STANDARD
TZOFFSETFROM:-0700
TZOFFSETTO:-0800
TZNAME:PST
DTSTART:20241103T090000
END:STANDARD
BEGIN:DAYLIGHT
TZOFFSETFROM:-0800
TZOFFSETTO:-0700
TZNAME:PDT
DTSTART:20250309T100000
END:DAYLIGHT
BEGIN:STANDARD
TZOFFSETFROM:-0700
TZOFFSETTO:-0800
TZNAME:PST
DTSTART:20251102T090000
END:STANDARD
END:VTIMEZONE
BEGIN:VEVENT
DTSTART;TZID=America/Vancouver:20240102T203000
DTEND;TZID=America/Vancouver:20240102T233000
DTSTAMP:20260421T073325
CREATED:20240122T064753Z
LAST-MODIFIED:20240122T150138Z
UID:2276-1704227400-1704238200@clannamorna.ca
SUMMARY:Craic Tuesdays at Irish Times Pub
DESCRIPTION:Come on down to The Irish Times Pub  from 8:30pm to 11:30pm for  the craic!  Playing your favorite Celtic and English ballads and tunes.\n \n 
URL:https://clannamorna.ca/event/craic-tuesdays-at-irish-times-pub-117/
LOCATION:Irish Times Pub\, 1200 Goverment St\, Victoria\, BC\, V8W 1Y2\, CA
END:VEVENT
BEGIN:VEVENT
DTSTART;TZID=America/Vancouver:20240116T203000
DTEND;TZID=America/Vancouver:20240116T233000
DTSTAMP:20260421T073325
CREATED:20240122T064803Z
LAST-MODIFIED:20240122T150138Z
UID:2277-1705437000-1705447800@clannamorna.ca
SUMMARY:Craic Tuesdays at Irish Times Pub
DESCRIPTION:Come on down to The Irish Times Pub  from 8:30pm to 11:30pm for  the craic!  Playing your favorite Celtic and English ballads and tunes.\n \n 
URL:https://clannamorna.ca/event/craic-tuesdays-at-irish-times-pub-118/
LOCATION:Irish Times Pub\, 1200 Goverment St\, Victoria\, BC\, V8W 1Y2\, CA
END:VEVENT
BEGIN:VEVENT
DTSTART;TZID=America/Vancouver:20240125T190000
DTEND;TZID=America/Vancouver:20240125T213000
DTSTAMP:20260421T073325
CREATED:20240122T064803Z
LAST-MODIFIED:20240122T144118Z
UID:2279-1706209200-1706218200@clannamorna.ca
SUMMARY:Moons Records in Cumberland (Robbie Burns Day)
DESCRIPTION:
URL:https://clannamorna.ca/event/moons-records-in-cumberland-robbie-burns-day/
LOCATION:Moon Records\, Cumberland\, BC\, 2719 Dunsmuir Ave\, Cumberland\, BC\, NULL\, CA
ATTACH;FMTTYPE=image/jpeg:https://clannamorna.ca/wp-content/uploads/2024/01/416020319_765437658937806_616073006054801119_n-e1705905671294.jpg
END:VEVENT
BEGIN:VEVENT
DTSTART;TZID=America/Vancouver:20240126T190000
DTEND;TZID=America/Vancouver:20240126T213000
DTSTAMP:20260421T073325
CREATED:20240122T064803Z
LAST-MODIFIED:20240127T030918Z
UID:2280-1706295600-1706304600@clannamorna.ca
SUMMARY:Powell River @ The Wishing Well
DESCRIPTION:SOLD OUT! \nIf we are able to release any additional tickets\, we will make a social media post this afternoon (Jan 26th).
URL:https://clannamorna.ca/event/powell-river-the-wishing-well/
LOCATION:The Wishing Well\, Powell River\, 6251 Yew St\, Powell River\, BC\, V8A 4J9\, CA
ATTACH;FMTTYPE=image/png:https://clannamorna.ca/wp-content/uploads/2024/01/2024-01-26-Powell-River-B-e1705907826913.png
END:VEVENT
BEGIN:VEVENT
DTSTART;TZID=America/Vancouver:20240127T130000
DTEND;TZID=America/Vancouver:20240127T140000
DTSTAMP:20260421T073325
CREATED:20240122T064803Z
LAST-MODIFIED:20240128T034921Z
UID:2281-1706360400-1706364000@clannamorna.ca
SUMMARY:Traditional Folk arranging Workshop
DESCRIPTION:Join Finn and Cody for an afternoon of journeying through Clanna Morna’s process for arranging and refreshing traditional ballads.
URL:https://clannamorna.ca/event/traditional-folk-arranging-workshop/
LOCATION:The Wishing Well\, Powell River\, 6251 Yew St\, Powell River\, BC\, V8A 4J9\, CA
END:VEVENT
BEGIN:VEVENT
DTSTART;TZID=America/Vancouver:20240128T190000
DTEND;TZID=America/Vancouver:20240128T213000
DTSTAMP:20260421T073325
CREATED:20240122T064806Z
LAST-MODIFIED:20240122T144209Z
UID:2282-1706468400-1706477400@clannamorna.ca
SUMMARY:Protection Island at Beacon House
DESCRIPTION:
URL:https://clannamorna.ca/event/protection-island-at-beacon-house/
LOCATION:Beacon House (Protection Island Lions Club)\, 208 Colvilleton Trail\, Nanaimo\, BC\, NULL\, CA
ATTACH;FMTTYPE=image/png:https://clannamorna.ca/wp-content/uploads/2024/01/2024-01-28-Protection-Island-e1705905721560.png
END:VEVENT
BEGIN:VEVENT
DTSTART;TZID=America/Vancouver:20240130T203000
DTEND;TZID=America/Vancouver:20240130T233000
DTSTAMP:20260421T073325
CREATED:20240122T064806Z
LAST-MODIFIED:20240122T150138Z
UID:2283-1706646600-1706657400@clannamorna.ca
SUMMARY:Craic Tuesdays at Irish Times Pub
DESCRIPTION:Come on down to The Irish Times Pub  from 8:30pm to 11:30pm for  the craic!  Playing your favorite Celtic and English ballads and tunes. \n 
URL:https://clannamorna.ca/event/craic-tuesdays-at-irish-times-pub-119/
LOCATION:Irish Times Pub\, 1200 Goverment St\, Victoria\, BC\, V8W 1Y2\, CA
ATTACH;FMTTYPE=image/jpeg:https://clannamorna.ca/wp-content/uploads/2021/05/2022-12-24-Irish-Times-scaled.jpg
END:VEVENT
END:VCALENDAR