BEGIN:VCALENDAR
VERSION:2.0
PRODID:-//Clanna Morna - ECPv6.15.20//NONSGML v1.0//EN
CALSCALE:GREGORIAN
METHOD:PUBLISH
X-WR-CALNAME:Clanna Morna
X-ORIGINAL-URL:https://clannamorna.ca
X-WR-CALDESC:Events for Clanna Morna
REFRESH-INTERVAL;VALUE=DURATION:PT1H
X-Robots-Tag:noindex
X-PUBLISHED-TTL:PT1H
BEGIN:VTIMEZONE
TZID:America/Vancouver
BEGIN:DAYLIGHT
TZOFFSETFROM:-0800
TZOFFSETTO:-0700
TZNAME:PDT
DTSTART:20230312T100000
END:DAYLIGHT
BEGIN:STANDARD
TZOFFSETFROM:-0700
TZOFFSETTO:-0800
TZNAME:PST
DTSTART:20231105T090000
END:STANDARD
BEGIN:DAYLIGHT
TZOFFSETFROM:-0800
TZOFFSETTO:-0700
TZNAME:PDT
DTSTART:20240310T100000
END:DAYLIGHT
BEGIN:STANDARD
TZOFFSETFROM:-0700
TZOFFSETTO:-0800
TZNAME:PST
DTSTART:20241103T090000
END:STANDARD
BEGIN:DAYLIGHT
TZOFFSETFROM:-0800
TZOFFSETTO:-0700
TZNAME:PDT
DTSTART:20250309T100000
END:DAYLIGHT
BEGIN:STANDARD
TZOFFSETFROM:-0700
TZOFFSETTO:-0800
TZNAME:PST
DTSTART:20251102T090000
END:STANDARD
END:VTIMEZONE
BEGIN:VTIMEZONE
TZID:UTC
BEGIN:STANDARD
TZOFFSETFROM:+0000
TZOFFSETTO:+0000
TZNAME:UTC
DTSTART:20230101T000000
END:STANDARD
END:VTIMEZONE
BEGIN:VEVENT
DTSTART;TZID=America/Vancouver:20240204T110000
DTEND;TZID=America/Vancouver:20240204T160000
DTSTAMP:20260421T060625
CREATED:20240122T064803Z
LAST-MODIFIED:20240130T140613Z
UID:2278-1707044400-1707062400@clannamorna.ca
SUMMARY:Wassail Day @ Sea Cider
DESCRIPTION:We’ll sing to the trees! \nhttps://allevents.in/saanichton/wassail-day-at-sea-cider/200025974123348
URL:https://clannamorna.ca/event/wassail-day-sea-cider/
LOCATION:Sea Cider\, 2487 Mt St Michael Rd\, Saanichton\, BC\, V8M 1T7\, CA
ATTACH;FMTTYPE=image/webp:https://clannamorna.ca/wp-content/uploads/2024/01/60e79f266f25cd79ee63dd578ada554f224ac089474434df65d01da8d6170a00-rimg-w960-h503-gmir-1.webp
END:VEVENT
BEGIN:VEVENT
DTSTART;TZID=America/Vancouver:20240213T203000
DTEND;TZID=America/Vancouver:20240213T233000
DTSTAMP:20260421T060625
CREATED:20240122T064806Z
LAST-MODIFIED:20240122T150138Z
UID:2284-1707856200-1707867000@clannamorna.ca
SUMMARY:Craic Tuesdays at Irish Times Pub
DESCRIPTION:Come on down to The Irish Times Pub  from 8:30pm to 11:30pm for  the craic!  Playing your favorite Celtic and English ballads and tunes.\n \n 
URL:https://clannamorna.ca/event/craic-tuesdays-at-irish-times-pub-120/
LOCATION:Irish Times Pub\, 1200 Goverment St\, Victoria\, BC\, V8W 1Y2\, CA
END:VEVENT
BEGIN:VEVENT
DTSTART;TZID=UTC:20240217T190000
DTEND;TZID=UTC:20240217T220000
DTSTAMP:20260421T060625
CREATED:20240124T051115Z
LAST-MODIFIED:20240218T025954Z
UID:2530-1708196400-1708207200@clannamorna.ca
SUMMARY:Queer Valentines Day Contra Dance! (featuring Finn of Clanna Morna)
DESCRIPTION:Whilst Clanna Morna as a whole will not be performing\, our own Finn Letourneau will join a host of talented artists for a very special night! \nA fun and wholesome evening of dancing and music – presented by the Victoria Contra Dance Society with live fiddle music from Q Bachand\, Finley Rose and Jeremy Walsh! Featuring extra special guests. \nBake Sale fundraiser proceeds to Doctors Without Borders to support Palestine \nSaturday February 17th: Doors at 7pm\, dance 7:30-10pm\nSt Matthias Church Hall – 600 Richmond Rd.\nAdults $20; Youth $15 \nIf the tickets below are sold out\, please note: \nThere will be approximately 20 tickets available at the door – first come first served \n[product_table id=”2665″ skus=”contra20\, contra15″]
URL:https://clannamorna.ca/event/queer-valentines-day-contra-dance/
LOCATION:St. Matthias Church Hall\, 600 Richmond Road\, Victoria\, British Columbia\, Canada
CATEGORIES:Non Clanna Morna Event
ATTACH;FMTTYPE=image/jpeg:https://clannamorna.ca/wp-content/uploads/2024/01/426062090_779949277512701_3732046583999832110_n.jpg
END:VEVENT
BEGIN:VEVENT
DTSTART;TZID=UTC:20240223T193000
DTEND;TZID=UTC:20240223T220000
DTSTAMP:20260421T060625
CREATED:20240130T135514Z
LAST-MODIFIED:20240208T061758Z
UID:2625-1708716600-1708725600@clannamorna.ca
SUMMARY:Gibson's Tapworks!
DESCRIPTION:
URL:https://clannamorna.ca/event/gibsons-tapworks/
LOCATION:Tapworks Brewing Company\, 537 Cruice Ln\, Gibsons\, BC\, V0N 1V9\, CA
ATTACH;FMTTYPE=image/jpeg:https://clannamorna.ca/wp-content/uploads/2024/01/Tapworks-Poster.jpg
END:VEVENT
BEGIN:VEVENT
DTSTART;TZID=America/Vancouver:20240224T190000
DTEND;TZID=America/Vancouver:20240224T213000
DTSTAMP:20260421T060625
CREATED:20240122T064806Z
LAST-MODIFIED:20240130T140141Z
UID:2285-1708801200-1708810200@clannamorna.ca
SUMMARY:Mission Coffee House Concert Series
DESCRIPTION:
URL:https://clannamorna.ca/event/mission-coffee-house-concert-series/
LOCATION:Mission Coffee House\, Clarke Foundation Theatre Cafetorium\, 33700 Prentis Ave\, Mission\, BC\, V2V 7B1\, CA
ATTACH;FMTTYPE=image/png:https://clannamorna.ca/wp-content/uploads/2024/01/Clanna-Morna-poster.png
END:VEVENT
BEGIN:VEVENT
DTSTART;TZID=UTC:20240225T190000
DTEND;TZID=UTC:20240225T210000
DTSTAMP:20260421T060625
CREATED:20240130T135958Z
LAST-MODIFIED:20240130T140048Z
UID:2628-1708887600-1708894800@clannamorna.ca
SUMMARY:Trickster's Hideout; Squamish
DESCRIPTION:
URL:https://clannamorna.ca/event/tricksters-hideout-squamish/
LOCATION:Trickster’s Hideout\, 38005 Cleveland Ave\, Squamish\, BC\, V8B 0C3\, Canada
ATTACH;FMTTYPE=image/jpeg:https://clannamorna.ca/wp-content/uploads/2024/01/422277311_122156432102016834_5966344583375068745_n.jpg
END:VEVENT
BEGIN:VEVENT
DTSTART;TZID=America/Vancouver:20240227T203000
DTEND;TZID=America/Vancouver:20240227T233000
DTSTAMP:20260421T060625
CREATED:20240122T064806Z
LAST-MODIFIED:20240122T150138Z
UID:2286-1709065800-1709076600@clannamorna.ca
SUMMARY:Craic Tuesdays at Irish Times Pub
DESCRIPTION:Come on down to The Irish Times Pub  from 8:30pm to 11:30pm for  the craic!  Playing your favorite Celtic and English ballads and tunes.\n \n 
URL:https://clannamorna.ca/event/craic-tuesdays-at-irish-times-pub-121/
LOCATION:Irish Times Pub\, 1200 Goverment St\, Victoria\, BC\, V8W 1Y2\, CA
END:VEVENT
END:VCALENDAR