BEGIN:VCALENDAR
VERSION:2.0
PRODID:-//Clanna Morna - ECPv6.15.20//NONSGML v1.0//EN
CALSCALE:GREGORIAN
METHOD:PUBLISH
X-ORIGINAL-URL:https://clannamorna.ca
X-WR-CALDESC:Events for Clanna Morna
REFRESH-INTERVAL;VALUE=DURATION:PT1H
X-Robots-Tag:noindex
X-PUBLISHED-TTL:PT1H
BEGIN:VTIMEZONE
TZID:America/Vancouver
BEGIN:DAYLIGHT
TZOFFSETFROM:-0800
TZOFFSETTO:-0700
TZNAME:PDT
DTSTART:20230312T100000
END:DAYLIGHT
BEGIN:STANDARD
TZOFFSETFROM:-0700
TZOFFSETTO:-0800
TZNAME:PST
DTSTART:20231105T090000
END:STANDARD
BEGIN:DAYLIGHT
TZOFFSETFROM:-0800
TZOFFSETTO:-0700
TZNAME:PDT
DTSTART:20240310T100000
END:DAYLIGHT
BEGIN:STANDARD
TZOFFSETFROM:-0700
TZOFFSETTO:-0800
TZNAME:PST
DTSTART:20241103T090000
END:STANDARD
BEGIN:DAYLIGHT
TZOFFSETFROM:-0800
TZOFFSETTO:-0700
TZNAME:PDT
DTSTART:20250309T100000
END:DAYLIGHT
BEGIN:STANDARD
TZOFFSETFROM:-0700
TZOFFSETTO:-0800
TZNAME:PST
DTSTART:20251102T090000
END:STANDARD
END:VTIMEZONE
BEGIN:VEVENT
DTSTART;TZID=America/Vancouver:20240409T203000
DTEND;TZID=America/Vancouver:20240409T233000
DTSTAMP:20260421T030308
CREATED:20240122T064822Z
LAST-MODIFIED:20240122T150138Z
UID:2292-1712694600-1712705400@clannamorna.ca
SUMMARY:Craic Tuesdays at Irish Times Pub
DESCRIPTION:Come on down to The Irish Times Pub  from 8:30pm to 11:30pm for  the craic!  Playing your favorite Celtic and English ballads and tunes.\n \n 
URL:https://clannamorna.ca/event/craic-tuesdays-at-irish-times-pub-124/
LOCATION:Irish Times Pub\, 1200 Goverment St\, Victoria\, BC\, V8W 1Y2\, CA
END:VEVENT
BEGIN:VEVENT
DTSTART;TZID=America/Vancouver:20240412T190000
DTEND;TZID=America/Vancouver:20240412T220000
DTSTAMP:20260421T030308
CREATED:20240323T065214Z
LAST-MODIFIED:20240412T231935Z
UID:2890-1712948400-1712959200@clannamorna.ca
SUMMARY:Denman Island Community Hall
DESCRIPTION:A night of music and dancing – in the Front Hall. \nOnline ticket sales are now closed. Please purchase tickets from Abraxas Books or at the door starting at 7pm. \n[product_table id=”2665″ skus=”denman-2024-04-12″]
URL:https://clannamorna.ca/event/denman-island-community-hall/
LOCATION:Denman Island Community Hall\, 1196 Northwest Road\, Denman Island\, BC\, Canada
ATTACH;FMTTYPE=image/png:https://clannamorna.ca/wp-content/uploads/2024/03/2024-04-12-Denman1.png
END:VEVENT
BEGIN:VEVENT
DTSTART;TZID=America/Vancouver:20240413T193000
DTEND;TZID=America/Vancouver:20240413T220000
DTSTAMP:20260421T030308
CREATED:20240404T180525Z
LAST-MODIFIED:20240404T180525Z
UID:2910-1713036600-1713045600@clannamorna.ca
SUMMARY:Tahsis - Clanna Morna at the Spar Tree
DESCRIPTION:Doors at 7:30pm\, music at 8pm! \nWith special guest. \n$20 suggested\, pay what you can for low income folks. \nHouse concert – BYOB
URL:https://clannamorna.ca/event/tahsis-clanna-morna-at-the-spar-tree/
LOCATION:Spar Tree\, 187 Head Bay Road\, Tahsis\, BC\, Canada
END:VEVENT
BEGIN:VEVENT
DTSTART;TZID=America/Vancouver:20240423T203000
DTEND;TZID=America/Vancouver:20240423T233000
DTSTAMP:20260421T030308
CREATED:20240122T064822Z
LAST-MODIFIED:20240122T150138Z
UID:2293-1713904200-1713915000@clannamorna.ca
SUMMARY:Craic Tuesdays at Irish Times Pub
DESCRIPTION:Come on down to The Irish Times Pub  from 8:30pm to 11:30pm for  the craic!  Playing your favorite Celtic and English ballads and tunes.\n \n 
URL:https://clannamorna.ca/event/craic-tuesdays-at-irish-times-pub-125/
LOCATION:Irish Times Pub\, 1200 Goverment St\, Victoria\, BC\, V8W 1Y2\, CA
END:VEVENT
BEGIN:VEVENT
DTSTART;TZID=America/Vancouver:20240426T193000
DTEND;TZID=America/Vancouver:20240426T213000
DTSTAMP:20260421T030308
CREATED:20240404T182617Z
LAST-MODIFIED:20240404T182759Z
UID:2913-1714159800-1714167000@clannamorna.ca
SUMMARY:Nanaimo - Harbour City House Concert
DESCRIPTION:$25 \nhttps://www.facebook.com/events/7765985896749296/
URL:https://clannamorna.ca/event/nanaimo-harbour-city-house-concert/
LOCATION:Harbour City House Concert – 421 Milton St\, Nanaimo\, 421 Milton St\, Nanaimo\, NULL\, NULL\, CA
END:VEVENT
BEGIN:VEVENT
DTSTART;TZID=America/Vancouver:20240427T150000
DTEND;TZID=America/Vancouver:20240427T180000
DTSTAMP:20260421T030308
CREATED:20240404T183516Z
LAST-MODIFIED:20240404T183516Z
UID:2915-1714230000-1714240800@clannamorna.ca
SUMMARY:Cedar - The Wheatsheaf Pub
DESCRIPTION:
URL:https://clannamorna.ca/event/cedar-the-wheatsheaf-pub/
LOCATION:Wheatsheaf Pub Cedar\, 1866 Cedar Rd\, Nanaimo\, BC\, V9X 1L7\, Canada
CATEGORIES:Open to the Public
END:VEVENT
END:VCALENDAR