BEGIN:VCALENDAR
VERSION:2.0
PRODID:-//Clanna Morna - ECPv6.15.20//NONSGML v1.0//EN
CALSCALE:GREGORIAN
METHOD:PUBLISH
X-WR-CALNAME:Clanna Morna
X-ORIGINAL-URL:https://clannamorna.ca
X-WR-CALDESC:Events for Clanna Morna
REFRESH-INTERVAL;VALUE=DURATION:PT1H
X-Robots-Tag:noindex
X-PUBLISHED-TTL:PT1H
BEGIN:VTIMEZONE
TZID:America/Vancouver
BEGIN:DAYLIGHT
TZOFFSETFROM:-0800
TZOFFSETTO:-0700
TZNAME:PDT
DTSTART:20230312T100000
END:DAYLIGHT
BEGIN:STANDARD
TZOFFSETFROM:-0700
TZOFFSETTO:-0800
TZNAME:PST
DTSTART:20231105T090000
END:STANDARD
BEGIN:DAYLIGHT
TZOFFSETFROM:-0800
TZOFFSETTO:-0700
TZNAME:PDT
DTSTART:20240310T100000
END:DAYLIGHT
BEGIN:STANDARD
TZOFFSETFROM:-0700
TZOFFSETTO:-0800
TZNAME:PST
DTSTART:20241103T090000
END:STANDARD
BEGIN:DAYLIGHT
TZOFFSETFROM:-0800
TZOFFSETTO:-0700
TZNAME:PDT
DTSTART:20250309T100000
END:DAYLIGHT
BEGIN:STANDARD
TZOFFSETFROM:-0700
TZOFFSETTO:-0800
TZNAME:PST
DTSTART:20251102T090000
END:STANDARD
END:VTIMEZONE
BEGIN:VEVENT
DTSTART;VALUE=DATE:20240511
DTEND;VALUE=DATE:20240512
DTSTAMP:20260421T014218
CREATED:20240404T185255Z
LAST-MODIFIED:20240404T185255Z
UID:2918-1715385600-1715471999@clannamorna.ca
SUMMARY:Private Event
DESCRIPTION:
URL:https://clannamorna.ca/event/private-event-21/
CATEGORIES:Private Event
END:VEVENT
BEGIN:VEVENT
DTSTART;TZID=America/Vancouver:20240514T203000
DTEND;TZID=America/Vancouver:20240514T233000
DTSTAMP:20260421T014218
CREATED:20240122T064822Z
LAST-MODIFIED:20240404T185506Z
UID:2294-1715718600-1715729400@clannamorna.ca
SUMMARY:Craic Tuesdays at Irish Times Pub
DESCRIPTION:Come on down to The Irish Times Pub  from 8:30pm to 11:30pm for  the craic!  Playing your favorite Celtic and English ballads and tunes.\n \n 
URL:https://clannamorna.ca/event/craic-tuesdays-at-irish-times-pub-126/
LOCATION:Irish Times Pub\, 1200 Goverment St\, Victoria\, BC\, V8W 1Y2\, CA
END:VEVENT
BEGIN:VEVENT
DTSTART;TZID=America/Vancouver:20240515T180000
DTEND;TZID=America/Vancouver:20240515T200000
DTSTAMP:20260421T014218
CREATED:20240506T161829Z
LAST-MODIFIED:20240510T003840Z
UID:2966-1715796000-1715803200@clannamorna.ca
SUMMARY:Cambium Cider Co. Vernon - Quintessential Okanagan Nights
DESCRIPTION:
URL:https://clannamorna.ca/event/cambium-cider-co-vernon-quintessential-okanagan-nights/
LOCATION:Cambium Cider Co.\, 4667 E Vernon Rd\, Vernon\, BC\, V1B 3H9\, Canada
CATEGORIES:Open to the Public
ATTACH;FMTTYPE=image/png:https://clannamorna.ca/wp-content/uploads/2024/05/MayVernonFBHeader-1.png
END:VEVENT
BEGIN:VEVENT
DTSTART;TZID=America/Vancouver:20240516T200000
DTEND;TZID=America/Vancouver:20240516T223000
DTSTAMP:20260421T014218
CREATED:20240404T185828Z
LAST-MODIFIED:20240510T003911Z
UID:2920-1715889600-1715898600@clannamorna.ca
SUMMARY:Kelowna - Red Bird Brewing
DESCRIPTION:
URL:https://clannamorna.ca/event/kelowna-red-bird-brewing/
LOCATION:Red Bird Brewing\, 1086 Richter St\, Kelowna\, BC\, V1Y 2K5\, CA
CATEGORIES:Open to the Public
ATTACH;FMTTYPE=image/png:https://clannamorna.ca/wp-content/uploads/2024/05/MayKelownaFBHeader.png
END:VEVENT
BEGIN:VEVENT
DTSTART;TZID=America/Vancouver:20240517T190000
DTEND;TZID=America/Vancouver:20240517T213000
DTSTAMP:20260421T014218
CREATED:20240404T185951Z
LAST-MODIFIED:20240510T003934Z
UID:2923-1715972400-1715981400@clannamorna.ca
SUMMARY:Keremeos - The Grist Mill
DESCRIPTION:
URL:https://clannamorna.ca/event/keremeos-the-grist-mill/
LOCATION:The Grist Mill\, 2691 Upper Bench Rd\, Keremeos\, BC\, V0X 1N4\, CA
CATEGORIES:Open to the Public
ATTACH;FMTTYPE=image/png:https://clannamorna.ca/wp-content/uploads/2024/05/MayKeremeosFBHeader.png
END:VEVENT
BEGIN:VEVENT
DTSTART;TZID=America/Vancouver:20240518T190000
DTEND;TZID=America/Vancouver:20240518T213000
DTSTAMP:20260421T014218
CREATED:20240406T160717Z
LAST-MODIFIED:20240506T164705Z
UID:2925-1716058800-1716067800@clannamorna.ca
SUMMARY:Washington: Republic Brewing
DESCRIPTION:Cover by pass-the-hat
URL:https://clannamorna.ca/event/washington-republic-brewing/
LOCATION:Republic Brewing Compay\, Old Fire Hall\, 26 N Clark Ave\, Republic\, WA\, 99166\, United States
CATEGORIES:Open to the Public
ATTACH;FMTTYPE=image/png:https://clannamorna.ca/wp-content/uploads/2024/04/2024-05-18-Republic2.png
END:VEVENT
BEGIN:VEVENT
DTSTART;TZID=America/Vancouver:20240519T170000
DTEND;TZID=America/Vancouver:20240519T190000
DTSTAMP:20260421T014218
CREATED:20240406T161154Z
LAST-MODIFIED:20240510T004008Z
UID:2930-1716138000-1716145200@clannamorna.ca
SUMMARY:Washington: Finn River Cidery
DESCRIPTION:
URL:https://clannamorna.ca/event/washington-finn-river-cidery/
LOCATION:Finn River Cidery\, 124 Center Rd\, Chimacum\, WA\, 98325\, United States
CATEGORIES:Open to the Public
ATTACH;FMTTYPE=image/png:https://clannamorna.ca/wp-content/uploads/2024/05/MayChimacumFBHeader-1.png
END:VEVENT
BEGIN:VEVENT
DTSTART;TZID=America/Vancouver:20240521T193000
DTEND;TZID=America/Vancouver:20240521T213000
DTSTAMP:20260421T014218
CREATED:20240406T161632Z
LAST-MODIFIED:20240510T004136Z
UID:2933-1716319800-1716327000@clannamorna.ca
SUMMARY:Washington: Republic of Cider
DESCRIPTION:
URL:https://clannamorna.ca/event/washington-republic-of-cider/
LOCATION:Republic of Cider\, 2960 4th Ave S #109\, Seattle\, WA\, 98134\, United States
ATTACH;FMTTYPE=image/png:https://clannamorna.ca/wp-content/uploads/2024/05/MaySeattleFBHeader.png
END:VEVENT
BEGIN:VEVENT
DTSTART;TZID=America/Vancouver:20240522T200000
DTEND;TZID=America/Vancouver:20240522T220000
DTSTAMP:20260421T014218
CREATED:20240406T162050Z
LAST-MODIFIED:20240515T194255Z
UID:2936-1716408000-1716415200@clannamorna.ca
SUMMARY:Oregon: Kells Irish Pub Portland
DESCRIPTION:
URL:https://clannamorna.ca/event/oregon-kells-irish-pub-portland/
LOCATION:Kells Irish Pub Portland\, 112 SW 2nd Ave\, Portland\, OR\, 97204\, United States
ATTACH;FMTTYPE=image/jpeg:https://clannamorna.ca/wp-content/uploads/2024/04/kellsportland.jpg
END:VEVENT
BEGIN:VEVENT
DTSTART;TZID=America/Vancouver:20240523T200000
DTEND;TZID=America/Vancouver:20240523T220000
DTSTAMP:20260421T014218
CREATED:20240406T162407Z
LAST-MODIFIED:20240506T165716Z
UID:2939-1716494400-1716501600@clannamorna.ca
SUMMARY:Oregon: Axe & Fiddle Public House
DESCRIPTION:
URL:https://clannamorna.ca/event/oregon-axe-fiddle-public-house/
LOCATION:Axe & Fiddle Public House\, 657 E Main St\, Cottage Grove\, OR\, 97424\, United States
ATTACH;FMTTYPE=image/png:https://clannamorna.ca/wp-content/uploads/2024/04/2024-05-23-Axe-and-Fiddle-US.png
END:VEVENT
BEGIN:VEVENT
DTSTART;TZID=America/Vancouver:20240524T200000
DTEND;TZID=America/Vancouver:20240524T220000
DTSTAMP:20260421T014218
CREATED:20240406T162934Z
LAST-MODIFIED:20240506T162634Z
UID:2942-1716580800-1716588000@clannamorna.ca
SUMMARY:Washington: Cryptatropa Bar
DESCRIPTION:
URL:https://clannamorna.ca/event/washington-cryptatropa-bar/
LOCATION:The Cryptatropa\, 421 4th Ave E\, Olympia\, WA\, 98501\, United States
ATTACH;FMTTYPE=image/png:https://clannamorna.ca/wp-content/uploads/2024/05/2024-05-24-crypt-fog-hollerUS.png
END:VEVENT
BEGIN:VEVENT
DTSTART;TZID=America/Vancouver:20240525T193000
DTEND;TZID=America/Vancouver:20240525T213000
DTSTAMP:20260421T014218
CREATED:20240509T185708Z
LAST-MODIFIED:20240510T003750Z
UID:2988-1716665400-1716672600@clannamorna.ca
SUMMARY:Anacortes - The Art Center @ Buxton’s - May 25th\, 2024
DESCRIPTION:Join us for a night of songs of the sea\, jigs\, reels and celtic ballads at Buxton’s in Anacortes! \nDoors at 7pm\, music at 7:30pm. \nOnline tickets $20\, or $25 at the door. Online ticket sales will end on the afternoon of May 25th. \n[product_table id=”2665″ skus=”buxtons-2024-04-25″]
URL:https://clannamorna.ca/event/anacortes-the-art-center-buxtons-may-25th-2024/
LOCATION:The Art Center @ Buxton’s\, 1904 Commercial Ave\, Anacortes\, WA\, 98221\, United States
ATTACH;FMTTYPE=image/png:https://clannamorna.ca/wp-content/uploads/2024/05/MayAnacortesFBHeader.png
END:VEVENT
BEGIN:VEVENT
DTSTART;TZID=America/Vancouver:20240528T203000
DTEND;TZID=America/Vancouver:20240528T233000
DTSTAMP:20260421T014218
CREATED:20240122T064822Z
LAST-MODIFIED:20240404T185552Z
UID:2295-1716928200-1716939000@clannamorna.ca
SUMMARY:Craic Tuesdays at Irish Times Pub
DESCRIPTION:Come on down to The Irish Times Pub  from 8:30pm to 11:30pm for  the craic!  Playing your favorite Celtic and English ballads and tunes.\n \n 
URL:https://clannamorna.ca/event/craic-tuesdays-at-irish-times-pub-127/
LOCATION:Irish Times Pub\, 1200 Goverment St\, Victoria\, BC\, V8W 1Y2\, CA
END:VEVENT
END:VCALENDAR